BEGIN:VCALENDAR
VERSION:2.0
PRODID:-// - ECPv6.15.20//NONSGML v1.0//EN
CALSCALE:GREGORIAN
METHOD:PUBLISH
X-ORIGINAL-URL:https://www.landmarkcenter.org
X-WR-CALDESC:Events for 
REFRESH-INTERVAL;VALUE=DURATION:PT1H
X-Robots-Tag:noindex
X-PUBLISHED-TTL:PT1H
BEGIN:VTIMEZONE
TZID:America/Chicago
BEGIN:DAYLIGHT
TZOFFSETFROM:-0600
TZOFFSETTO:-0500
TZNAME:CDT
DTSTART:20180311T080000
END:DAYLIGHT
BEGIN:STANDARD
TZOFFSETFROM:-0500
TZOFFSETTO:-0600
TZNAME:CST
DTSTART:20181104T070000
END:STANDARD
BEGIN:DAYLIGHT
TZOFFSETFROM:-0600
TZOFFSETTO:-0500
TZNAME:CDT
DTSTART:20190310T080000
END:DAYLIGHT
BEGIN:STANDARD
TZOFFSETFROM:-0500
TZOFFSETTO:-0600
TZNAME:CST
DTSTART:20191103T070000
END:STANDARD
BEGIN:DAYLIGHT
TZOFFSETFROM:-0600
TZOFFSETTO:-0500
TZNAME:CDT
DTSTART:20200308T080000
END:DAYLIGHT
BEGIN:STANDARD
TZOFFSETFROM:-0500
TZOFFSETTO:-0600
TZNAME:CST
DTSTART:20201101T070000
END:STANDARD
END:VTIMEZONE
BEGIN:VEVENT
DTSTART;TZID=America/Chicago:20190307T120000
DTEND;TZID=America/Chicago:20190307T130000
DTSTAMP:20260421T062451
CREATED:20190206T195959Z
LAST-MODIFIED:20190206T195959Z
UID:824-1551960000-1551963600@www.landmarkcenter.org
SUMMARY:Schubert Club Courtroom Concert
DESCRIPTION:FREE Courtroom Concert featuring Eva Beneke\, guitar\, with Richard Kriehn\, mandolin and Maria Jette\, soprano
URL:https://www.landmarkcenter.org/event/schubert-club-courtroom-concert-8/
LOCATION:Courtroom 317 – Landmark Center\, 75 5th St. W.\, Saint Paul\, MN\, 55102\, United States
END:VEVENT
BEGIN:VEVENT
DTSTART;TZID=America/Chicago:20190307T160000
DTEND;TZID=America/Chicago:20190307T200000
DTSTAMP:20260421T062451
CREATED:20190206T200207Z
LAST-MODIFIED:20190206T200207Z
UID:826-1551974400-1551988800@www.landmarkcenter.org
SUMMARY:First Thursdays in the Schubert Club Museum
DESCRIPTION:The Schubert Club Museum is open late on the First Thursday of each month from 4-8 pm! This is a great opportunity for the community to experience our engaging collection of historical music and replicas\, original autographed letters from notable composers and other music-themed exhibits of historic and cultural interest outside of the regular daytime hours.
URL:https://www.landmarkcenter.org/event/first-thursdays-in-the-schubert-club-museum/
LOCATION:Schubert 205 – Landmark Center
END:VEVENT
END:VCALENDAR