BEGIN:VCALENDAR
VERSION:2.0
PRODID:-// - ECPv6.15.20//NONSGML v1.0//EN
CALSCALE:GREGORIAN
METHOD:PUBLISH
X-ORIGINAL-URL:https://www.landmarkcenter.org
X-WR-CALDESC:Events for 
REFRESH-INTERVAL;VALUE=DURATION:PT1H
X-Robots-Tag:noindex
X-PUBLISHED-TTL:PT1H
BEGIN:VTIMEZONE
TZID:America/Chicago
BEGIN:DAYLIGHT
TZOFFSETFROM:-0600
TZOFFSETTO:-0500
TZNAME:CDT
DTSTART:20180311T080000
END:DAYLIGHT
BEGIN:STANDARD
TZOFFSETFROM:-0500
TZOFFSETTO:-0600
TZNAME:CST
DTSTART:20181104T070000
END:STANDARD
BEGIN:DAYLIGHT
TZOFFSETFROM:-0600
TZOFFSETTO:-0500
TZNAME:CDT
DTSTART:20190310T080000
END:DAYLIGHT
BEGIN:STANDARD
TZOFFSETFROM:-0500
TZOFFSETTO:-0600
TZNAME:CST
DTSTART:20191103T070000
END:STANDARD
BEGIN:DAYLIGHT
TZOFFSETFROM:-0600
TZOFFSETTO:-0500
TZNAME:CDT
DTSTART:20200308T080000
END:DAYLIGHT
BEGIN:STANDARD
TZOFFSETFROM:-0500
TZOFFSETTO:-0600
TZNAME:CST
DTSTART:20201101T070000
END:STANDARD
END:VTIMEZONE
BEGIN:VEVENT
DTSTART;TZID=America/Chicago:20190313T120000
DTEND;TZID=America/Chicago:20190313T130000
DTSTAMP:20260421T090922
CREATED:20190301T161854Z
LAST-MODIFIED:20190301T161854Z
UID:850-1552478400-1552482000@www.landmarkcenter.org
SUMMARY:Global Conversations ST. PAUL: Women in International Development
DESCRIPTION:Over the last decade\, there have been tremendous gains in women’s global economic empowerment\, with more women becoming entrepreneurs and gaining access to financial and other vital services. Yet\, challenges remain\, including an increase in global hunger and malnutrition in the last several years. \nJoin Global Minnesota and Landmark Center for a discussion with Lauren Hendricks\, Executive Vice President for Program Strategy and Institutional Relations at Grameen Foundation\, on how we can create new opportunities for women around the world by closing gender gaps in access to financial services\, digital technology\, and productive assets\, and by strengthening women’s decision-making power in their homes and communities.
URL:https://www.landmarkcenter.org/event/global-conversations-st-paul-women-in-international-development/
LOCATION:Courtroom 317 – Landmark Center\, 75 5th St. W.\, Saint Paul\, MN\, 55102\, United States
END:VEVENT
BEGIN:VEVENT
DTSTART;TZID=America/Chicago:20190313T190000
DTEND;TZID=America/Chicago:20190313T200000
DTSTAMP:20260421T090922
CREATED:20190301T162227Z
LAST-MODIFIED:20190301T162227Z
UID:852-1552503600-1552507200@www.landmarkcenter.org
SUMMARY:Twin Cities Community Gospel Choir
DESCRIPTION:For more than 25 years the Twin Cities Community Gospel Choir (TCCGC) has been entertaining music lovers in the Twin Cities and around the country.The TCCGC\, through its soulful interpretation of the African-American gospel music tradition\, moves audiences spiritually and creates community across racial\, cultural and economic boundaries.
URL:https://www.landmarkcenter.org/event/twin-cities-community-gospel-choir/
LOCATION:Musser Cortile – Landmark Center\, 75 5th St. W.\, Saint Paul\, MN\, 55102\, United States
END:VEVENT
END:VCALENDAR