BEGIN:VCALENDAR
VERSION:2.0
PRODID:-// - ECPv6.15.20//NONSGML v1.0//EN
CALSCALE:GREGORIAN
METHOD:PUBLISH
X-ORIGINAL-URL:https://www.landmarkcenter.org
X-WR-CALDESC:Events for 
REFRESH-INTERVAL;VALUE=DURATION:PT1H
X-Robots-Tag:noindex
X-PUBLISHED-TTL:PT1H
BEGIN:VTIMEZONE
TZID:America/Chicago
BEGIN:DAYLIGHT
TZOFFSETFROM:-0600
TZOFFSETTO:-0500
TZNAME:CDT
DTSTART:20180311T080000
END:DAYLIGHT
BEGIN:STANDARD
TZOFFSETFROM:-0500
TZOFFSETTO:-0600
TZNAME:CST
DTSTART:20181104T070000
END:STANDARD
BEGIN:DAYLIGHT
TZOFFSETFROM:-0600
TZOFFSETTO:-0500
TZNAME:CDT
DTSTART:20190310T080000
END:DAYLIGHT
BEGIN:STANDARD
TZOFFSETFROM:-0500
TZOFFSETTO:-0600
TZNAME:CST
DTSTART:20191103T070000
END:STANDARD
BEGIN:DAYLIGHT
TZOFFSETFROM:-0600
TZOFFSETTO:-0500
TZNAME:CDT
DTSTART:20200308T080000
END:DAYLIGHT
BEGIN:STANDARD
TZOFFSETFROM:-0500
TZOFFSETTO:-0600
TZNAME:CST
DTSTART:20201101T070000
END:STANDARD
END:VTIMEZONE
BEGIN:VEVENT
DTSTART;TZID=America/Chicago:20190319T103000
DTEND;TZID=America/Chicago:20190319T113000
DTSTAMP:20260421T062556
CREATED:20190206T211521Z
LAST-MODIFIED:20190206T213803Z
UID:829-1552991400-1552995000@www.landmarkcenter.org
SUMMARY:Schubert Club KidsJam
DESCRIPTION:LISTEN to traditional Venezuelan music featuring maracas and cuatro. LEARN the different rhythmic patterns from joropo and vals styles from the Venezuelan plains. MAKE your own maracas and CREATE your own Venezuelan-inspired song! \nSpace and supplies are limited. Advance registration is highly recommended.
URL:https://www.landmarkcenter.org/event/schubert-club-kidsjam/
LOCATION:Schubert 205 – Landmark Center
END:VEVENT
END:VCALENDAR