BEGIN:VCALENDAR
VERSION:2.0
PRODID:-// - ECPv6.15.20//NONSGML v1.0//EN
CALSCALE:GREGORIAN
METHOD:PUBLISH
X-ORIGINAL-URL:https://www.landmarkcenter.org
X-WR-CALDESC:Events for 
REFRESH-INTERVAL;VALUE=DURATION:PT1H
X-Robots-Tag:noindex
X-PUBLISHED-TTL:PT1H
BEGIN:VTIMEZONE
TZID:America/Chicago
BEGIN:DAYLIGHT
TZOFFSETFROM:-0600
TZOFFSETTO:-0500
TZNAME:CDT
DTSTART:20180311T080000
END:DAYLIGHT
BEGIN:STANDARD
TZOFFSETFROM:-0500
TZOFFSETTO:-0600
TZNAME:CST
DTSTART:20181104T070000
END:STANDARD
BEGIN:DAYLIGHT
TZOFFSETFROM:-0600
TZOFFSETTO:-0500
TZNAME:CDT
DTSTART:20190310T080000
END:DAYLIGHT
BEGIN:STANDARD
TZOFFSETFROM:-0500
TZOFFSETTO:-0600
TZNAME:CST
DTSTART:20191103T070000
END:STANDARD
BEGIN:DAYLIGHT
TZOFFSETFROM:-0600
TZOFFSETTO:-0500
TZNAME:CDT
DTSTART:20200308T080000
END:DAYLIGHT
BEGIN:STANDARD
TZOFFSETFROM:-0500
TZOFFSETTO:-0600
TZNAME:CST
DTSTART:20201101T070000
END:STANDARD
END:VTIMEZONE
BEGIN:VEVENT
DTSTART;TZID=America/Chicago:20190325T100000
DTEND;TZID=America/Chicago:20190325T170000
DTSTAMP:20260421T062547
CREATED:20190301T172659Z
LAST-MODIFIED:20190318T192829Z
UID:859-1553508000-1553533200@www.landmarkcenter.org
SUMMARY:North Gallery exhibit opens
DESCRIPTION:“Ray Chen: Ceramic Sculptor” will open to the public on March 25 and close March 31. This exhibit\, open for a very limited engagement\, is part of “Claytopia\,” the National Council on Education for the Ceramic Arts Conference\, held in the Twin Cities\, March 27-30. Ray Chen’s work is presented as a collaboration between Landmark Center the Fine Arts Department at Gustavus Adolphus College\, St. Peter\, Minnesota. \nNOTE: March 25 is not the artist reception. Meet the artist\, Ray Chen\, and Kristen Lowe\, producer of the documentary film: “Ray Chen\, Only Son” at a reception on Thursday\, March 28 at 5pm. The exhibit and reception is free and open to the public. \nExhibit hours: \n\n10 am – 5 pm\, Monday–Wednesday\n10 am – 9:30 pm\, Thursday-Friday\n10 am – 5 pm\, Saturday\n12 – 5 pm\, Sunday
URL:https://www.landmarkcenter.org/event/north-gallery-exhibit-opens/
LOCATION:North Gallery – Landmark Center\, 75 5th St. W.\, St. Paul\, MN\, 55104\, United States
END:VEVENT
END:VCALENDAR