BEGIN:VCALENDAR
VERSION:2.0
PRODID:-// - ECPv6.15.20//NONSGML v1.0//EN
CALSCALE:GREGORIAN
METHOD:PUBLISH
X-ORIGINAL-URL:https://www.landmarkcenter.org
X-WR-CALDESC:Events for 
REFRESH-INTERVAL;VALUE=DURATION:PT1H
X-Robots-Tag:noindex
X-PUBLISHED-TTL:PT1H
BEGIN:VTIMEZONE
TZID:America/Chicago
BEGIN:DAYLIGHT
TZOFFSETFROM:-0600
TZOFFSETTO:-0500
TZNAME:CDT
DTSTART:20180311T080000
END:DAYLIGHT
BEGIN:STANDARD
TZOFFSETFROM:-0500
TZOFFSETTO:-0600
TZNAME:CST
DTSTART:20181104T070000
END:STANDARD
BEGIN:DAYLIGHT
TZOFFSETFROM:-0600
TZOFFSETTO:-0500
TZNAME:CDT
DTSTART:20190310T080000
END:DAYLIGHT
BEGIN:STANDARD
TZOFFSETFROM:-0500
TZOFFSETTO:-0600
TZNAME:CST
DTSTART:20191103T070000
END:STANDARD
BEGIN:DAYLIGHT
TZOFFSETFROM:-0600
TZOFFSETTO:-0500
TZNAME:CDT
DTSTART:20200308T080000
END:DAYLIGHT
BEGIN:STANDARD
TZOFFSETFROM:-0500
TZOFFSETTO:-0600
TZNAME:CST
DTSTART:20201101T070000
END:STANDARD
END:VTIMEZONE
BEGIN:VEVENT
DTSTART;TZID=America/Chicago:20190328T120000
DTEND;TZID=America/Chicago:20190328T130000
DTSTAMP:20260422T134110
CREATED:20190206T215339Z
LAST-MODIFIED:20190206T215339Z
UID:835-1553774400-1553778000@www.landmarkcenter.org
SUMMARY:Schubert Club Courtroom Concert
DESCRIPTION:FREE Courtroom Concert featuring the music of Ben Osterhouse.
URL:https://www.landmarkcenter.org/event/schubert-club-courtroom-concert-10/
LOCATION:Courtroom 317 – Landmark Center\, 75 5th St. W.\, Saint Paul\, MN\, 55102\, United States
END:VEVENT
BEGIN:VEVENT
DTSTART;TZID=America/Chicago:20190328T170000
DTEND;TZID=America/Chicago:20190328T190000
DTSTAMP:20260422T134110
CREATED:20190301T172955Z
LAST-MODIFIED:20190301T172955Z
UID:862-1553792400-1553799600@www.landmarkcenter.org
SUMMARY:Artist Reception: Ray Chen
DESCRIPTION:“Ray Chen: Ceramic Sculptor” opened to the public on March 25 and will close March 31. Meet the artist\, Ray Chen\, and Kristen Lowe\, producer of the documentary film: “Ray Chen\, Only Son” at a reception on Thursday\, March 28 at 5pm. The reception is free and open to the public. \nThis exhibit\, open for a very limited engagement\, is part of “Claytopia\,” the National Council on Education for the Ceramic Arts Conference\, held in the Twin Cities\, March 27-30. Ray Chen’s work is presented as a collaboration between Landmark Center the Fine Arts Department at Gustavus Adolphus College\, St. Peter\, Minnesota. Exhibit hours are 10 am – 5 pm\, Monday –Wednesday; 10 am – 8 pm\, Thursday; 10 am – 5 pm\, Friday – Saturday; and 12 – 5 pm\, Sunday.
URL:https://www.landmarkcenter.org/event/artist-reception-ray-chen/
LOCATION:North Gallery – Landmark Center\, 75 5th St. W.\, St. Paul\, MN\, 55104\, United States
END:VEVENT
END:VCALENDAR