BEGIN:VCALENDAR
VERSION:2.0
PRODID:-// - ECPv6.15.20//NONSGML v1.0//EN
CALSCALE:GREGORIAN
METHOD:PUBLISH
X-ORIGINAL-URL:https://www.landmarkcenter.org
X-WR-CALDESC:Events for 
REFRESH-INTERVAL;VALUE=DURATION:PT1H
X-Robots-Tag:noindex
X-PUBLISHED-TTL:PT1H
BEGIN:VTIMEZONE
TZID:America/Chicago
BEGIN:DAYLIGHT
TZOFFSETFROM:-0600
TZOFFSETTO:-0500
TZNAME:CDT
DTSTART:20180311T080000
END:DAYLIGHT
BEGIN:STANDARD
TZOFFSETFROM:-0500
TZOFFSETTO:-0600
TZNAME:CST
DTSTART:20181104T070000
END:STANDARD
BEGIN:DAYLIGHT
TZOFFSETFROM:-0600
TZOFFSETTO:-0500
TZNAME:CDT
DTSTART:20190310T080000
END:DAYLIGHT
BEGIN:STANDARD
TZOFFSETFROM:-0500
TZOFFSETTO:-0600
TZNAME:CST
DTSTART:20191103T070000
END:STANDARD
BEGIN:DAYLIGHT
TZOFFSETFROM:-0600
TZOFFSETTO:-0500
TZNAME:CDT
DTSTART:20200308T080000
END:DAYLIGHT
BEGIN:STANDARD
TZOFFSETFROM:-0500
TZOFFSETTO:-0600
TZNAME:CST
DTSTART:20201101T070000
END:STANDARD
END:VTIMEZONE
BEGIN:VEVENT
DTSTART;TZID=America/Chicago:20190402T190000
DTEND;TZID=America/Chicago:20190402T203000
DTSTAMP:20260421T045022
CREATED:20190307T212358Z
LAST-MODIFIED:20190307T212358Z
UID:880-1554231600-1554237000@www.landmarkcenter.org
SUMMARY:Rose Ensemble presentation - "Voices of Angels"
DESCRIPTION:Join The Rose Ensemble’s Artistic Director\, Jordan Sramek\, for a presentation on searching for ancient musical manuscripts in the monasteries and archives of Italy. The presentation will explore the historical context of the musical works performed during The Rose Ensemble’s concert\, “Voices of Angels\,” later in the month at the Basilica of St. Mary\, in Minneapolis.
URL:https://www.landmarkcenter.org/event/rose-ensemble-presentation-voices-of-angels/
LOCATION:Courtroom 317 – Landmark Center\, 75 5th St. W.\, Saint Paul\, MN\, 55102\, United States
END:VEVENT
END:VCALENDAR