BEGIN:VCALENDAR
VERSION:2.0
PRODID:-// - ECPv6.15.20//NONSGML v1.0//EN
CALSCALE:GREGORIAN
METHOD:PUBLISH
X-ORIGINAL-URL:https://www.landmarkcenter.org
X-WR-CALDESC:Events for 
REFRESH-INTERVAL;VALUE=DURATION:PT1H
X-Robots-Tag:noindex
X-PUBLISHED-TTL:PT1H
BEGIN:VTIMEZONE
TZID:America/Chicago
BEGIN:DAYLIGHT
TZOFFSETFROM:-0600
TZOFFSETTO:-0500
TZNAME:CDT
DTSTART:20180311T080000
END:DAYLIGHT
BEGIN:STANDARD
TZOFFSETFROM:-0500
TZOFFSETTO:-0600
TZNAME:CST
DTSTART:20181104T070000
END:STANDARD
BEGIN:DAYLIGHT
TZOFFSETFROM:-0600
TZOFFSETTO:-0500
TZNAME:CDT
DTSTART:20190310T080000
END:DAYLIGHT
BEGIN:STANDARD
TZOFFSETFROM:-0500
TZOFFSETTO:-0600
TZNAME:CST
DTSTART:20191103T070000
END:STANDARD
BEGIN:DAYLIGHT
TZOFFSETFROM:-0600
TZOFFSETTO:-0500
TZNAME:CDT
DTSTART:20200308T080000
END:DAYLIGHT
BEGIN:STANDARD
TZOFFSETFROM:-0500
TZOFFSETTO:-0600
TZNAME:CST
DTSTART:20201101T070000
END:STANDARD
END:VTIMEZONE
BEGIN:VEVENT
DTSTART;TZID=America/Chicago:20190412T193000
DTEND;TZID=America/Chicago:20190412T203000
DTSTAMP:20260421T185042
CREATED:20190307T210350Z
LAST-MODIFIED:20190326T143844Z
UID:876-1555097400-1555101000@www.landmarkcenter.org
SUMMARY:Dear Lenny: Bernstein's Life in Songs & Letters
DESCRIPTION:“‘Dear Lenny’ has the fizz\, elegance and smoothness of a champagne cocktail.”\n– Pioneer Press \nChronofon–Bradley Greenwald\, Prudence Johnson\, Diana Grasselli\, and Dan Chouinard–is returning to Landmark Center’s F.K. Weyerhaeuser Auditorium to present “Dear Lenny: Bernstein’s Life in Songs & Letters\,” their meditation on Leonard Bernstein’s commitment to music\, love\, and the artist as progressive social activist. \nBernstein’s masterpieces from Broadway\, the concert hall\, and the silver screen—together with his fascinating and candid correspondence with Aaron Copland\, Steven Sondheim\, Jerome Robbins\, Bette Davis\, Jacqueline Kennedy Onassis and more—will be presented in a theatrical concert that\, as Bernstein would put it\, “appeals to both the intellect and the heart.” Support is provided in part by Minnesota Landmarks/Landmark Center. \nWith Bruce Thornton & Greg Hippen
URL:https://www.landmarkcenter.org/event/dear-lenny-bernsteins-life-in-songs-letters/
LOCATION:F. K. Weyerhaeuser Aud. – Landmark Center\, 75 5th St. W.\, Saint Paul\, MN\, 55102\, United States
END:VEVENT
END:VCALENDAR