BEGIN:VCALENDAR
VERSION:2.0
PRODID:-// - ECPv6.15.20//NONSGML v1.0//EN
CALSCALE:GREGORIAN
METHOD:PUBLISH
X-ORIGINAL-URL:https://www.landmarkcenter.org
X-WR-CALDESC:Events for 
REFRESH-INTERVAL;VALUE=DURATION:PT1H
X-Robots-Tag:noindex
X-PUBLISHED-TTL:PT1H
BEGIN:VTIMEZONE
TZID:America/Chicago
BEGIN:DAYLIGHT
TZOFFSETFROM:-0600
TZOFFSETTO:-0500
TZNAME:CDT
DTSTART:20180311T080000
END:DAYLIGHT
BEGIN:STANDARD
TZOFFSETFROM:-0500
TZOFFSETTO:-0600
TZNAME:CST
DTSTART:20181104T070000
END:STANDARD
BEGIN:DAYLIGHT
TZOFFSETFROM:-0600
TZOFFSETTO:-0500
TZNAME:CDT
DTSTART:20190310T080000
END:DAYLIGHT
BEGIN:STANDARD
TZOFFSETFROM:-0500
TZOFFSETTO:-0600
TZNAME:CST
DTSTART:20191103T070000
END:STANDARD
BEGIN:DAYLIGHT
TZOFFSETFROM:-0600
TZOFFSETTO:-0500
TZNAME:CDT
DTSTART:20200308T080000
END:DAYLIGHT
BEGIN:STANDARD
TZOFFSETFROM:-0500
TZOFFSETTO:-0600
TZNAME:CST
DTSTART:20201101T070000
END:STANDARD
END:VTIMEZONE
BEGIN:VEVENT
DTSTART;TZID=America/Chicago:20190416T120000
DTEND;TZID=America/Chicago:20190416T130000
DTSTAMP:20260422T134618
CREATED:20190130T222646Z
LAST-MODIFIED:20190130T222957Z
UID:814-1555416000-1555419600@www.landmarkcenter.org
SUMMARY:Ballet Tuesday
DESCRIPTION:See excerpts and demonstrations from Saint Paul Ballet\, and join in with basic steps and combinations led by the dancers.
URL:https://www.landmarkcenter.org/event/ballet-tuesday/
END:VEVENT
BEGIN:VEVENT
DTSTART;TZID=America/Chicago:20190416T120000
DTEND;TZID=America/Chicago:20190416T130000
DTSTAMP:20260422T134618
CREATED:20190307T215501Z
LAST-MODIFIED:20190405T161705Z
UID:897-1555416000-1555419600@www.landmarkcenter.org
SUMMARY:CANCELED - Global Conversations: Internationally Hacked – World Wide Weapons
DESCRIPTION:This event has been canceled \nCyber conflict is a new and continually developing threat\, which can include foreign interference in elections\, industrial sabotage\, and attacks on infrastructure. Russia has been accused of interfering in the 2016 presidential elections in the United States and China is highly committed to using cyberspace as a tool of national policy. Dealing with cyber conflict will require new ways of looking at 21st-century warfare. \nJoin Global Minnesota for a discussion with Andrew Borene\, Associate Director for Homeland Security at George Mason University Law School’s National Security Institute\, on the United States’ ability to respond to growing cyber threats. \nGlobal Conversations in St. Paul is presented by Global Minnesota with support from Landmark Center.
URL:https://www.landmarkcenter.org/event/global-conversations-internationally-hacked-world-wide-weapons/
LOCATION:Courtroom 317 – Landmark Center\, 75 5th St. W.\, Saint Paul\, MN\, 55102\, United States
END:VEVENT
END:VCALENDAR