BEGIN:VCALENDAR
VERSION:2.0
PRODID:-// - ECPv6.15.20//NONSGML v1.0//EN
CALSCALE:GREGORIAN
METHOD:PUBLISH
X-ORIGINAL-URL:https://www.landmarkcenter.org
X-WR-CALDESC:Events for 
REFRESH-INTERVAL;VALUE=DURATION:PT1H
X-Robots-Tag:noindex
X-PUBLISHED-TTL:PT1H
BEGIN:VTIMEZONE
TZID:America/Chicago
BEGIN:DAYLIGHT
TZOFFSETFROM:-0600
TZOFFSETTO:-0500
TZNAME:CDT
DTSTART:20180311T080000
END:DAYLIGHT
BEGIN:STANDARD
TZOFFSETFROM:-0500
TZOFFSETTO:-0600
TZNAME:CST
DTSTART:20181104T070000
END:STANDARD
BEGIN:DAYLIGHT
TZOFFSETFROM:-0600
TZOFFSETTO:-0500
TZNAME:CDT
DTSTART:20190310T080000
END:DAYLIGHT
BEGIN:STANDARD
TZOFFSETFROM:-0500
TZOFFSETTO:-0600
TZNAME:CST
DTSTART:20191103T070000
END:STANDARD
BEGIN:DAYLIGHT
TZOFFSETFROM:-0600
TZOFFSETTO:-0500
TZNAME:CDT
DTSTART:20200308T080000
END:DAYLIGHT
BEGIN:STANDARD
TZOFFSETFROM:-0500
TZOFFSETTO:-0600
TZNAME:CST
DTSTART:20201101T070000
END:STANDARD
END:VTIMEZONE
BEGIN:VEVENT
DTSTART;TZID=America/Chicago:20190501T103000
DTEND;TZID=America/Chicago:20190501T120000
DTSTAMP:20260421T171235
CREATED:20190314T210711Z
LAST-MODIFIED:20190314T210711Z
UID:914-1556706600-1556712000@www.landmarkcenter.org
SUMMARY:Schubert Club KidsJam workshop
DESCRIPTION:Travel around the world with Lumina as you LISTEN to languages and songs from many countries. LEARN about distant lands and people of many cultures through music. PLAY with your voice as you imitate different sounds and CREATE your own instrument to play along! \nSpace and supplies are limited. Advance registration is highly recommended.
URL:https://www.landmarkcenter.org/event/schubert-club-kidsjam-workshop-2/
LOCATION:Schubert 205 – Landmark Center
END:VEVENT
END:VCALENDAR