BEGIN:VCALENDAR
VERSION:2.0
PRODID:-// - ECPv6.15.20//NONSGML v1.0//EN
CALSCALE:GREGORIAN
METHOD:PUBLISH
X-ORIGINAL-URL:https://www.landmarkcenter.org
X-WR-CALDESC:Events for 
REFRESH-INTERVAL;VALUE=DURATION:PT1H
X-Robots-Tag:noindex
X-PUBLISHED-TTL:PT1H
BEGIN:VTIMEZONE
TZID:America/Chicago
BEGIN:DAYLIGHT
TZOFFSETFROM:-0600
TZOFFSETTO:-0500
TZNAME:CDT
DTSTART:20180311T080000
END:DAYLIGHT
BEGIN:STANDARD
TZOFFSETFROM:-0500
TZOFFSETTO:-0600
TZNAME:CST
DTSTART:20181104T070000
END:STANDARD
BEGIN:DAYLIGHT
TZOFFSETFROM:-0600
TZOFFSETTO:-0500
TZNAME:CDT
DTSTART:20190310T080000
END:DAYLIGHT
BEGIN:STANDARD
TZOFFSETFROM:-0500
TZOFFSETTO:-0600
TZNAME:CST
DTSTART:20191103T070000
END:STANDARD
BEGIN:DAYLIGHT
TZOFFSETFROM:-0600
TZOFFSETTO:-0500
TZNAME:CDT
DTSTART:20200308T080000
END:DAYLIGHT
BEGIN:STANDARD
TZOFFSETFROM:-0500
TZOFFSETTO:-0600
TZNAME:CST
DTSTART:20201101T070000
END:STANDARD
END:VTIMEZONE
BEGIN:VEVENT
DTSTART;TZID=America/Chicago:20190519T120000
DTEND;TZID=America/Chicago:20190519T150000
DTSTAMP:20260421T171226
CREATED:20190402T144242Z
LAST-MODIFIED:20190402T144242Z
UID:933-1558267200-1558278000@www.landmarkcenter.org
SUMMARY:Woodturning Demonstration
DESCRIPTION:The third Sunday of each month\, visit the AAW Gallery of Wood Art and see live demonstrations of woodturning.
URL:https://www.landmarkcenter.org/event/woodturning-demonstration-4/
LOCATION:AAW Gallery of Wood Art – Landmark Center\, 75 5th St. W.\, Suite 222\, Saint Paul\, MN\, 55104\, United States
END:VEVENT
BEGIN:VEVENT
DTSTART;TZID=America/Chicago:20190519T130000
DTEND;TZID=America/Chicago:20190519T150000
DTSTAMP:20260421T171226
CREATED:20190130T221845Z
LAST-MODIFIED:20190513T163313Z
UID:811-1558270800-1558278000@www.landmarkcenter.org
SUMMARY:Border CrosSing choral concert
DESCRIPTION:Border CrosSing is a choral ensemble founded with the mission of integrating historically segregated audiences and musicians through the performance of choral music. \nExploring connections between Minnesota and Latin America\, Border CrosSing will present choral works by emerging Latinx composers\, each paired with music by a Minnesota-based composer. This concert will include several world premieres.
URL:https://www.landmarkcenter.org/event/border-crossing-choral-concert/
LOCATION:Musser Cortile – Landmark Center\, 75 5th St. W.\, Saint Paul\, MN\, 55102\, United States
END:VEVENT
END:VCALENDAR