BEGIN:VCALENDAR
VERSION:2.0
PRODID:-// - ECPv6.15.20//NONSGML v1.0//EN
CALSCALE:GREGORIAN
METHOD:PUBLISH
X-ORIGINAL-URL:https://www.landmarkcenter.org
X-WR-CALDESC:Events for 
REFRESH-INTERVAL;VALUE=DURATION:PT1H
X-Robots-Tag:noindex
X-PUBLISHED-TTL:PT1H
BEGIN:VTIMEZONE
TZID:America/Chicago
BEGIN:DAYLIGHT
TZOFFSETFROM:-0600
TZOFFSETTO:-0500
TZNAME:CDT
DTSTART:20180311T080000
END:DAYLIGHT
BEGIN:STANDARD
TZOFFSETFROM:-0500
TZOFFSETTO:-0600
TZNAME:CST
DTSTART:20181104T070000
END:STANDARD
BEGIN:DAYLIGHT
TZOFFSETFROM:-0600
TZOFFSETTO:-0500
TZNAME:CDT
DTSTART:20190310T080000
END:DAYLIGHT
BEGIN:STANDARD
TZOFFSETFROM:-0500
TZOFFSETTO:-0600
TZNAME:CST
DTSTART:20191103T070000
END:STANDARD
BEGIN:DAYLIGHT
TZOFFSETFROM:-0600
TZOFFSETTO:-0500
TZNAME:CDT
DTSTART:20200308T080000
END:DAYLIGHT
BEGIN:STANDARD
TZOFFSETFROM:-0500
TZOFFSETTO:-0600
TZNAME:CST
DTSTART:20201101T070000
END:STANDARD
END:VTIMEZONE
BEGIN:VEVENT
DTSTART;TZID=America/Chicago:20190606T170000
DTEND;TZID=America/Chicago:20190606T190000
DTSTAMP:20260423T024511
CREATED:20190529T162140Z
LAST-MODIFIED:20190529T162140Z
UID:1151-1559840400-1559847600@www.landmarkcenter.org
SUMMARY:"Convergent Voices" - Opening reception for summer art exhibit
DESCRIPTION:“Convergent Voices” begins June 6\, with an opening reception from 5-7 p.m. The summer exhibition will feature three distinct cultural/heritage backgrounds and showcase the work in concert with one another. \nThe exhibit and reception are free and open to the public. The exhibit runs through July 28.
URL:https://www.landmarkcenter.org/event/convergent-voices-opening-reception-for-summer-art-exhibit/
LOCATION:North Gallery – Landmark Center\, 75 5th St. W.\, St. Paul\, MN\, 55104\, United States
END:VEVENT
END:VCALENDAR