BEGIN:VCALENDAR
VERSION:2.0
PRODID:-// - ECPv6.15.20//NONSGML v1.0//EN
CALSCALE:GREGORIAN
METHOD:PUBLISH
X-ORIGINAL-URL:https://www.landmarkcenter.org
X-WR-CALDESC:Events for 
REFRESH-INTERVAL;VALUE=DURATION:PT1H
X-Robots-Tag:noindex
X-PUBLISHED-TTL:PT1H
BEGIN:VTIMEZONE
TZID:America/Chicago
BEGIN:DAYLIGHT
TZOFFSETFROM:-0600
TZOFFSETTO:-0500
TZNAME:CDT
DTSTART:20180311T080000
END:DAYLIGHT
BEGIN:STANDARD
TZOFFSETFROM:-0500
TZOFFSETTO:-0600
TZNAME:CST
DTSTART:20181104T070000
END:STANDARD
BEGIN:DAYLIGHT
TZOFFSETFROM:-0600
TZOFFSETTO:-0500
TZNAME:CDT
DTSTART:20190310T080000
END:DAYLIGHT
BEGIN:STANDARD
TZOFFSETFROM:-0500
TZOFFSETTO:-0600
TZNAME:CST
DTSTART:20191103T070000
END:STANDARD
BEGIN:DAYLIGHT
TZOFFSETFROM:-0600
TZOFFSETTO:-0500
TZNAME:CDT
DTSTART:20200308T080000
END:DAYLIGHT
BEGIN:STANDARD
TZOFFSETFROM:-0500
TZOFFSETTO:-0600
TZNAME:CST
DTSTART:20201101T070000
END:STANDARD
END:VTIMEZONE
BEGIN:VEVENT
DTSTART;TZID=America/Chicago:20190627T120000
DTEND;TZID=America/Chicago:20190627T130000
DTSTAMP:20260422T134742
CREATED:20190517T152017Z
LAST-MODIFIED:20190724T165750Z
UID:1119-1561636800-1561640400@www.landmarkcenter.org
SUMMARY:Music in the Café: The Crow's Delight
DESCRIPTION:Music in the Café welcomes musicians to the Musser Cortile for four Thursday lunch hour performances. The concerts are a great opportunity to hear talented local musicians. Past Music in the Café musicians have gone on to be featured at the Dakota Jazz Club and on NBC’s The Voice! They are free and open to the public. Guests are invited to bring their lunch or purchase one from Anita’s Café. Music in the Café is sponsored in part by KFAI Radio with additional support from the Minnesota Music Coalition. \nBrian and Sheralyn Barnes are The Crow’s Delight. They love to travel\, in music as well as in real life. For music\, they mash up Irish traditional\, folk\, swing\, gypsy\, pop/British New Wave and world music into shiny gems of song.
URL:https://www.landmarkcenter.org/event/music-in-the-cafe-the-crows-delight/
LOCATION:Musser Cortile – Landmark Center\, 75 5th St. W.\, Saint Paul\, MN\, 55102\, United States
CATEGORIES:Concerts
END:VEVENT
END:VCALENDAR