BEGIN:VCALENDAR
VERSION:2.0
PRODID:-// - ECPv6.15.20//NONSGML v1.0//EN
CALSCALE:GREGORIAN
METHOD:PUBLISH
X-ORIGINAL-URL:https://www.landmarkcenter.org
X-WR-CALDESC:Events for 
REFRESH-INTERVAL;VALUE=DURATION:PT1H
X-Robots-Tag:noindex
X-PUBLISHED-TTL:PT1H
BEGIN:VTIMEZONE
TZID:America/Chicago
BEGIN:DAYLIGHT
TZOFFSETFROM:-0600
TZOFFSETTO:-0500
TZNAME:CDT
DTSTART:20180311T080000
END:DAYLIGHT
BEGIN:STANDARD
TZOFFSETFROM:-0500
TZOFFSETTO:-0600
TZNAME:CST
DTSTART:20181104T070000
END:STANDARD
BEGIN:DAYLIGHT
TZOFFSETFROM:-0600
TZOFFSETTO:-0500
TZNAME:CDT
DTSTART:20190310T080000
END:DAYLIGHT
BEGIN:STANDARD
TZOFFSETFROM:-0500
TZOFFSETTO:-0600
TZNAME:CST
DTSTART:20191103T070000
END:STANDARD
BEGIN:DAYLIGHT
TZOFFSETFROM:-0600
TZOFFSETTO:-0500
TZNAME:CDT
DTSTART:20200308T080000
END:DAYLIGHT
BEGIN:STANDARD
TZOFFSETFROM:-0500
TZOFFSETTO:-0600
TZNAME:CST
DTSTART:20201101T070000
END:STANDARD
END:VTIMEZONE
BEGIN:VEVENT
DTSTART;TZID=America/Chicago:20190714T143000
DTEND;TZID=America/Chicago:20190714T160000
DTSTAMP:20260422T134611
CREATED:20190701T184347Z
LAST-MODIFIED:20190701T184347Z
UID:1180-1563114600-1563120000@www.landmarkcenter.org
SUMMARY:History Revealed: Tracing Teddy Roosevelt
DESCRIPTION:Join RCHS for a special History Revealed presentation. As part of his “Tracing TR’s 1903 Train Trip Tour\,” author James Blase will present the history of Teddy Roosevelt’s 1903 train trip that culminated in a stop at the Grand Canyon. Blase’s new book\, “Keep it for Your Children: Theodore Roosevelt’s 1903 Western Trip\,” creates a first-person journal of a 66-day western train trip the President made during his first term in office\, in 1903 – a year after Landmark Center first opened its doors. The train trip included a stop in Saint Paul\, where Theodore Roosevelt arrived by train at 2:30 pm on April 4\, 1903\, and where the President spoke to a crowd estimated at approximately 50\,000 outside the Cedar Street side of the State Capitol. Late in the afternoon the President travelled to Minneapolis\, where he attended a banquet and made a speech at the Nicolette Hotel. \nJim Blase’s presentation\, complete with photos\, will cover the entire 66-day trip\, but he will be emphasizing the President’s stops in Saint Paul and Minneapolis. The presentation is in conjunction with a two-week Amtrak western “loop tour” train trip Blase will be making\, beginning in St Louis Missouri (the “Gateway to the West”) on July 1\, and continuing through New Mexico\, the Grand Canyon\, California\, Oregon\, Montana\, North Dakota and Minnesota\, culminating back in St. Louis. The tour’s route mirrors much of the President’s in 1903. \nReservations requested – see the page here or call the office at 651.222.0701. Free and open to all.
URL:https://www.landmarkcenter.org/event/history-revealed-tracing-teddy-roosevelt/
LOCATION:Courtroom 326 – Landmark Center\, 75 5th St. W.\, Saint Paul\, Minnesota\, 55102\, United States
END:VEVENT
END:VCALENDAR