BEGIN:VCALENDAR
VERSION:2.0
PRODID:-// - ECPv6.15.20//NONSGML v1.0//EN
CALSCALE:GREGORIAN
METHOD:PUBLISH
X-ORIGINAL-URL:https://www.landmarkcenter.org
X-WR-CALDESC:Events for 
REFRESH-INTERVAL;VALUE=DURATION:PT1H
X-Robots-Tag:noindex
X-PUBLISHED-TTL:PT1H
BEGIN:VTIMEZONE
TZID:America/Chicago
BEGIN:DAYLIGHT
TZOFFSETFROM:-0600
TZOFFSETTO:-0500
TZNAME:CDT
DTSTART:20180311T080000
END:DAYLIGHT
BEGIN:STANDARD
TZOFFSETFROM:-0500
TZOFFSETTO:-0600
TZNAME:CST
DTSTART:20181104T070000
END:STANDARD
BEGIN:DAYLIGHT
TZOFFSETFROM:-0600
TZOFFSETTO:-0500
TZNAME:CDT
DTSTART:20190310T080000
END:DAYLIGHT
BEGIN:STANDARD
TZOFFSETFROM:-0500
TZOFFSETTO:-0600
TZNAME:CST
DTSTART:20191103T070000
END:STANDARD
BEGIN:DAYLIGHT
TZOFFSETFROM:-0600
TZOFFSETTO:-0500
TZNAME:CDT
DTSTART:20200308T080000
END:DAYLIGHT
BEGIN:STANDARD
TZOFFSETFROM:-0500
TZOFFSETTO:-0600
TZNAME:CST
DTSTART:20201101T070000
END:STANDARD
END:VTIMEZONE
BEGIN:VEVENT
DTSTART;TZID=America/Chicago:20190716T190000
DTEND;TZID=America/Chicago:20190716T210000
DTSTAMP:20260422T134609
CREATED:20190701T185247Z
LAST-MODIFIED:20190724T165657Z
UID:1183-1563303600-1563310800@www.landmarkcenter.org
SUMMARY:Cantus Concert: Unrequited presented with the Schubert Club
DESCRIPTION:Tuesday\, July 16\, the Schubert Club co-presents\, “Cantus Concert: Unrequited.” \nWho hasn’t experience a love that only goes one way? “Unrequited” explores the risks — as well as the dizzying highs — embedded in feeling passionately about someone. Join Cantus for the third installment of its popular chamber music series\, coupling solos and duets with Cantus’ rich\, full-ensemble texture. Including Robert Schumann’s most famous song cycle\, Dichterliebe (Op. 48)\, “Unrequited” is a journey of finding love\, losing it\, and moving on. Tickets can be purchased online.
URL:https://www.landmarkcenter.org/event/cantus-concert-unrequited-presented-with-the-schubert-club/
LOCATION:Courtroom 317 – Landmark Center\, 75 5th St. W.\, Saint Paul\, MN\, 55102\, United States
CATEGORIES:Concerts
END:VEVENT
END:VCALENDAR