BEGIN:VCALENDAR
VERSION:2.0
PRODID:-// - ECPv6.15.20//NONSGML v1.0//EN
CALSCALE:GREGORIAN
METHOD:PUBLISH
X-ORIGINAL-URL:https://www.landmarkcenter.org
X-WR-CALDESC:Events for 
REFRESH-INTERVAL;VALUE=DURATION:PT1H
X-Robots-Tag:noindex
X-PUBLISHED-TTL:PT1H
BEGIN:VTIMEZONE
TZID:America/Chicago
BEGIN:DAYLIGHT
TZOFFSETFROM:-0600
TZOFFSETTO:-0500
TZNAME:CDT
DTSTART:20180311T080000
END:DAYLIGHT
BEGIN:STANDARD
TZOFFSETFROM:-0500
TZOFFSETTO:-0600
TZNAME:CST
DTSTART:20181104T070000
END:STANDARD
BEGIN:DAYLIGHT
TZOFFSETFROM:-0600
TZOFFSETTO:-0500
TZNAME:CDT
DTSTART:20190310T080000
END:DAYLIGHT
BEGIN:STANDARD
TZOFFSETFROM:-0500
TZOFFSETTO:-0600
TZNAME:CST
DTSTART:20191103T070000
END:STANDARD
BEGIN:DAYLIGHT
TZOFFSETFROM:-0600
TZOFFSETTO:-0500
TZNAME:CDT
DTSTART:20200308T080000
END:DAYLIGHT
BEGIN:STANDARD
TZOFFSETFROM:-0500
TZOFFSETTO:-0600
TZNAME:CST
DTSTART:20201101T070000
END:STANDARD
END:VTIMEZONE
BEGIN:VEVENT
DTSTART;TZID=America/Chicago:20190718T120000
DTEND;TZID=America/Chicago:20190718T130000
DTSTAMP:20260422T134607
CREATED:20190701T185620Z
LAST-MODIFIED:20190701T185620Z
UID:1185-1563451200-1563454800@www.landmarkcenter.org
SUMMARY:Convergent Voices Lecture - “kyong juhn: Walk for Hope and Peace”
DESCRIPTION:Artist kyong juhn will discuss her work\, “Walk for Hope and Peace.” juhn is part of the Convergent Voices exhibit in Landmark Center’s North Gallery.
URL:https://www.landmarkcenter.org/event/convergent-voices-lecture-kyong-juhn-walk-for-hope-and-peace/
LOCATION:Courtroom 326 – Landmark Center\, 75 5th St. W.\, Saint Paul\, Minnesota\, 55102\, United States
END:VEVENT
END:VCALENDAR