BEGIN:VCALENDAR
VERSION:2.0
PRODID:-// - ECPv6.15.20//NONSGML v1.0//EN
CALSCALE:GREGORIAN
METHOD:PUBLISH
X-ORIGINAL-URL:https://www.landmarkcenter.org
X-WR-CALDESC:Events for 
REFRESH-INTERVAL;VALUE=DURATION:PT1H
X-Robots-Tag:noindex
X-PUBLISHED-TTL:PT1H
BEGIN:VTIMEZONE
TZID:America/Chicago
BEGIN:DAYLIGHT
TZOFFSETFROM:-0600
TZOFFSETTO:-0500
TZNAME:CDT
DTSTART:20180311T080000
END:DAYLIGHT
BEGIN:STANDARD
TZOFFSETFROM:-0500
TZOFFSETTO:-0600
TZNAME:CST
DTSTART:20181104T070000
END:STANDARD
BEGIN:DAYLIGHT
TZOFFSETFROM:-0600
TZOFFSETTO:-0500
TZNAME:CDT
DTSTART:20190310T080000
END:DAYLIGHT
BEGIN:STANDARD
TZOFFSETFROM:-0500
TZOFFSETTO:-0600
TZNAME:CST
DTSTART:20191103T070000
END:STANDARD
BEGIN:DAYLIGHT
TZOFFSETFROM:-0600
TZOFFSETTO:-0500
TZNAME:CDT
DTSTART:20200308T080000
END:DAYLIGHT
BEGIN:STANDARD
TZOFFSETFROM:-0500
TZOFFSETTO:-0600
TZNAME:CST
DTSTART:20201101T070000
END:STANDARD
END:VTIMEZONE
BEGIN:VEVENT
DTSTART;TZID=America/Chicago:20190725T120000
DTEND;TZID=America/Chicago:20190725T130000
DTSTAMP:20260422T134737
CREATED:20190517T152929Z
LAST-MODIFIED:20190724T165816Z
UID:1123-1564056000-1564059600@www.landmarkcenter.org
SUMMARY:Music in the Café: SisterTree
DESCRIPTION:Music in the Café welcomes musicians to the Musser Cortile for four Thursday lunch hour performances. The concerts are a great opportunity to hear talented local musicians. Past Music in the Café musicians have gone on to be featured at the Dakota Jazz Club and on NBC’s The Voice! They are free and open to the public. Guests are invited to bring their lunch or purchase one from Anita’s Café. Music in the Café is sponsored in part by KFAI Radio with additional support from the Minnesota Music Coalition. \nSisterTree is a Celtic/Americana folk duo featuring radiant harmonies for strings and voices from Minneapolis. Kerri Joy and Dee Brust breathe new life into songs both modern and ancient\, stir up dancers with rousing tune sets\, and fill hearts to the brim with timeless melodies. With a five year history of playing together these vibrant women offer solace through soulful performance.
URL:https://www.landmarkcenter.org/event/music-in-the-cafe-sistertree/
LOCATION:Musser Cortile – Landmark Center\, 75 5th St. W.\, Saint Paul\, MN\, 55102\, United States
CATEGORIES:Concerts
END:VEVENT
END:VCALENDAR