BEGIN:VCALENDAR
VERSION:2.0
PRODID:-// - ECPv6.15.20//NONSGML v1.0//EN
CALSCALE:GREGORIAN
METHOD:PUBLISH
X-ORIGINAL-URL:https://www.landmarkcenter.org
X-WR-CALDESC:Events for 
REFRESH-INTERVAL;VALUE=DURATION:PT1H
X-Robots-Tag:noindex
X-PUBLISHED-TTL:PT1H
BEGIN:VTIMEZONE
TZID:America/Chicago
BEGIN:DAYLIGHT
TZOFFSETFROM:-0600
TZOFFSETTO:-0500
TZNAME:CDT
DTSTART:20180311T080000
END:DAYLIGHT
BEGIN:STANDARD
TZOFFSETFROM:-0500
TZOFFSETTO:-0600
TZNAME:CST
DTSTART:20181104T070000
END:STANDARD
BEGIN:DAYLIGHT
TZOFFSETFROM:-0600
TZOFFSETTO:-0500
TZNAME:CDT
DTSTART:20190310T080000
END:DAYLIGHT
BEGIN:STANDARD
TZOFFSETFROM:-0500
TZOFFSETTO:-0600
TZNAME:CST
DTSTART:20191103T070000
END:STANDARD
BEGIN:DAYLIGHT
TZOFFSETFROM:-0600
TZOFFSETTO:-0500
TZNAME:CDT
DTSTART:20200308T080000
END:DAYLIGHT
BEGIN:STANDARD
TZOFFSETFROM:-0500
TZOFFSETTO:-0600
TZNAME:CST
DTSTART:20201101T070000
END:STANDARD
END:VTIMEZONE
BEGIN:VEVENT
DTSTART;TZID=America/Chicago:20190808T120000
DTEND;TZID=America/Chicago:20190808T130000
DTSTAMP:20260422T134617
CREATED:20190701T190533Z
LAST-MODIFIED:20190717T151052Z
UID:1189-1565265600-1565269200@www.landmarkcenter.org
SUMMARY:Bike Classic Exhibit Lunch Talk
DESCRIPTION:Richard Arey\, Director of the Bike Classic\, will talk about the history of the classic\, and the evolution of the artistic element of the posters\, and the mementos from past classics.
URL:https://www.landmarkcenter.org/event/bike-classic-exhibit-lunch-talk/
LOCATION:North Gallery – Landmark Center\, 75 5th St. W.\, St. Paul\, MN\, 55104\, United States
END:VEVENT
END:VCALENDAR