BEGIN:VCALENDAR
VERSION:2.0
PRODID:-// - ECPv6.15.20//NONSGML v1.0//EN
CALSCALE:GREGORIAN
METHOD:PUBLISH
X-ORIGINAL-URL:https://www.landmarkcenter.org
X-WR-CALDESC:Events for 
REFRESH-INTERVAL;VALUE=DURATION:PT1H
X-Robots-Tag:noindex
X-PUBLISHED-TTL:PT1H
BEGIN:VTIMEZONE
TZID:America/Chicago
BEGIN:DAYLIGHT
TZOFFSETFROM:-0600
TZOFFSETTO:-0500
TZNAME:CDT
DTSTART:20180311T080000
END:DAYLIGHT
BEGIN:STANDARD
TZOFFSETFROM:-0500
TZOFFSETTO:-0600
TZNAME:CST
DTSTART:20181104T070000
END:STANDARD
BEGIN:DAYLIGHT
TZOFFSETFROM:-0600
TZOFFSETTO:-0500
TZNAME:CDT
DTSTART:20190310T080000
END:DAYLIGHT
BEGIN:STANDARD
TZOFFSETFROM:-0500
TZOFFSETTO:-0600
TZNAME:CST
DTSTART:20191103T070000
END:STANDARD
BEGIN:DAYLIGHT
TZOFFSETFROM:-0600
TZOFFSETTO:-0500
TZNAME:CDT
DTSTART:20200308T080000
END:DAYLIGHT
BEGIN:STANDARD
TZOFFSETFROM:-0500
TZOFFSETTO:-0600
TZNAME:CST
DTSTART:20201101T070000
END:STANDARD
END:VTIMEZONE
BEGIN:VEVENT
DTSTART;TZID=America/Chicago:20190821T100000
DTEND;TZID=America/Chicago:20190821T110000
DTSTAMP:20260422T191511
CREATED:20190514T153128Z
LAST-MODIFIED:20190514T153128Z
UID:1054-1566381600-1566385200@www.landmarkcenter.org
SUMMARY:Saint Paul Walking Tours: Heart of the City
DESCRIPTION:Enjoy some of St. Paul’s most historic landmarks on this tour that takes you into the heart of the city. The tour covers popular spots like Mickey’s Diner\, Candyland\, the Hamm Building and more! The tour takes place the third Wednesday of the month\, June – September and departs from Landmark Center’s North Lobby\, inside the 6th Street entrance. \nReservations/tickets are REQUIRED
URL:https://www.landmarkcenter.org/event/saint-paul-walking-tours-heart-of-the-city-6/
LOCATION:Landmark Center\, 75 5th St W\, Saint Paul\, MN\, 55102\, United States
END:VEVENT
END:VCALENDAR