BEGIN:VCALENDAR
VERSION:2.0
PRODID:-// - ECPv6.15.20//NONSGML v1.0//EN
CALSCALE:GREGORIAN
METHOD:PUBLISH
X-ORIGINAL-URL:https://www.landmarkcenter.org
X-WR-CALDESC:Events for 
REFRESH-INTERVAL;VALUE=DURATION:PT1H
X-Robots-Tag:noindex
X-PUBLISHED-TTL:PT1H
BEGIN:VTIMEZONE
TZID:America/Chicago
BEGIN:DAYLIGHT
TZOFFSETFROM:-0600
TZOFFSETTO:-0500
TZNAME:CDT
DTSTART:20180311T080000
END:DAYLIGHT
BEGIN:STANDARD
TZOFFSETFROM:-0500
TZOFFSETTO:-0600
TZNAME:CST
DTSTART:20181104T070000
END:STANDARD
BEGIN:DAYLIGHT
TZOFFSETFROM:-0600
TZOFFSETTO:-0500
TZNAME:CDT
DTSTART:20190310T080000
END:DAYLIGHT
BEGIN:STANDARD
TZOFFSETFROM:-0500
TZOFFSETTO:-0600
TZNAME:CST
DTSTART:20191103T070000
END:STANDARD
BEGIN:DAYLIGHT
TZOFFSETFROM:-0600
TZOFFSETTO:-0500
TZNAME:CDT
DTSTART:20200308T080000
END:DAYLIGHT
BEGIN:STANDARD
TZOFFSETFROM:-0500
TZOFFSETTO:-0600
TZNAME:CST
DTSTART:20201101T070000
END:STANDARD
END:VTIMEZONE
BEGIN:VEVENT
DTSTART;TZID=America/Chicago:20190822T180000
DTEND;TZID=America/Chicago:20190822T200000
DTSTAMP:20260422T134740
CREATED:20190724T164116Z
LAST-MODIFIED:20190724T205251Z
UID:1255-1566496800-1566504000@www.landmarkcenter.org
SUMMARY:Vintage Saint Paul Tour
DESCRIPTION:Landmark Center’s Vintage Saint Paul Tour returns this summer to take participants on an evening stroll back in time with visits to Candyland and The Original Coney Island Tavern and Café. \nThe tour starts at Landmark Center\, walks through Rice Park\, the Hamm building\, stops at Candyland\, passes Mickey’s Diner\, and ends at The Original Coney Island Tavern and Café. Family-owned since 1920 and open for booking special engagements and open intermittently to the general public\, owner Mary Arvanitis will welcome the Vintage Saint Paul Tour guests with a classic Original Coney Island Dog\, beverage\, and stories from the long history of the beloved Tavern and Cafe where time stands still. \nVintage Saint Paul Tour is Thursday\, August 22*. The tour departs Landmark Center at 6 pm. Tickets are $35 and must be purchased online. Original Coney Island meal\, and Candyland popcorn are included in the ticket price. \n*In the event of severe weather or a heat index of 95 degrees or hotter\, the backup date is Thursday\, August 29.
URL:https://www.landmarkcenter.org/event/vintage-saint-paul-tour/
LOCATION:Landmark Center\, 75 5th St W\, Saint Paul\, MN\, 55102\, United States
END:VEVENT
END:VCALENDAR