BEGIN:VCALENDAR
VERSION:2.0
PRODID:-// - ECPv6.15.20//NONSGML v1.0//EN
CALSCALE:GREGORIAN
METHOD:PUBLISH
X-ORIGINAL-URL:https://www.landmarkcenter.org
X-WR-CALDESC:Events for 
REFRESH-INTERVAL;VALUE=DURATION:PT1H
X-Robots-Tag:noindex
X-PUBLISHED-TTL:PT1H
BEGIN:VTIMEZONE
TZID:America/Chicago
BEGIN:DAYLIGHT
TZOFFSETFROM:-0600
TZOFFSETTO:-0500
TZNAME:CDT
DTSTART:20180311T080000
END:DAYLIGHT
BEGIN:STANDARD
TZOFFSETFROM:-0500
TZOFFSETTO:-0600
TZNAME:CST
DTSTART:20181104T070000
END:STANDARD
BEGIN:DAYLIGHT
TZOFFSETFROM:-0600
TZOFFSETTO:-0500
TZNAME:CDT
DTSTART:20190310T080000
END:DAYLIGHT
BEGIN:STANDARD
TZOFFSETFROM:-0500
TZOFFSETTO:-0600
TZNAME:CST
DTSTART:20191103T070000
END:STANDARD
BEGIN:DAYLIGHT
TZOFFSETFROM:-0600
TZOFFSETTO:-0500
TZNAME:CDT
DTSTART:20200308T080000
END:DAYLIGHT
BEGIN:STANDARD
TZOFFSETFROM:-0500
TZOFFSETTO:-0600
TZNAME:CST
DTSTART:20201101T070000
END:STANDARD
END:VTIMEZONE
BEGIN:VEVENT
DTSTART;TZID=America/Chicago:20191003T170000
DTEND;TZID=America/Chicago:20191003T190000
DTSTAMP:20260422T081530
CREATED:20190903T200456Z
LAST-MODIFIED:20190903T205226Z
UID:1376-1570122000-1570129200@www.landmarkcenter.org
SUMMARY:“Historic Views of the Mississippi: A Comparison of Paintings from 1800s to Today"
DESCRIPTION:North Gallery exhibit opening reception. \nA look at the paintings of 1848 by Henry Lewis\, and the same locations today\, painted by plein aire artist Tom Stewart.\nExhibit open September 26 – November 10 
URL:https://www.landmarkcenter.org/event/historic-views-of-the-mississippi-a-comparison-of-paintings-from-1800s-to-today/
LOCATION:North Gallery – Landmark Center\, 75 5th St. W.\, St. Paul\, MN\, 55104\, United States
END:VEVENT
END:VCALENDAR