BEGIN:VCALENDAR
VERSION:2.0
PRODID:-// - ECPv6.15.20//NONSGML v1.0//EN
CALSCALE:GREGORIAN
METHOD:PUBLISH
X-ORIGINAL-URL:https://www.landmarkcenter.org
X-WR-CALDESC:Events for 
REFRESH-INTERVAL;VALUE=DURATION:PT1H
X-Robots-Tag:noindex
X-PUBLISHED-TTL:PT1H
BEGIN:VTIMEZONE
TZID:America/Chicago
BEGIN:DAYLIGHT
TZOFFSETFROM:-0600
TZOFFSETTO:-0500
TZNAME:CDT
DTSTART:20180311T080000
END:DAYLIGHT
BEGIN:STANDARD
TZOFFSETFROM:-0500
TZOFFSETTO:-0600
TZNAME:CST
DTSTART:20181104T070000
END:STANDARD
BEGIN:DAYLIGHT
TZOFFSETFROM:-0600
TZOFFSETTO:-0500
TZNAME:CDT
DTSTART:20190310T080000
END:DAYLIGHT
BEGIN:STANDARD
TZOFFSETFROM:-0500
TZOFFSETTO:-0600
TZNAME:CST
DTSTART:20191103T070000
END:STANDARD
BEGIN:DAYLIGHT
TZOFFSETFROM:-0600
TZOFFSETTO:-0500
TZNAME:CDT
DTSTART:20200308T080000
END:DAYLIGHT
BEGIN:STANDARD
TZOFFSETFROM:-0500
TZOFFSETTO:-0600
TZNAME:CST
DTSTART:20201101T070000
END:STANDARD
END:VTIMEZONE
BEGIN:VEVENT
DTSTART;TZID=America/Chicago:20191011T190000
DTEND;TZID=America/Chicago:20191011T220000
DTSTAMP:20260421T171220
CREATED:20190724T170036Z
LAST-MODIFIED:20190905T195124Z
UID:1259-1570820400-1570831200@www.landmarkcenter.org
SUMMARY:Landmark LIVE: Eliza Gilkyson
DESCRIPTION:Eliza Gilkyson is a twice Grammy-nominated (2006/2015) singer songwriter and activist who is one of the most respected musicians in folk\, roots and Americana circles. Her songs have been covered by Joan Baez\, Bob Geldof\, Tom Rush and Rosanne Cash and have appeared in films\, PBS specials and on prime-time TV. A member of the Austin Music Hall of Fame\, and a recent inductee into the Austin Songwriter Hall of Fame\, she has won countless Folk Alliance and Austin Music awards\, including 2014’s Songwriter of the Year. Gilkyson’s music has always offered a vivid reflection of the times we live in\, full of joys and sorrows\, each song a window into a life of struggle and triumph in a world she feels is “poised on the edge of moral\, economic and environmental bankruptcy.” \nLandmark Center presents “Landmark LIVE” in the F.K. Weyerhaeuser Auditorium. Presented with support from the Minnesota Music Coalition\, KFAI Radio\, and the Pioneer Press these concerts begin at 8 pm and are preceded by a cocktail hour at 7 pm\, giving audiences an opportunity to enjoy complimentary refreshments and a cash bar. \nTickets are $20 in advance/$25 at the door and $70 for full season tickets. Tickets include admission to the cocktail hour from 7-8 pm. \nTICKETS \n7pm – Cocktail hour // 7:30 pm – seating opens // 8 pm – Concert
URL:https://www.landmarkcenter.org/event/landmark-live-eliza-gilkyson/
LOCATION:F. K. Weyerhaeuser Aud. – Landmark Center\, 75 5th St. W.\, Saint Paul\, MN\, 55102\, United States
CATEGORIES:Concerts
END:VEVENT
END:VCALENDAR