BEGIN:VCALENDAR
VERSION:2.0
PRODID:-// - ECPv6.15.20//NONSGML v1.0//EN
CALSCALE:GREGORIAN
METHOD:PUBLISH
X-ORIGINAL-URL:https://www.landmarkcenter.org
X-WR-CALDESC:Events for 
REFRESH-INTERVAL;VALUE=DURATION:PT1H
X-Robots-Tag:noindex
X-PUBLISHED-TTL:PT1H
BEGIN:VTIMEZONE
TZID:America/Chicago
BEGIN:DAYLIGHT
TZOFFSETFROM:-0600
TZOFFSETTO:-0500
TZNAME:CDT
DTSTART:20180311T080000
END:DAYLIGHT
BEGIN:STANDARD
TZOFFSETFROM:-0500
TZOFFSETTO:-0600
TZNAME:CST
DTSTART:20181104T070000
END:STANDARD
BEGIN:DAYLIGHT
TZOFFSETFROM:-0600
TZOFFSETTO:-0500
TZNAME:CDT
DTSTART:20190310T080000
END:DAYLIGHT
BEGIN:STANDARD
TZOFFSETFROM:-0500
TZOFFSETTO:-0600
TZNAME:CST
DTSTART:20191103T070000
END:STANDARD
BEGIN:DAYLIGHT
TZOFFSETFROM:-0600
TZOFFSETTO:-0500
TZNAME:CDT
DTSTART:20200308T080000
END:DAYLIGHT
BEGIN:STANDARD
TZOFFSETFROM:-0500
TZOFFSETTO:-0600
TZNAME:CST
DTSTART:20201101T070000
END:STANDARD
END:VTIMEZONE
BEGIN:VEVENT
DTSTART;TZID=America/Chicago:20191017T120000
DTEND;TZID=America/Chicago:20191017T130000
DTSTAMP:20260421T090858
CREATED:20191009T213618Z
LAST-MODIFIED:20191009T213618Z
UID:1476-1571313600-1571317200@www.landmarkcenter.org
SUMMARY:Courtroom Concert
DESCRIPTION:Most Thursdays\, October – May\, Schubert Club host the weekly series\, “Courtroom Concerts.” Performances are free\, but seating is limited and first-come first-served.  If you plan to bring a group of 10 or more please call 651.292.3267
URL:https://www.landmarkcenter.org/event/courtroom-concert/
LOCATION:Courtroom 317 – Landmark Center\, 75 5th St. W.\, Saint Paul\, MN\, 55102\, United States
END:VEVENT
END:VCALENDAR