BEGIN:VCALENDAR
VERSION:2.0
PRODID:-// - ECPv6.15.20//NONSGML v1.0//EN
CALSCALE:GREGORIAN
METHOD:PUBLISH
X-ORIGINAL-URL:https://www.landmarkcenter.org
X-WR-CALDESC:Events for 
REFRESH-INTERVAL;VALUE=DURATION:PT1H
X-Robots-Tag:noindex
X-PUBLISHED-TTL:PT1H
BEGIN:VTIMEZONE
TZID:America/Chicago
BEGIN:DAYLIGHT
TZOFFSETFROM:-0600
TZOFFSETTO:-0500
TZNAME:CDT
DTSTART:20180311T080000
END:DAYLIGHT
BEGIN:STANDARD
TZOFFSETFROM:-0500
TZOFFSETTO:-0600
TZNAME:CST
DTSTART:20181104T070000
END:STANDARD
BEGIN:DAYLIGHT
TZOFFSETFROM:-0600
TZOFFSETTO:-0500
TZNAME:CDT
DTSTART:20190310T080000
END:DAYLIGHT
BEGIN:STANDARD
TZOFFSETFROM:-0500
TZOFFSETTO:-0600
TZNAME:CST
DTSTART:20191103T070000
END:STANDARD
BEGIN:DAYLIGHT
TZOFFSETFROM:-0600
TZOFFSETTO:-0500
TZNAME:CDT
DTSTART:20200308T080000
END:DAYLIGHT
BEGIN:STANDARD
TZOFFSETFROM:-0500
TZOFFSETTO:-0600
TZNAME:CST
DTSTART:20201101T070000
END:STANDARD
END:VTIMEZONE
BEGIN:VEVENT
DTSTART;TZID=America/Chicago:20191020T130000
DTEND;TZID=America/Chicago:20191020T150000
DTSTAMP:20260421T090844
CREATED:20190814T185706Z
LAST-MODIFIED:20190814T185706Z
UID:1290-1571576400-1571583600@www.landmarkcenter.org
SUMMARY:Sundays at Landmark: Saint Paul Civic Symphony
DESCRIPTION:The gorgeous sounds of the Saint Paul Civic Symphony will fill the Musser Cortile during its first concert of their season. \nSundays at Landmark series is presented by Minnesota Landmarks and supported by Ecolab\, Travelers\, the Xcel Energy Foundation\, and Ramsey County.
URL:https://www.landmarkcenter.org/event/saint-paul-civic-symphony/
LOCATION:Musser Cortile – Landmark Center\, 75 5th St. W.\, Saint Paul\, MN\, 55102\, United States
CATEGORIES:Sundays at Landmark
END:VEVENT
END:VCALENDAR