BEGIN:VCALENDAR
VERSION:2.0
PRODID:-// - ECPv6.15.20//NONSGML v1.0//EN
CALSCALE:GREGORIAN
METHOD:PUBLISH
X-ORIGINAL-URL:https://www.landmarkcenter.org
X-WR-CALDESC:Events for 
REFRESH-INTERVAL;VALUE=DURATION:PT1H
X-Robots-Tag:noindex
X-PUBLISHED-TTL:PT1H
BEGIN:VTIMEZONE
TZID:America/Chicago
BEGIN:DAYLIGHT
TZOFFSETFROM:-0600
TZOFFSETTO:-0500
TZNAME:CDT
DTSTART:20180311T080000
END:DAYLIGHT
BEGIN:STANDARD
TZOFFSETFROM:-0500
TZOFFSETTO:-0600
TZNAME:CST
DTSTART:20181104T070000
END:STANDARD
BEGIN:DAYLIGHT
TZOFFSETFROM:-0600
TZOFFSETTO:-0500
TZNAME:CDT
DTSTART:20190310T080000
END:DAYLIGHT
BEGIN:STANDARD
TZOFFSETFROM:-0500
TZOFFSETTO:-0600
TZNAME:CST
DTSTART:20191103T070000
END:STANDARD
BEGIN:DAYLIGHT
TZOFFSETFROM:-0600
TZOFFSETTO:-0500
TZNAME:CDT
DTSTART:20200308T080000
END:DAYLIGHT
BEGIN:STANDARD
TZOFFSETFROM:-0500
TZOFFSETTO:-0600
TZNAME:CST
DTSTART:20201101T070000
END:STANDARD
END:VTIMEZONE
BEGIN:VEVENT
DTSTART;TZID=America/Chicago:20191022T103000
DTEND;TZID=America/Chicago:20191022T113000
DTSTAMP:20260421T171221
CREATED:20191010T163534Z
LAST-MODIFIED:20191010T163534Z
UID:1516-1571740200-1571743800@www.landmarkcenter.org
SUMMARY:Schubert Club KidsJam
DESCRIPTION:KidsJam with Nirmala Rajasekar \nLEARN Ragas and Talas (Melodies and Rhythms) performed on India’s ancient instruments\, the veena and mridangam. LISTEN to an Indian folktale accompanied by these fascinating instruments. CREATE your own veena and PLAY interesting sounds to add to the story. \nNirmala Rajasekar will be joined by percussionist Murugaboopathi. \nKidsJam workshops are 60-minute interactive sessions for children ages 5-12 to experience musical performances\, get involved through creative activities and movement\, and learn about the people\, cultures\, and sounds behind the music. \nSpace and supplies are limited. Advance registration is highly recommended. 
URL:https://www.landmarkcenter.org/event/schubert-club-kidsjam-3/
LOCATION:Schubert 205 – Landmark Center
END:VEVENT
END:VCALENDAR