BEGIN:VCALENDAR
VERSION:2.0
PRODID:-// - ECPv6.15.20//NONSGML v1.0//EN
CALSCALE:GREGORIAN
METHOD:PUBLISH
X-ORIGINAL-URL:https://www.landmarkcenter.org
X-WR-CALDESC:Events for 
REFRESH-INTERVAL;VALUE=DURATION:PT1H
X-Robots-Tag:noindex
X-PUBLISHED-TTL:PT1H
BEGIN:VTIMEZONE
TZID:America/Chicago
BEGIN:DAYLIGHT
TZOFFSETFROM:-0600
TZOFFSETTO:-0500
TZNAME:CDT
DTSTART:20180311T080000
END:DAYLIGHT
BEGIN:STANDARD
TZOFFSETFROM:-0500
TZOFFSETTO:-0600
TZNAME:CST
DTSTART:20181104T070000
END:STANDARD
BEGIN:DAYLIGHT
TZOFFSETFROM:-0600
TZOFFSETTO:-0500
TZNAME:CDT
DTSTART:20190310T080000
END:DAYLIGHT
BEGIN:STANDARD
TZOFFSETFROM:-0500
TZOFFSETTO:-0600
TZNAME:CST
DTSTART:20191103T070000
END:STANDARD
BEGIN:DAYLIGHT
TZOFFSETFROM:-0600
TZOFFSETTO:-0500
TZNAME:CDT
DTSTART:20200308T080000
END:DAYLIGHT
BEGIN:STANDARD
TZOFFSETFROM:-0500
TZOFFSETTO:-0600
TZNAME:CST
DTSTART:20201101T070000
END:STANDARD
END:VTIMEZONE
BEGIN:VEVENT
DTSTART;TZID=America/Chicago:20191023T103000
DTEND;TZID=America/Chicago:20191023T113000
DTSTAMP:20260421T073256
CREATED:20191010T164041Z
LAST-MODIFIED:20191010T164041Z
UID:1518-1571826600-1571830200@www.landmarkcenter.org
SUMMARY:Schubert Club KidsJam
DESCRIPTION:KidsJam with Nirmala Rajasekar \nLEARN Ragas and Talas (Melodies and Rhythms) performed on India’s ancient instruments\, the veena and mridangam. LISTEN to an Indian folktale accompanied by these fascinating instruments. CREATE your own veena and PLAY interesting sounds to add to the story. \nNirmala Rajasekar will be joined by percussionist Murugaboopathi. \nKidsJam workshops are 60-minute interactive sessions for children ages 5-12 to experience musical performances\, get involved through creative activities and movement\, and learn about the people\, cultures\, and sounds behind the music. \nSpace and supplies are limited. Advance registration is highly recommended. 
URL:https://www.landmarkcenter.org/event/schubert-club-kidsjam-4/
LOCATION:Schubert 205 – Landmark Center
END:VEVENT
BEGIN:VEVENT
DTSTART;TZID=America/Chicago:20191023T180000
DTEND;TZID=America/Chicago:20191023T210000
DTSTAMP:20260421T073256
CREATED:20190905T213431Z
LAST-MODIFIED:20191023T171201Z
UID:1406-1571853600-1571864400@www.landmarkcenter.org
SUMMARY:Gangster Ghost Tour - Sold Out
DESCRIPTION:History haunts the halls of Landmark Center. This interactive tour crosses paths with Saint Paul’s most famous and infamous inhabitants. Tours are led through the shadowy building each half hour\, beginning at 6 pm. Time slot reservations/advanced ticket purchase is required. \nTickets are on sale now – TICKETS – SOLD OUT
URL:https://www.landmarkcenter.org/event/gangster-ghost-tour/
LOCATION:Landmark Center\, 75 5th St W\, Saint Paul\, MN\, 55102\, United States
END:VEVENT
END:VCALENDAR