BEGIN:VCALENDAR
VERSION:2.0
PRODID:-// - ECPv6.15.20//NONSGML v1.0//EN
CALSCALE:GREGORIAN
METHOD:PUBLISH
X-ORIGINAL-URL:https://www.landmarkcenter.org
X-WR-CALDESC:Events for 
REFRESH-INTERVAL;VALUE=DURATION:PT1H
X-Robots-Tag:noindex
X-PUBLISHED-TTL:PT1H
BEGIN:VTIMEZONE
TZID:America/Chicago
BEGIN:DAYLIGHT
TZOFFSETFROM:-0600
TZOFFSETTO:-0500
TZNAME:CDT
DTSTART:20210314T080000
END:DAYLIGHT
BEGIN:STANDARD
TZOFFSETFROM:-0500
TZOFFSETTO:-0600
TZNAME:CST
DTSTART:20211107T070000
END:STANDARD
BEGIN:DAYLIGHT
TZOFFSETFROM:-0600
TZOFFSETTO:-0500
TZNAME:CDT
DTSTART:20220313T080000
END:DAYLIGHT
BEGIN:STANDARD
TZOFFSETFROM:-0500
TZOFFSETTO:-0600
TZNAME:CST
DTSTART:20221106T070000
END:STANDARD
BEGIN:DAYLIGHT
TZOFFSETFROM:-0600
TZOFFSETTO:-0500
TZNAME:CDT
DTSTART:20230312T080000
END:DAYLIGHT
BEGIN:STANDARD
TZOFFSETFROM:-0500
TZOFFSETTO:-0600
TZNAME:CST
DTSTART:20231105T070000
END:STANDARD
END:VTIMEZONE
BEGIN:VEVENT
DTSTART;VALUE=DATE:20220331
DTEND;VALUE=DATE:20220401
DTSTAMP:20260421T110451
CREATED:20220113T202634Z
LAST-MODIFIED:20220401T201311Z
UID:4971-1648684800-1648771199@www.landmarkcenter.org
SUMMARY:Sundays at Landmark: Black Sea Odyssey (Virtual)
DESCRIPTION:Black Sea Odyssey – originally scheduled for February 20\, 2022 – has been moved to a virtual event with the help of our community partner\, Ethnic Dance Theatre. There will be no in-person program for this event\, but you can enjoy from the comfort of your homes! View the virtual presentation here. \nExperience the music\, dance\, language\, foods\, costume and arts & craft traditions of several countries hailing from the Black Sea region of Eastern Europe. Produced in partnership with Ethnic Dance Theatre.
URL:https://www.landmarkcenter.org/event/sundays-at-landmark-black-sea-odyssey-virtual/
LOCATION:MN
END:VEVENT
END:VCALENDAR