BEGIN:VCALENDAR
VERSION:2.0
PRODID:-// - ECPv6.15.20//NONSGML v1.0//EN
CALSCALE:GREGORIAN
METHOD:PUBLISH
X-ORIGINAL-URL:https://www.landmarkcenter.org
X-WR-CALDESC:Events for 
REFRESH-INTERVAL;VALUE=DURATION:PT1H
X-Robots-Tag:noindex
X-PUBLISHED-TTL:PT1H
BEGIN:VTIMEZONE
TZID:America/Chicago
BEGIN:DAYLIGHT
TZOFFSETFROM:-0600
TZOFFSETTO:-0500
TZNAME:CDT
DTSTART:20210314T080000
END:DAYLIGHT
BEGIN:STANDARD
TZOFFSETFROM:-0500
TZOFFSETTO:-0600
TZNAME:CST
DTSTART:20211107T070000
END:STANDARD
BEGIN:DAYLIGHT
TZOFFSETFROM:-0600
TZOFFSETTO:-0500
TZNAME:CDT
DTSTART:20220313T080000
END:DAYLIGHT
BEGIN:STANDARD
TZOFFSETFROM:-0500
TZOFFSETTO:-0600
TZNAME:CST
DTSTART:20221106T070000
END:STANDARD
BEGIN:DAYLIGHT
TZOFFSETFROM:-0600
TZOFFSETTO:-0500
TZNAME:CDT
DTSTART:20230312T080000
END:DAYLIGHT
BEGIN:STANDARD
TZOFFSETFROM:-0500
TZOFFSETTO:-0600
TZNAME:CST
DTSTART:20231105T070000
END:STANDARD
END:VTIMEZONE
BEGIN:VEVENT
DTSTART;TZID=America/Chicago:20220403T120000
DTEND;TZID=America/Chicago:20220403T150000
DTSTAMP:20260422T045846
CREATED:20220210T204746Z
LAST-MODIFIED:20220309T210526Z
UID:5084-1648987200-1648998000@www.landmarkcenter.org
SUMMARY:Sundays at Landmark: Bandwidth Community Band Festival
DESCRIPTION:Listen to marches\, pop\, Broadway\, and jazz music performed by some of the top volunteer-based bands in Minnesota.
URL:https://www.landmarkcenter.org/event/sundays-at-landmark-bandwidth-community-band-festival-2/
LOCATION:Musser Cortile – Landmark Center\, 75 5th St. W.\, Saint Paul\, MN\, 55102\, United States
END:VEVENT
BEGIN:VEVENT
DTSTART;TZID=America/Chicago:20220403T140000
DTEND;TZID=America/Chicago:20220403T150000
DTSTAMP:20260422T045846
CREATED:20220302T162919Z
LAST-MODIFIED:20220302T162919Z
UID:5170-1648994400-1648998000@www.landmarkcenter.org
SUMMARY:Romanian Spring Traditions: Pottery
DESCRIPTION:HORA is happy to present the Romanian Spring Traditions exhibit between March 6th and April 15\, 2022. This event will be located in the North Gallery of the Landmark Center\, first floor. Visitors will get immersed in various art activities while learning about Romanian culture and traditions. All activities are free and open to the public. \nFeatured activities and artists for this event are: \nDarrel Trulson pottery\, 2-3 pm\, room 317\, Join us for an introduction to pottery class. Materials will be supplied and no experience is needed. This event is open to everyone\, seats are on a first come first served basis. \nThis event is made possible with help from MN Landmarks and voters of Minnesota through a grant from the Metropolitan Regional Arts Council\, thanks to a legislative appropriation from the Arts and Cultural Heritage Fund.
URL:https://www.landmarkcenter.org/event/romanian-spring-traditions-pottery/
LOCATION:Courtroom 317 – Landmark Center\, 75 5th St. W.\, Saint Paul\, MN\, 55102\, United States
ORGANIZER;CN="Heritage Organization of Romanian Americans":MAILTO:horamn.media@gmail.com
END:VEVENT
END:VCALENDAR