BEGIN:VCALENDAR
VERSION:2.0
PRODID:-// - ECPv6.15.20//NONSGML v1.0//EN
CALSCALE:GREGORIAN
METHOD:PUBLISH
X-ORIGINAL-URL:https://www.landmarkcenter.org
X-WR-CALDESC:Events for 
REFRESH-INTERVAL;VALUE=DURATION:PT1H
X-Robots-Tag:noindex
X-PUBLISHED-TTL:PT1H
BEGIN:VTIMEZONE
TZID:America/Chicago
BEGIN:DAYLIGHT
TZOFFSETFROM:-0600
TZOFFSETTO:-0500
TZNAME:CDT
DTSTART:20210314T080000
END:DAYLIGHT
BEGIN:STANDARD
TZOFFSETFROM:-0500
TZOFFSETTO:-0600
TZNAME:CST
DTSTART:20211107T070000
END:STANDARD
BEGIN:DAYLIGHT
TZOFFSETFROM:-0600
TZOFFSETTO:-0500
TZNAME:CDT
DTSTART:20220313T080000
END:DAYLIGHT
BEGIN:STANDARD
TZOFFSETFROM:-0500
TZOFFSETTO:-0600
TZNAME:CST
DTSTART:20221106T070000
END:STANDARD
BEGIN:DAYLIGHT
TZOFFSETFROM:-0600
TZOFFSETTO:-0500
TZNAME:CDT
DTSTART:20230312T080000
END:DAYLIGHT
BEGIN:STANDARD
TZOFFSETFROM:-0500
TZOFFSETTO:-0600
TZNAME:CST
DTSTART:20231105T070000
END:STANDARD
END:VTIMEZONE
BEGIN:VEVENT
DTSTART;TZID=America/Chicago:20220410T130000
DTEND;TZID=America/Chicago:20220410T150000
DTSTAMP:20260422T191326
CREATED:20220210T204900Z
LAST-MODIFIED:20220210T204924Z
UID:5087-1649595600-1649602800@www.landmarkcenter.org
SUMMARY:Sundays at Landmark: Minnesota Mandolin Orchestra
DESCRIPTION:Enjoy the music of this old-world string instrument in a concert of pops\, classical and more.
URL:https://www.landmarkcenter.org/event/sundays-at-landmark-minnesota-mandolin-orchestra-2/
LOCATION:Musser Cortile – Landmark Center\, 75 5th St. W.\, Saint Paul\, MN\, 55102\, United States
END:VEVENT
BEGIN:VEVENT
DTSTART;TZID=America/Chicago:20220410T130000
DTEND;TZID=America/Chicago:20220410T150000
DTSTAMP:20260422T191326
CREATED:20220302T163128Z
LAST-MODIFIED:20220302T163128Z
UID:5172-1649595600-1649602800@www.landmarkcenter.org
SUMMARY:Romanian Spring Traditions: Stitches of Love and Folk Music
DESCRIPTION:HORA is happy to present the Romanian Spring Traditions exhibit between March 6th and April 15\, 2022. This event will be located in the North Gallery of the Landmark Center\, first floor. Visitors will get immersed in various art activities while learning about Romanian culture and traditions. All activities are free and open to the public. \nCome see the resilience of the Romanian community who recreated the patterns on their grandmothers’ blouses patterns during the last two years. Learn about the intricate cross-stitch patterns\, fabrics and threads from a century ago. Learn the basics of cross-stitching and be creative with thread. \nExperience unique Romanian folk music\, usually sung around the campfire during warm summer nights\, with artist Romell Alaman. \nThis event is made possible with help from MN Landmarks and Minnesota voters through a grant from the Metropolitan Regional Arts Council\, thanks to a legislative appropriation from the Arts and Cultural Heritage Fund.
URL:https://www.landmarkcenter.org/event/romanian-spring-traditions-stitches-of-love-and-folk-music/
LOCATION:Courtroom 317 – Landmark Center\, 75 5th St. W.\, Saint Paul\, MN\, 55102\, United States
ORGANIZER;CN="Heritage Organization of Romanian Americans":MAILTO:horamn.media@gmail.com
END:VEVENT
END:VCALENDAR