BEGIN:VCALENDAR
VERSION:2.0
PRODID:-// - ECPv6.15.20//NONSGML v1.0//EN
CALSCALE:GREGORIAN
METHOD:PUBLISH
X-ORIGINAL-URL:https://www.landmarkcenter.org
X-WR-CALDESC:Events for 
REFRESH-INTERVAL;VALUE=DURATION:PT1H
X-Robots-Tag:noindex
X-PUBLISHED-TTL:PT1H
BEGIN:VTIMEZONE
TZID:America/Chicago
BEGIN:DAYLIGHT
TZOFFSETFROM:-0600
TZOFFSETTO:-0500
TZNAME:CDT
DTSTART:20210314T080000
END:DAYLIGHT
BEGIN:STANDARD
TZOFFSETFROM:-0500
TZOFFSETTO:-0600
TZNAME:CST
DTSTART:20211107T070000
END:STANDARD
BEGIN:DAYLIGHT
TZOFFSETFROM:-0600
TZOFFSETTO:-0500
TZNAME:CDT
DTSTART:20220313T080000
END:DAYLIGHT
BEGIN:STANDARD
TZOFFSETFROM:-0500
TZOFFSETTO:-0600
TZNAME:CST
DTSTART:20221106T070000
END:STANDARD
BEGIN:DAYLIGHT
TZOFFSETFROM:-0600
TZOFFSETTO:-0500
TZNAME:CDT
DTSTART:20230312T080000
END:DAYLIGHT
BEGIN:STANDARD
TZOFFSETFROM:-0500
TZOFFSETTO:-0600
TZNAME:CST
DTSTART:20231105T070000
END:STANDARD
END:VTIMEZONE
BEGIN:VEVENT
DTSTART;TZID=America/Chicago:20220501T130000
DTEND;TZID=America/Chicago:20220501T160000
DTSTAMP:20260422T191315
CREATED:20211214T230109Z
LAST-MODIFIED:20220425T174308Z
UID:4841-1651410000-1651420800@www.landmarkcenter.org
SUMMARY:Sundays at Landmark: May Day Tea Party
DESCRIPTION:Enjoy a kids tea at the castle with sweets and savories. \nThis May Day Tea Party is geared towards children\, and parents are more than welcome to attend (at least one parent must accompany children). This will not be a traditional high tea setting; there will be elements of an English tea\, but not an elaborate setting like a traditional high tea. We will have two teas to select from\, as well as a non-tea option for kids. There will be sweets and savories served for the tea guests. \nLimited seatings are at 1 and 3 pm and are currently booked out. You can add your name to the wait list by calling 651-292-3063 or emailing Sydney at scolquitt@landmarkcenter.org.
URL:https://www.landmarkcenter.org/event/sundays-at-landmark-may-day-tea-party/
LOCATION:Musser Cortile – Landmark Center\, 75 5th St. W.\, Saint Paul\, MN\, 55102\, United States
END:VEVENT
END:VCALENDAR