BEGIN:VCALENDAR
VERSION:2.0
PRODID:-// - ECPv6.15.20//NONSGML v1.0//EN
CALSCALE:GREGORIAN
METHOD:PUBLISH
X-ORIGINAL-URL:https://www.landmarkcenter.org
X-WR-CALDESC:Events for 
REFRESH-INTERVAL;VALUE=DURATION:PT1H
X-Robots-Tag:noindex
X-PUBLISHED-TTL:PT1H
BEGIN:VTIMEZONE
TZID:America/Chicago
BEGIN:DAYLIGHT
TZOFFSETFROM:-0600
TZOFFSETTO:-0500
TZNAME:CDT
DTSTART:20240310T080000
END:DAYLIGHT
BEGIN:STANDARD
TZOFFSETFROM:-0500
TZOFFSETTO:-0600
TZNAME:CST
DTSTART:20241103T070000
END:STANDARD
BEGIN:DAYLIGHT
TZOFFSETFROM:-0600
TZOFFSETTO:-0500
TZNAME:CDT
DTSTART:20250309T080000
END:DAYLIGHT
BEGIN:STANDARD
TZOFFSETFROM:-0500
TZOFFSETTO:-0600
TZNAME:CST
DTSTART:20251102T070000
END:STANDARD
BEGIN:DAYLIGHT
TZOFFSETFROM:-0600
TZOFFSETTO:-0500
TZNAME:CDT
DTSTART:20260308T080000
END:DAYLIGHT
BEGIN:STANDARD
TZOFFSETFROM:-0500
TZOFFSETTO:-0600
TZNAME:CST
DTSTART:20261101T070000
END:STANDARD
END:VTIMEZONE
BEGIN:VEVENT
DTSTART;TZID=America/Chicago:20250216T110000
DTEND;TZID=America/Chicago:20250216T150000
DTSTAMP:20260422T191319
CREATED:20240925T173439Z
LAST-MODIFIED:20250214T193448Z
UID:8155-1739703600-1739718000@www.landmarkcenter.org
SUMMARY:Mosaic Festival: Dance and Music of World Cultures
DESCRIPTION:Experience a global celebration of culture with live dance and music performances\, arts and crafts\, cultural booths\, and a diverse pop-up café offering delicious international foods from around the world. This event is presented by Landmark Center and Ethnic Dance Theatre. \nTickets can be purchased online ahead of time here\, or at the door on the day of the event (cash or check only)  \n $6 adults | $4 kids | Free for ages 6 and under \nMain Stage Schedule \n11:00 Welcome from Landmark Center\n11:05 Ethnic Dance Theatre—Carpatho-Rusyn Dances\n11:10 Bulgari and Shevitsa Bulgarian Dancers\n11:25 Mi Perú-Minnesota—Peruvian Dancers\n11:35 Yetkin Dances from the Caucasus\n11:40 Ballet Folklórico Mexicó Azteca\n11:50 TAAM Turkish Dancers\n12:00 Parisa Naini Persian Classical Dances*\n12:20 Dolina Polish Folk Dancers\n12:30 Somali Dancers of MN\n12:40 Ethnic Dance Theatre—Croatian Dance*\n1:00 Makam Baklava—Turkish-Balkan Music\n1:20 Cheremosh Ukrainian Dancers\n1:30 One Reason Dance Studio—Cuban Dance*\n1:45 Yetkin Dances from the Caucasus\n1:50 Pērkonītis Latvian Dancers\n2:00 Away Runakuna Ecuadorian Dancers\n2:10 CAAM Chinese Dance Theater\n2:20 TAAM Turkish Dancers\n2:25 Ethnic Dance Theatre—Hungarian Dances and Teaching*\n2:40 Szászka—Music of Transylvania\n*Notes Audience Participation \nTessera Cafe Menu \nKovbasa (1) & Kraut – Ukrainian $7\n– Pork sausage\, served with a bun\nDolmades (4) – Greek $7\n– Stuffed grape leaves (vegetarian)\nTamale (1) – Mexican $7\nchicken or vegetable\nPork filled Egg Rolls (2) – Hmong $7\nSambusa (2) – Somali $7\nBeef or vegetarian\nHot Dog (1) – American $4\nserved with a bun\nPączki (1) – Polish $4\n– filled Donut – plain\, custard\, or raspberry\nBaklava (1) – Turkish $4\n– Pastry with nuts and honey\nChocolate Chip Cookie $2\nSoda $2\nCoffee $2\nWater $2 \nSundays at Landmark series is supported by Ecolab\, Xcel Energy Foundation\, Hubbard Broadcasting Foundation\, Ramsey County and Travelers.
URL:https://www.landmarkcenter.org/event/mosaic-festival-dance-and-music-of-world-cultures-2/
LOCATION:Musser Cortile – Landmark Center\, 75 5th St. W.\, Saint Paul\, MN\, 55102\, United States
END:VEVENT
BEGIN:VEVENT
DTSTART;TZID=America/Chicago:20250216T130000
DTEND;TZID=America/Chicago:20250216T150000
DTSTAMP:20260422T191319
CREATED:20241219T195453Z
LAST-MODIFIED:20241219T195453Z
UID:8384-1739710800-1739718000@www.landmarkcenter.org
SUMMARY:HORA: Dragobete
DESCRIPTION:Among other celebrations\, February is the month of Lupercalia\, the holiday of purification in the Roman tradition\, where St Valentine has its origins from. Visit us every Sunday 1-3 pm in February to learn about Dragobete\, the Romanian version of Valentine’s Day.
URL:https://www.landmarkcenter.org/event/hora-dragobete-3/
LOCATION:HORA – MN – Suite 319\, 75 5th St. W.\, Suite 319\, Saint Paul\, MN\, 55102\, United States
ORGANIZER;CN="Heritage Organization of Romanian Americans":MAILTO:horamn.media@gmail.com
END:VEVENT
BEGIN:VEVENT
DTSTART;TZID=America/Chicago:20250216T130000
DTEND;TZID=America/Chicago:20250216T160000
DTSTAMP:20260422T191319
CREATED:20240906T185156Z
LAST-MODIFIED:20250205T170004Z
UID:7974-1739710800-1739721600@www.landmarkcenter.org
SUMMARY:Woodturning Demonstration
DESCRIPTION:A demonstration in the art of wood turning will be given by one of the members of the American Association of Woodturners. Learn about the craft and visit their current gallery exhibit! For more information call 763-226-5723.
URL:https://www.landmarkcenter.org/event/woodturning-demonstration-23/
LOCATION:AAW Gallery of Wood Art – Landmark Center\, 75 5th St. W.\, Suite 222\, Saint Paul\, MN\, 55104\, United States
END:VEVENT
END:VCALENDAR