BEGIN:VCALENDAR
VERSION:2.0
PRODID:-// - ECPv6.15.20//NONSGML v1.0//EN
CALSCALE:GREGORIAN
METHOD:PUBLISH
X-ORIGINAL-URL:https://www.landmarkcenter.org
X-WR-CALDESC:Events for 
REFRESH-INTERVAL;VALUE=DURATION:PT1H
X-Robots-Tag:noindex
X-PUBLISHED-TTL:PT1H
BEGIN:VTIMEZONE
TZID:America/Chicago
BEGIN:DAYLIGHT
TZOFFSETFROM:-0600
TZOFFSETTO:-0500
TZNAME:CDT
DTSTART:20240310T080000
END:DAYLIGHT
BEGIN:STANDARD
TZOFFSETFROM:-0500
TZOFFSETTO:-0600
TZNAME:CST
DTSTART:20241103T070000
END:STANDARD
BEGIN:DAYLIGHT
TZOFFSETFROM:-0600
TZOFFSETTO:-0500
TZNAME:CDT
DTSTART:20250309T080000
END:DAYLIGHT
BEGIN:STANDARD
TZOFFSETFROM:-0500
TZOFFSETTO:-0600
TZNAME:CST
DTSTART:20251102T070000
END:STANDARD
BEGIN:DAYLIGHT
TZOFFSETFROM:-0600
TZOFFSETTO:-0500
TZNAME:CDT
DTSTART:20260308T080000
END:DAYLIGHT
BEGIN:STANDARD
TZOFFSETFROM:-0500
TZOFFSETTO:-0600
TZNAME:CST
DTSTART:20261101T070000
END:STANDARD
END:VTIMEZONE
BEGIN:VEVENT
DTSTART;TZID=America/Chicago:20251019T123000
DTEND;TZID=America/Chicago:20251019T131500
DTSTAMP:20260421T090913
CREATED:20250715T210356Z
LAST-MODIFIED:20250715T210356Z
UID:9228-1760877000-1760879700@www.landmarkcenter.org
SUMMARY:Public Building Tour
DESCRIPTION:Join a Landmark Center volunteer tour guide for a free building tour. Learn about the building’s history\, gangster connections\, and restoration. Tours are held every Sunday\, walk-ins are welcome and no reservation is needed. \nTours begin at the Information Desk at 12:30 pm and are 45 minutes in length.
URL:https://www.landmarkcenter.org/event/public-building-tour-49/
LOCATION:Landmark Center\, 75 5th St W\, Saint Paul\, MN\, 55102\, United States
END:VEVENT
BEGIN:VEVENT
DTSTART;TZID=America/Chicago:20251019T130000
DTEND;TZID=America/Chicago:20251019T150000
DTSTAMP:20260421T090913
CREATED:20250715T203412Z
LAST-MODIFIED:20250910T195852Z
UID:9204-1760878800-1760886000@www.landmarkcenter.org
SUMMARY:Sundays at Landmark: Saint Paul Civic Symphony Fall Concert
DESCRIPTION:On Sunday\, October 19\, the soaring sounds of the Saint Paul Civic Symphony will fill the Landmark Center’s beautiful Musser Cortile for the first concert of its new season. Founded in 1945\, this volunteer-driven orchestra has been bringing free\, high-quality performances to audiences across Saint Paul and the surrounding communities for 80 years. \nThis special program\, Celebrating the Classics!\, features timeless works by Wagner\, Mozart\, and Brahms\, and will showcase guest soloist Michael Gast\, principal horn of the Minnesota Orchestra. \nPart of the Sundays at Landmark series\, supported by Ecolab\, Hubbard Broadcasting\, Travelers\, Xcel Energy Foundation\, and Ramsey County.
URL:https://www.landmarkcenter.org/event/sundays-at-landmark-saint-paul-civic-symphony-fall-concert/
LOCATION:Musser Cortile – Landmark Center\, 75 5th St. W.\, Saint Paul\, MN\, 55102\, United States
END:VEVENT
BEGIN:VEVENT
DTSTART;TZID=America/Chicago:20251019T130000
DTEND;TZID=America/Chicago:20251019T150000
DTSTAMP:20260421T090913
CREATED:20250804T142116Z
LAST-MODIFIED:20250804T142116Z
UID:9433-1760878800-1760886000@www.landmarkcenter.org
SUMMARY:HORA: Romanian Dark Legends - Monsters\, Vampires and the Undead
DESCRIPTION:Step into the haunting world of Romanian folklore every Sunday this October with Romanian Dark Legends: Monsters\, Vampires & the Undead. This weekly informational session uncovers spine-chilling stories rooted in centuries of myth and mystery—from bloodthirsty creatures of the Carpathians to ghostly spirits and restless souls. \nDiscover how Romanian tales of the undead influenced modern horror and vampire lore\, including the origins of Vlad Țepeș (aka Dracula)\, superstitions surrounding strigoi and moroi\, and rituals used to protect villages from the dark forces beyond. Each session blends historical context\, storytelling\, and cultural insights into how these legends shaped regional identity and continue to fuel global fascination. Whether you’re a fan of folklore\, fantasy\, or the eerie unknown\, these sessions offer an unforgettable journey into the shadowed corners of Romanian tradition.
URL:https://www.landmarkcenter.org/event/hora-romanian-dark-legends-monsters-vampires-and-the-undead-3/
LOCATION:HORA – MN – Suite 319\, 75 5th St. W.\, Suite 319\, Saint Paul\, MN\, 55102\, United States
ORGANIZER;CN="Heritage Organization of Romanian Americans":MAILTO:horamn.media@gmail.com
END:VEVENT
BEGIN:VEVENT
DTSTART;TZID=America/Chicago:20251019T130000
DTEND;TZID=America/Chicago:20251019T160000
DTSTAMP:20260421T090913
CREATED:20250715T194551Z
LAST-MODIFIED:20250715T194551Z
UID:9190-1760878800-1760889600@www.landmarkcenter.org
SUMMARY:Woodturning Demonstration
DESCRIPTION:Experience the magic of woodturning with the American Association of Woodturners’ (AAW) free demonstrations held every third Sunday\, 1–4 pm\, at the Gallery of Wood Art. Watch as expert turners from the American Association of Woodturners’ transform blocks of wood into spinning tops and other creative treasures — shavings flying and creativity flowing! This is a family-friendly\, informative\, fun\, and free experience you won’t want to miss!
URL:https://www.landmarkcenter.org/event/woodturning-demonstration-30/
LOCATION:AAW Gallery of Wood Art – Landmark Center\, 75 5th St. W.\, Suite 222\, Saint Paul\, MN\, 55104\, United States
END:VEVENT
END:VCALENDAR