BEGIN:VCALENDAR
VERSION:2.0
PRODID:-// - ECPv6.15.20//NONSGML v1.0//EN
CALSCALE:GREGORIAN
METHOD:PUBLISH
X-ORIGINAL-URL:https://www.landmarkcenter.org
X-WR-CALDESC:Events for 
REFRESH-INTERVAL;VALUE=DURATION:PT1H
X-Robots-Tag:noindex
X-PUBLISHED-TTL:PT1H
BEGIN:VTIMEZONE
TZID:America/Chicago
BEGIN:DAYLIGHT
TZOFFSETFROM:-0600
TZOFFSETTO:-0500
TZNAME:CDT
DTSTART:20240310T080000
END:DAYLIGHT
BEGIN:STANDARD
TZOFFSETFROM:-0500
TZOFFSETTO:-0600
TZNAME:CST
DTSTART:20241103T070000
END:STANDARD
BEGIN:DAYLIGHT
TZOFFSETFROM:-0600
TZOFFSETTO:-0500
TZNAME:CDT
DTSTART:20250309T080000
END:DAYLIGHT
BEGIN:STANDARD
TZOFFSETFROM:-0500
TZOFFSETTO:-0600
TZNAME:CST
DTSTART:20251102T070000
END:STANDARD
BEGIN:DAYLIGHT
TZOFFSETFROM:-0600
TZOFFSETTO:-0500
TZNAME:CDT
DTSTART:20260308T080000
END:DAYLIGHT
BEGIN:STANDARD
TZOFFSETFROM:-0500
TZOFFSETTO:-0600
TZNAME:CST
DTSTART:20261101T070000
END:STANDARD
END:VTIMEZONE
BEGIN:VEVENT
DTSTART;TZID=America/Chicago:20251231T110000
DTEND;TZID=America/Chicago:20251231T234500
DTSTAMP:20260425T191910
CREATED:20251218T162527Z
LAST-MODIFIED:20251218T162527Z
UID:9949-1767178800-1767224700@www.landmarkcenter.org
SUMMARY:Public Building Tour
DESCRIPTION:Because the 2026 World Junior Ice Hockey Championships are happening in downtown St. Paul from December 26th through January 5th\, we are offering daily tours of Landmark Center! Bring your out-of-town guests or take the opportunity to come yourself! \nJoin a Landmark Center volunteer tour guide for a free building tour. Learn about the building’s history\, gangster connections\, and restoration! Building tours are 45 minutes in length\, and no reservation needed. Meet the tour guide at the Visitor Information Desk near the 5th Street and Market Street entrances. \nUpcoming Tour Schedule\nDecember 26th – 11 am\nDecember 27th – 11 am\nDecember 28th – 12:30 pm\nDecember 29th – 11 am\nDecember 30th – 11 am\nDecember 31st – 11 am\nJanuary 1st  – NO TOUR (Building Closed)\nJanuary 2nd – 11 am\nJanuary 3rd- 11 am\nJanuary 4th – NO TOUR\nJanuary 5th – 11 am
URL:https://www.landmarkcenter.org/event/public-building-tour-64/
LOCATION:Landmark Center\, 75 5th St W\, Saint Paul\, MN\, 55102\, United States
END:VEVENT
END:VCALENDAR