BEGIN:VCALENDAR
VERSION:2.0
PRODID:-// - ECPv6.15.20//NONSGML v1.0//EN
CALSCALE:GREGORIAN
METHOD:PUBLISH
X-ORIGINAL-URL:https://www.landmarkcenter.org
X-WR-CALDESC:Events for 
REFRESH-INTERVAL;VALUE=DURATION:PT1H
X-Robots-Tag:noindex
X-PUBLISHED-TTL:PT1H
BEGIN:VTIMEZONE
TZID:America/Chicago
BEGIN:DAYLIGHT
TZOFFSETFROM:-0600
TZOFFSETTO:-0500
TZNAME:CDT
DTSTART:20250309T080000
END:DAYLIGHT
BEGIN:STANDARD
TZOFFSETFROM:-0500
TZOFFSETTO:-0600
TZNAME:CST
DTSTART:20251102T070000
END:STANDARD
BEGIN:DAYLIGHT
TZOFFSETFROM:-0600
TZOFFSETTO:-0500
TZNAME:CDT
DTSTART:20260308T080000
END:DAYLIGHT
BEGIN:STANDARD
TZOFFSETFROM:-0500
TZOFFSETTO:-0600
TZNAME:CST
DTSTART:20261101T070000
END:STANDARD
BEGIN:DAYLIGHT
TZOFFSETFROM:-0600
TZOFFSETTO:-0500
TZNAME:CDT
DTSTART:20270314T080000
END:DAYLIGHT
BEGIN:STANDARD
TZOFFSETFROM:-0500
TZOFFSETTO:-0600
TZNAME:CST
DTSTART:20271107T070000
END:STANDARD
END:VTIMEZONE
BEGIN:VEVENT
DTSTART;TZID=America/Chicago:20260419T120000
DTEND;TZID=America/Chicago:20260419T140000
DTSTAMP:20260421T062424
CREATED:20260416T152757Z
LAST-MODIFIED:20260416T152757Z
UID:10857-1776600000-1776607200@www.landmarkcenter.org
SUMMARY:Red Bird Chapbooks: Soft Cover Pamphlets - SOLD OUT
DESCRIPTION:SOLD OUT\nStudents will complete a 4″x 6″ soft covered pamphlet book with a tuck-tab closure\, along with a stitching guide to keep as a reference for future projects.All materials and tools provided. No experience needed. There is no cost to participate in this workshop; however as space is limited\, if you sign up we do expect you to attend\, or let us know with at least 72 hour notice that you cannot be in attendance. Register here! \nInstructor Bio\nErin Maurelli is a Twin Cities-based artist and educator\, focused on book art instruction through Minnesota Center for Book Art\, MCAD Continuing Education\, and college courses through Augsburg and MCAD. \nThis workshop is supported\, in part\, by the City of Saint Paul Cultural Sales Tax Revitalization Program.
URL:https://www.landmarkcenter.org/event/red-bird-chapbooks-soft-cover-pamphlets-sold-out/
LOCATION:Room 424\, 75 5th Street West\, Saint Paul\, MN\, 55102\, United States
END:VEVENT
BEGIN:VEVENT
DTSTART;TZID=America/Chicago:20260419T123000
DTEND;TZID=America/Chicago:20260419T131500
DTSTAMP:20260421T062424
CREATED:20251222T153436Z
LAST-MODIFIED:20251222T153436Z
UID:9988-1776601800-1776604500@www.landmarkcenter.org
SUMMARY:Public Building Tour
DESCRIPTION:Join a Landmark Center volunteer tour guide for a free building tour. Learn about the building’s history\, gangster connections\, and restoration. Tours are held every Sunday\, walk-ins are welcome and no reservation is needed. \nTours begin at the Information Desk at 12:30 pm and are 45 minutes in length.
URL:https://www.landmarkcenter.org/event/public-building-tour-72/
LOCATION:Landmark Center\, 75 5th St W\, Saint Paul\, MN\, 55102\, United States
END:VEVENT
BEGIN:VEVENT
DTSTART;TZID=America/Chicago:20260419T130000
DTEND;TZID=America/Chicago:20260419T150000
DTSTAMP:20260421T062424
CREATED:20250728T144831Z
LAST-MODIFIED:20260402T162630Z
UID:9368-1776603600-1776610800@www.landmarkcenter.org
SUMMARY:Sundays at Landmark: Skylark Opera Theatre
DESCRIPTION:Enjoy a free performance by Skylark Opera Theatre in the beautiful cortile at Landmark Center! \nThis year\, Skylark Opera presents Broadway Through the Ages: A Celebration of Black Excellence\, a program highlighting the extraordinary contributions of Black artists in American musical theater—from the brilliance of early Black vaudeville to the vibrant voices shaping Broadway today. Settle in for a 75-minute musical journey tracing the legacy of Broadway’s Black creators. Four dynamic vocal artists bring this history to life through a rich mix of solo and ensemble numbers that celebrate innovation\, resilience\, and artistry. \nSkylark Opera Theatre is known for its wide-ranging repertoire of opera and musical theater\, emphasizing strongly balanced musical and theatrical values. The company has presented a unique mix of familiar favorites and new works\, including many productions new to the Twin Cities stage. \nThe Sundays at Landmark series is supported by Ecolab\, Hubbard Broadcasting\, Travelers\, Xcel Energy Foundation\, and Ramsey County.
URL:https://www.landmarkcenter.org/event/sundays-at-landmark-skylark-opera-theatre-2/
LOCATION:Landmark Center\, 75 5th St W\, Saint Paul\, MN\, 55102\, United States
END:VEVENT
BEGIN:VEVENT
DTSTART;TZID=America/Chicago:20260419T130000
DTEND;TZID=America/Chicago:20260419T150000
DTSTAMP:20260421T062424
CREATED:20260205T151117Z
LAST-MODIFIED:20260205T151117Z
UID:10225-1776603600-1776610800@www.landmarkcenter.org
SUMMARY:HORA: Fired Heritage - The Art of Romanian Ceramics
DESCRIPTION:Visit the Romanian American Cultural Center on April 19th and 26th for a program that invites visitors into the vibrant world of Romanian ceramics\, a tradition shaped by centuries of craftsmanship\, regional identity\, and artistic innovation. From the earthy greens of Oboga to the bold motifs of Horezu and the rare three‑color palette of Kuty\, Romanian pottery reflects a living dialogue between land\, community\, and imagination. Each region brings its own visual language — swirling lines\, geometric rhythms\, stylized flora and fauna — all formed through techniques passed down through generations of master potters. \nThis exhibit showcases the diversity of Romania’s ceramic heritage\, highlighting how local clays\, firing methods\, and folk aesthetics give rise to distinct artistic signatures. Visitors will encounter utilitarian vessels transformed into works of art\, ceremonial pieces rich with symbolism\, and contemporary interpretations that honor tradition while embracing modern expression. \nFired Heritage: The Art of Romanian Ceramics celebrates a craft where earth meets fire\, and where everyday objects become enduring cultural storytellers. \nThe Romanian American Cultural Center will be closed on April 5 and 12 in observance of Easter.
URL:https://www.landmarkcenter.org/event/hora-fired-heritage-the-art-of-romanian-ceramics/
LOCATION:HORA – MN – Suite 319\, 75 5th St. W.\, Suite 319\, Saint Paul\, MN\, 55102\, United States
ORGANIZER;CN="Heritage Organization of Romanian Americans":MAILTO:horamn.media@gmail.com
END:VEVENT
BEGIN:VEVENT
DTSTART;TZID=America/Chicago:20260419T130000
DTEND;TZID=America/Chicago:20260419T160000
DTSTAMP:20260421T062424
CREATED:20260224T195521Z
LAST-MODIFIED:20260224T195521Z
UID:10330-1776603600-1776614400@www.landmarkcenter.org
SUMMARY:AAW: Woodturning Demonstration
DESCRIPTION:Experience the magic of woodturning with the American Association of Woodturners’ (AAW) free demonstrations held every third Sunday\, 1–4 pm\, at the Gallery of Wood Art. Watch as expert turners from the American Association of Woodturners’ transform blocks of wood into spinning tops and other creative treasures — shavings flying and creativity flowing! This is a family-friendly\, informative\, fun\, and free experience you won’t want to miss! \n 
URL:https://www.landmarkcenter.org/event/aaw-woodturning-demonstration-2/
LOCATION:AAW Gallery of Wood Art – Landmark Center\, 75 5th St. W.\, Suite 222\, Saint Paul\, MN\, 55104\, United States
END:VEVENT
END:VCALENDAR