BEGIN:VCALENDAR
VERSION:2.0
PRODID:-// - ECPv6.15.20//NONSGML v1.0//EN
CALSCALE:GREGORIAN
METHOD:PUBLISH
X-ORIGINAL-URL:https://www.landmarkcenter.org
X-WR-CALDESC:Events for 
REFRESH-INTERVAL;VALUE=DURATION:PT1H
X-Robots-Tag:noindex
X-PUBLISHED-TTL:PT1H
BEGIN:VTIMEZONE
TZID:America/Chicago
BEGIN:DAYLIGHT
TZOFFSETFROM:-0600
TZOFFSETTO:-0500
TZNAME:CDT
DTSTART:20230312T080000
END:DAYLIGHT
BEGIN:STANDARD
TZOFFSETFROM:-0500
TZOFFSETTO:-0600
TZNAME:CST
DTSTART:20231105T070000
END:STANDARD
BEGIN:DAYLIGHT
TZOFFSETFROM:-0600
TZOFFSETTO:-0500
TZNAME:CDT
DTSTART:20240310T080000
END:DAYLIGHT
BEGIN:STANDARD
TZOFFSETFROM:-0500
TZOFFSETTO:-0600
TZNAME:CST
DTSTART:20241103T070000
END:STANDARD
BEGIN:DAYLIGHT
TZOFFSETFROM:-0600
TZOFFSETTO:-0500
TZNAME:CDT
DTSTART:20250309T080000
END:DAYLIGHT
BEGIN:STANDARD
TZOFFSETFROM:-0500
TZOFFSETTO:-0600
TZNAME:CST
DTSTART:20251102T070000
END:STANDARD
END:VTIMEZONE
BEGIN:VEVENT
DTSTART;TZID=America/Chicago:20241006T193000
DTEND;TZID=America/Chicago:20241006T213000
DTSTAMP:20260423T043957
CREATED:20240724T210357Z
LAST-MODIFIED:20240724T213246Z
UID:7722-1728243000-1728250200@www.landmarkcenter.org
SUMMARY:Landmark Live: Ruth Moody
DESCRIPTION:Ruth Moody is an award-winning singer-songwriter and multi-instrumentalist hailing from Winnipeg\, Manitoba. Her otherworldly soprano voice and her inspired songwriting have gained the admiration of the hearts\, minds\, and ears of millions of listeners. As a solo artist and a founding and current member of The Wailin’ Jennys\, she has garnered two JUNO Awards and performed to rapt audiences in sold-out venues around the globe. Her brand new album\, Wanderer (out May 17th on her own Blue Muse Records)\, is the chronicle of her life’s journey over the last ten years. Wanderer explores the emotional journey of motherhood\, the joy and pain of life\, the mysterious and complicated dance of love\, and ultimately\, the longing we all feel for home\, wherever that might be. \nIndividual concert tickets are $20 in advance/$25 at the door (available on Ticketleap) or $70 for full season tickets\, also available on Ticketleap. (Tickets include admission to the cocktail hour from 6:45-7:30 pm.) \n6:45 pm – Cocktail hour // 7:00 pm – seating opens // 7:30 pm – Concert \nLandmark Center presents “Landmark Live” in the F.K. Weyerhaeuser Auditorium\, presented with support from KFAI Radio and the Pioneer Press. Concerts begin at 7:30 pm and are preceded by a cocktail hour at 6:45 pm\, giving audiences an opportunity to enjoy complimentary refreshments and a cash bar.
URL:https://www.landmarkcenter.org/event/landmark-live-ruth-moody/
LOCATION:F. K. Weyerhaeuser Aud. – Landmark Center\, 75 5th St. W.\, Saint Paul\, MN\, 55102\, United States
CATEGORIES:Concerts
END:VEVENT
BEGIN:VEVENT
DTSTART;TZID=America/Chicago:20241018T193000
DTEND;TZID=America/Chicago:20241018T213000
DTSTAMP:20260423T043957
CREATED:20240724T210651Z
LAST-MODIFIED:20240724T213952Z
UID:7726-1729279800-1729287000@www.landmarkcenter.org
SUMMARY:Landmark Live: Pieta Brown
DESCRIPTION:The daughter of two preacher’s kids\, Pieta Brown’s early upbringing in Iowa was in a rural outpost with no furnace\, running water\, or TV.  There\, she was exposed to traditional and rural folk music through her father\, Greg Brown\, the now beloved Midwestern folk singer.  Continually revealing new layers as both a songwriter and performer\, Pieta is being recognized as one of modern Americana’s true gems. With the release of her most recent album Freeway (September 2019\, Righteous Babe) co-produced by Bon Iver drummer\, S. Carey\, followed by multiple experimental collaborations since with various artists including JT Bates\, S. Carey\, and Howe Gelb & The Colorist Orchestra\, Pieta’s music and artistry continue to rise. \nIndividual concert tickets are $20 in advance/$25 at the door (available on Ticketleap) or $70 for full season tickets\, also available on Ticketleap. (Tickets include admission to the cocktail hour from 6:45-7:30 pm.) \n6:45 pm – Cocktail hour // 7:00 pm – seating opens // 7:30 pm – Concert \nLandmark Center presents “Landmark Live” in the F.K. Weyerhaeuser Auditorium\, presented with support from KFAI Radio and the Pioneer Press. Concerts begin at 7:30 pm and are preceded by a cocktail hour at 6:45 pm\, giving audiences an opportunity to enjoy complimentary refreshments and a cash bar.
URL:https://www.landmarkcenter.org/event/landmark-live-pieta-brown/
LOCATION:F. K. Weyerhaeuser Aud. – Landmark Center\, 75 5th St. W.\, Saint Paul\, MN\, 55102\, United States
CATEGORIES:Concerts
END:VEVENT
BEGIN:VEVENT
DTSTART;TZID=America/Chicago:20241020T130000
DTEND;TZID=America/Chicago:20241020T150000
DTSTAMP:20260423T043957
CREATED:20240802T170926Z
LAST-MODIFIED:20240802T171715Z
UID:7807-1729429200-1729436400@www.landmarkcenter.org
SUMMARY:Sundays at Landmark: Saint Paul Civic Symphony Concert
DESCRIPTION:During the first concert of its season\, the beautiful sounds of the Saint Paul Civic Symphony will fill the Musser Cortile. The Saint Paul Civic Symphony\, founded in 1945\, provides free concerts throughout Saint Paul and the surrounding community. The orchestra is an autonomous\, nonprofit organization made up of volunteers from a variety of backgrounds. \nSundays at Landmark series is supported by Ecolab\, Hubbard Broadcasting\, Travelers\, Xcel Energy Foundation\, and Ramsey County.
URL:https://www.landmarkcenter.org/event/sundays-at-landmark-saint-paul-civic-symphony-concert-2/
LOCATION:Musser Cortile – Landmark Center\, 75 5th St. W.\, Saint Paul\, MN\, 55102\, United States
CATEGORIES:Concerts,Sundays at Landmark
END:VEVENT
END:VCALENDAR