BEGIN:VCALENDAR
VERSION:2.0
PRODID:-// - ECPv6.15.20//NONSGML v1.0//EN
CALSCALE:GREGORIAN
METHOD:PUBLISH
X-ORIGINAL-URL:https://www.landmarkcenter.org
X-WR-CALDESC:Events for 
REFRESH-INTERVAL;VALUE=DURATION:PT1H
X-Robots-Tag:noindex
X-PUBLISHED-TTL:PT1H
BEGIN:VTIMEZONE
TZID:America/Chicago
BEGIN:DAYLIGHT
TZOFFSETFROM:-0600
TZOFFSETTO:-0500
TZNAME:CDT
DTSTART:20230312T080000
END:DAYLIGHT
BEGIN:STANDARD
TZOFFSETFROM:-0500
TZOFFSETTO:-0600
TZNAME:CST
DTSTART:20231105T070000
END:STANDARD
BEGIN:DAYLIGHT
TZOFFSETFROM:-0600
TZOFFSETTO:-0500
TZNAME:CDT
DTSTART:20240310T080000
END:DAYLIGHT
BEGIN:STANDARD
TZOFFSETFROM:-0500
TZOFFSETTO:-0600
TZNAME:CST
DTSTART:20241103T070000
END:STANDARD
BEGIN:DAYLIGHT
TZOFFSETFROM:-0600
TZOFFSETTO:-0500
TZNAME:CDT
DTSTART:20250309T080000
END:DAYLIGHT
BEGIN:STANDARD
TZOFFSETFROM:-0500
TZOFFSETTO:-0600
TZNAME:CST
DTSTART:20251102T070000
END:STANDARD
END:VTIMEZONE
BEGIN:VEVENT
DTSTART;TZID=America/Chicago:20241115T193000
DTEND;TZID=America/Chicago:20241115T213000
DTSTAMP:20260423T144605
CREATED:20240724T211042Z
LAST-MODIFIED:20241106T144012Z
UID:7732-1731699000-1731706200@www.landmarkcenter.org
SUMMARY:Landmark Live: The Foxgloves
DESCRIPTION:The Foxgloves are an all-female band with songs you won’t be able to stop humming. Their engaging presence\, rich instrumentation\, compelling storytelling songwriting\, three-part harmonies\, and creatively reimagined covers render them a force to be reckoned with. This powerful band is making moves you’ll want to witness. A little bit of country\, a little bit of folk\, a little bit of classical\, and a whole lot of heart — your toes will tap of their own accord. \nIndividual concert tickets are $20 in advance/$25 at the door (available on Ticketleap). Tickets include admission to the cocktail hour from 6:45-7:30 pm. \n6:45 pm – Cocktail hour // 7:00 pm – seating opens // 7:30 pm – Concert \nLandmark Center presents “Landmark Live” in the F.K. Weyerhaeuser Auditorium\, presented with support from KFAI Radio and the Pioneer Press. Concerts begin at 7:30 pm and are preceded by a cocktail hour at 6:45 pm\, giving audiences an opportunity to enjoy complimentary refreshments and a cash bar.
URL:https://www.landmarkcenter.org/event/landmark-live-the-foxgloves/
LOCATION:F. K. Weyerhaeuser Aud. – Landmark Center\, 75 5th St. W.\, Saint Paul\, MN\, 55102\, United States
CATEGORIES:Concerts
END:VEVENT
BEGIN:VEVENT
DTSTART;TZID=America/Chicago:20241117T130000
DTEND;TZID=America/Chicago:20241117T150000
DTSTAMP:20260423T144605
CREATED:20240802T185030Z
LAST-MODIFIED:20240802T200220Z
UID:7843-1731848400-1731855600@www.landmarkcenter.org
SUMMARY:Sundays at Landmark: Minnesota Mandolin Orchestra
DESCRIPTION:Enjoy the music of this old-world string instrument in a concert of pops\, classical and more. The Minnesota Mandolin Orchestra is a community orchestra formed in 1991 to preserve and foster the enjoyment of mandolin music. They have about 30 musicians\, playing mandolin\, mandola\, mandocello\, guitar\, and bass. Their repertoire includes old and new compositions for mandolin ensembles\, transcriptions of classical music\, and arrangements of popular tunes. \nSundays at Landmark series is supported by Ecolab\, Hubbard Broadcasting\, Travelers\, Xcel Energy Foundation\, and Ramsey County.
URL:https://www.landmarkcenter.org/event/sundays-at-landmark-minnesota-mandolin-orchestra-4/
LOCATION:Musser Cortile – Landmark Center\, 75 5th St. W.\, Saint Paul\, MN\, 55102\, United States
CATEGORIES:Concerts,Sundays at Landmark
END:VEVENT
END:VCALENDAR