BEGIN:VCALENDAR
VERSION:2.0
PRODID:-// - ECPv6.15.20//NONSGML v1.0//EN
CALSCALE:GREGORIAN
METHOD:PUBLISH
X-ORIGINAL-URL:https://www.landmarkcenter.org
X-WR-CALDESC:Events for 
REFRESH-INTERVAL;VALUE=DURATION:PT1H
X-Robots-Tag:noindex
X-PUBLISHED-TTL:PT1H
BEGIN:VTIMEZONE
TZID:America/Chicago
BEGIN:DAYLIGHT
TZOFFSETFROM:-0600
TZOFFSETTO:-0500
TZNAME:CDT
DTSTART:20230312T080000
END:DAYLIGHT
BEGIN:STANDARD
TZOFFSETFROM:-0500
TZOFFSETTO:-0600
TZNAME:CST
DTSTART:20231105T070000
END:STANDARD
BEGIN:DAYLIGHT
TZOFFSETFROM:-0600
TZOFFSETTO:-0500
TZNAME:CDT
DTSTART:20240310T080000
END:DAYLIGHT
BEGIN:STANDARD
TZOFFSETFROM:-0500
TZOFFSETTO:-0600
TZNAME:CST
DTSTART:20241103T070000
END:STANDARD
BEGIN:DAYLIGHT
TZOFFSETFROM:-0600
TZOFFSETTO:-0500
TZNAME:CDT
DTSTART:20250309T080000
END:DAYLIGHT
BEGIN:STANDARD
TZOFFSETFROM:-0500
TZOFFSETTO:-0600
TZNAME:CST
DTSTART:20251102T070000
END:STANDARD
END:VTIMEZONE
BEGIN:VEVENT
DTSTART;TZID=America/Chicago:20241020T130000
DTEND;TZID=America/Chicago:20241020T150000
DTSTAMP:20260425T090810
CREATED:20240802T170926Z
LAST-MODIFIED:20240802T171715Z
UID:7807-1729429200-1729436400@www.landmarkcenter.org
SUMMARY:Sundays at Landmark: Saint Paul Civic Symphony Concert
DESCRIPTION:During the first concert of its season\, the beautiful sounds of the Saint Paul Civic Symphony will fill the Musser Cortile. The Saint Paul Civic Symphony\, founded in 1945\, provides free concerts throughout Saint Paul and the surrounding community. The orchestra is an autonomous\, nonprofit organization made up of volunteers from a variety of backgrounds. \nSundays at Landmark series is supported by Ecolab\, Hubbard Broadcasting\, Travelers\, Xcel Energy Foundation\, and Ramsey County.
URL:https://www.landmarkcenter.org/event/sundays-at-landmark-saint-paul-civic-symphony-concert-2/
LOCATION:Musser Cortile – Landmark Center\, 75 5th St. W.\, Saint Paul\, MN\, 55102\, United States
CATEGORIES:Concerts,Sundays at Landmark
END:VEVENT
END:VCALENDAR