BEGIN:VCALENDAR
VERSION:2.0
PRODID:-// - ECPv6.15.20//NONSGML v1.0//EN
CALSCALE:GREGORIAN
METHOD:PUBLISH
X-ORIGINAL-URL:https://www.landmarkcenter.org
X-WR-CALDESC:Events for 
REFRESH-INTERVAL;VALUE=DURATION:PT1H
X-Robots-Tag:noindex
X-PUBLISHED-TTL:PT1H
BEGIN:VTIMEZONE
TZID:America/Chicago
BEGIN:DAYLIGHT
TZOFFSETFROM:-0600
TZOFFSETTO:-0500
TZNAME:CDT
DTSTART:20180311T080000
END:DAYLIGHT
BEGIN:STANDARD
TZOFFSETFROM:-0500
TZOFFSETTO:-0600
TZNAME:CST
DTSTART:20181104T070000
END:STANDARD
BEGIN:DAYLIGHT
TZOFFSETFROM:-0600
TZOFFSETTO:-0500
TZNAME:CDT
DTSTART:20190310T080000
END:DAYLIGHT
BEGIN:STANDARD
TZOFFSETFROM:-0500
TZOFFSETTO:-0600
TZNAME:CST
DTSTART:20191103T070000
END:STANDARD
BEGIN:DAYLIGHT
TZOFFSETFROM:-0600
TZOFFSETTO:-0500
TZNAME:CDT
DTSTART:20200308T080000
END:DAYLIGHT
BEGIN:STANDARD
TZOFFSETFROM:-0500
TZOFFSETTO:-0600
TZNAME:CST
DTSTART:20201101T070000
END:STANDARD
BEGIN:DAYLIGHT
TZOFFSETFROM:-0600
TZOFFSETTO:-0500
TZNAME:CDT
DTSTART:20210314T080000
END:DAYLIGHT
BEGIN:STANDARD
TZOFFSETFROM:-0500
TZOFFSETTO:-0600
TZNAME:CST
DTSTART:20211107T070000
END:STANDARD
END:VTIMEZONE
BEGIN:VEVENT
DTSTART;TZID=America/Chicago:20200917T170000
DTEND;TZID=America/Chicago:20200917T171500
DTSTAMP:20260422T053914
CREATED:20200911T205838Z
LAST-MODIFIED:20200914T143539Z
UID:2943-1600362000-1600362900@www.landmarkcenter.org
SUMMARY:Bach Society Micro-Concert - Adrianna O'Brien
DESCRIPTION:Landmark Center is partnering with The Bach Society to co-host a week of free “micro-concerts\,” September 14-19\, on the Market Street entry porch. Solo musicians will perform 15-minute concerts\, one performer per concert.
URL:https://www.landmarkcenter.org/event/bach-society-micro-concert-adrianna-obrien/
LOCATION:Market Street Porch\, 75 5th St. W\, St. Paul\, MN\, 55102\, United States
CATEGORIES:Concerts
END:VEVENT
BEGIN:VEVENT
DTSTART;TZID=America/Chicago:20200916T193000
DTEND;TZID=America/Chicago:20200916T194500
DTSTAMP:20260422T053914
CREATED:20200911T205605Z
LAST-MODIFIED:20200914T143442Z
UID:2941-1600284600-1600285500@www.landmarkcenter.org
SUMMARY:Bach Society Micro-Concert - Gary Rauschman
DESCRIPTION:Landmark Center is partnering with The Bach Society to co-host a week of free “micro-concerts\,” September 14-19\, on the Market Street entry porch. Solo musicians will perform 15-minute concerts\, one performer per concert.
URL:https://www.landmarkcenter.org/event/bach-society-micro-concert-gary-rauschman/
LOCATION:Market Street Porch\, 75 5th St. W\, St. Paul\, MN\, 55102\, United States
CATEGORIES:Concerts
END:VEVENT
BEGIN:VEVENT
DTSTART;TZID=America/Chicago:20200915T191500
DTEND;TZID=America/Chicago:20200915T193000
DTSTAMP:20260422T053914
CREATED:20200911T205342Z
LAST-MODIFIED:20200914T143342Z
UID:2939-1600197300-1600198200@www.landmarkcenter.org
SUMMARY:Bach Society Micro-Concert - Margaret Humphrey
DESCRIPTION:Landmark Center is partnering with The Bach Society to co-host a week of free “micro-concerts\,” September 14-19\, on the Market Street entry porch. Solo musicians will perform 15-minute concerts\, one performer per concert.
URL:https://www.landmarkcenter.org/event/bach-society-micro-concert-margaret-humphrey/
LOCATION:Market Street Porch\, 75 5th St. W\, St. Paul\, MN\, 55102\, United States
CATEGORIES:Concerts
END:VEVENT
BEGIN:VEVENT
DTSTART;TZID=America/Chicago:20200914T190000
DTEND;TZID=America/Chicago:20200914T191500
DTSTAMP:20260422T053914
CREATED:20200911T205034Z
LAST-MODIFIED:20200914T143249Z
UID:2937-1600110000-1600110900@www.landmarkcenter.org
SUMMARY:Bach Society Micro-Concert - Marco Real-D'Arbelles
DESCRIPTION:Landmark Center is partnering with The Bach Society to co-host a week of free “micro-concerts\,” September 14-19\, on the Market Street entry porch. Solo musicians will perform 15-minute concerts\, one performer per concert.
URL:https://www.landmarkcenter.org/event/bach-society-micro-concert-marco-real-darbelles/
LOCATION:Market Street Porch\, 75 5th St. W\, St. Paul\, MN\, 55102\, United States
CATEGORIES:Concerts
END:VEVENT
BEGIN:VEVENT
DTSTART;TZID=America/Chicago:20200914T170000
DTEND;TZID=America/Chicago:20200914T171500
DTSTAMP:20260422T053914
CREATED:20200911T203523Z
LAST-MODIFIED:20200914T143143Z
UID:2933-1600102800-1600103700@www.landmarkcenter.org
SUMMARY:Bach Society Micro-Concert - Rebecca Merblum
DESCRIPTION:Landmark Center is partnering with The Bach Society to co-host a week of free “micro-concerts\,” September 14-19\, on the Market Street entry porch. Solo musicians will perform 15-minute concerts\, one performer per concert.
URL:https://www.landmarkcenter.org/event/bach-society-micro-concert-rebecca-merblum/
LOCATION:Market Street Porch\, 75 5th St. W\, St. Paul\, MN\, 55102\, United States
CATEGORIES:Concerts
END:VEVENT
BEGIN:VEVENT
DTSTART;TZID=America/Chicago:20200826T120000
DTEND;TZID=America/Chicago:20200826T130000
DTSTAMP:20260422T053914
CREATED:20200713T201206Z
LAST-MODIFIED:20200713T201206Z
UID:2576-1598443200-1598446800@www.landmarkcenter.org
SUMMARY:Music From the Porch: Martin Devaney
DESCRIPTION:
URL:https://www.landmarkcenter.org/event/music-from-the-porch-martin-devaney/
LOCATION:Landmark Center\, 75 5th St W\, Saint Paul\, MN\, 55102\, United States
CATEGORIES:Concerts
ATTACH;FMTTYPE=image/jpeg:https://www.landmarkcenter.org/wp-content/uploads/2020/07/Martin_Devaney-cropped-1.jpg
END:VEVENT
BEGIN:VEVENT
DTSTART;TZID=America/Chicago:20200819T120000
DTEND;TZID=America/Chicago:20200819T130000
DTSTAMP:20260422T053914
CREATED:20200713T200655Z
LAST-MODIFIED:20200713T200655Z
UID:2574-1597838400-1597842000@www.landmarkcenter.org
SUMMARY:Music From the Porch: Dan Newton "Daddy Squeeze"
DESCRIPTION:
URL:https://www.landmarkcenter.org/event/music-from-the-porch-dan-newton-daddy-squeeze/
LOCATION:Landmark Center\, 75 5th St W\, Saint Paul\, MN\, 55102\, United States
CATEGORIES:Concerts
ATTACH;FMTTYPE=image/jpeg:https://www.landmarkcenter.org/wp-content/uploads/2020/07/Dan-Newton-1.jpg
END:VEVENT
BEGIN:VEVENT
DTSTART;TZID=America/Chicago:20200812T120000
DTEND;TZID=America/Chicago:20200812T130000
DTSTAMP:20260422T053914
CREATED:20200713T200523Z
LAST-MODIFIED:20200713T200523Z
UID:2572-1597233600-1597237200@www.landmarkcenter.org
SUMMARY:Music From the Porch: Kashimana
DESCRIPTION:
URL:https://www.landmarkcenter.org/event/music-from-the-porch-kashimana/
LOCATION:Landmark Center\, 75 5th St W\, Saint Paul\, MN\, 55102\, United States
CATEGORIES:Concerts
ATTACH;FMTTYPE=image/jpeg:https://www.landmarkcenter.org/wp-content/uploads/2020/07/Kashimana-1-1.jpg
END:VEVENT
BEGIN:VEVENT
DTSTART;TZID=America/Chicago:20200805T120000
DTEND;TZID=America/Chicago:20200805T130000
DTSTAMP:20260422T053914
CREATED:20200713T200313Z
LAST-MODIFIED:20200730T163534Z
UID:2570-1596628800-1596632400@www.landmarkcenter.org
SUMMARY:Music From the Porch: Joey Ryan
DESCRIPTION:
URL:https://www.landmarkcenter.org/event/music-from-the-porch-joey-ryan/
LOCATION:Landmark Center\, 75 5th St W\, Saint Paul\, MN\, 55102\, United States
CATEGORIES:Concerts
END:VEVENT
BEGIN:VEVENT
DTSTART;TZID=America/Chicago:20200510T130000
DTEND;TZID=America/Chicago:20200510T150000
DTSTAMP:20260422T053914
CREATED:20191107T160430Z
LAST-MODIFIED:20200510T160419Z
UID:1671-1589115600-1589122800@www.landmarkcenter.org
SUMMARY:Virtual - Sundays at Landmark - St. Paul Civic Symphony "Concert"
DESCRIPTION:The 33rd annual Mother’s Day concert has been canceled\, but Landmark Center will share previously recorded clips from past concerts the public can enjoy from the comfort of their homes. It’s still the perfect way to spend the day with the mothers in your life. Seats are unlimited\, so share with everyone you love! \nPreviously recorded excerpts  \n 
URL:https://www.landmarkcenter.org/event/sundays-at-landmark-st-paul-civic-symphony-concert/
LOCATION:Landmark Center\, 75 5th St W\, Saint Paul\, MN\, 55102\, United States
CATEGORIES:Concerts,Sundays at Landmark
END:VEVENT
BEGIN:VEVENT
DTSTART;TZID=America/Chicago:20200430T120000
DTEND;TZID=America/Chicago:20200430T130000
DTSTAMP:20260422T053914
CREATED:20191106T213339Z
LAST-MODIFIED:20200401T192744Z
UID:1651-1588248000-1588251600@www.landmarkcenter.org
SUMMARY:CANCELED - Schubert Club Courtroom Concert
DESCRIPTION:Featuring Quince Ensemble \nSeating is limited and first come first served. Doors open at 11:30. Please call if you are attending as a group of 10 or more (651.292.3267).
URL:https://www.landmarkcenter.org/event/schubert-club-courtroom-concert-39/
LOCATION:Courtroom 317 – Landmark Center\, 75 5th St. W.\, Saint Paul\, MN\, 55102\, United States
CATEGORIES:Concerts
END:VEVENT
BEGIN:VEVENT
DTSTART;TZID=America/Chicago:20200426T120000
DTEND;TZID=America/Chicago:20200426T180000
DTSTAMP:20260422T053914
CREATED:20191107T155619Z
LAST-MODIFIED:20200325T135801Z
UID:1667-1587902400-1587924000@www.landmarkcenter.org
SUMMARY:POSTPONED: Sundays at Landmark - BandWidth Community Band Festival
DESCRIPTION:Enjoy an afternoon listening to marches\, pop\, Broadway\, and jazz music performed by some of the top volunteer-based bands in Minnesota. \nScheduled groups: \nBrio Brass\nCapital City Wind Ensemble\nFridley City Band\nNortheast Community Band\nSaint Louis Park Community Band\nLex-Ham Community Band
URL:https://www.landmarkcenter.org/event/sundays-at-landmark-bandwidth-community-band-festival/
LOCATION:Musser Cortile – Landmark Center\, 75 5th St. W.\, Saint Paul\, MN\, 55102\, United States
CATEGORIES:Concerts,Sundays at Landmark
END:VEVENT
BEGIN:VEVENT
DTSTART;TZID=America/Chicago:20200423T120000
DTEND;TZID=America/Chicago:20200423T130000
DTSTAMP:20260422T053914
CREATED:20191106T213136Z
LAST-MODIFIED:20200401T192642Z
UID:1649-1587643200-1587646800@www.landmarkcenter.org
SUMMARY:CANCELED - Schubert Club Courtroom Concert
DESCRIPTION:Featuring Regina Stroncek\, soprano \nSeating is limited and first come first served. Doors open at 11:30. Please call if you are attending as a group of 10 or more (651.292.3267).
URL:https://www.landmarkcenter.org/event/schubert-club-courtroom-concert-38/
LOCATION:Courtroom 317 – Landmark Center\, 75 5th St. W.\, Saint Paul\, MN\, 55102\, United States
CATEGORIES:Concerts
END:VEVENT
BEGIN:VEVENT
DTSTART;TZID=America/Chicago:20200416T120000
DTEND;TZID=America/Chicago:20200416T130000
DTSTAMP:20260422T053914
CREATED:20191106T212938Z
LAST-MODIFIED:20200401T192309Z
UID:1647-1587038400-1587042000@www.landmarkcenter.org
SUMMARY:CANCELED - Schubert Club Courtroom Concert
DESCRIPTION:Featuring deVon Gray\, Schubert Club Composer in Residence \nSeating is limited and first come first served. Doors open at 11:30. Please call if you are attending as a group of 10 or more (651.292.3267).
URL:https://www.landmarkcenter.org/event/schubert-club-courtroom-concert-37/
LOCATION:Courtroom 317 – Landmark Center\, 75 5th St. W.\, Saint Paul\, MN\, 55102\, United States
CATEGORIES:Concerts
END:VEVENT
BEGIN:VEVENT
DTSTART;TZID=America/Chicago:20200409T120000
DTEND;TZID=America/Chicago:20200409T130000
DTSTAMP:20260422T053914
CREATED:20191106T211016Z
LAST-MODIFIED:20200401T192428Z
UID:1642-1586433600-1586437200@www.landmarkcenter.org
SUMMARY:Schubert Club Courtroom Concert - CANCELED
DESCRIPTION:Featuring Randall Scarlata\, baritone and Nikki Melville\, piano \nSeating is limited and first come first served. Doors open at 11:30. Please call if you are attending as a group of 10 or more (651.292.3267).
URL:https://www.landmarkcenter.org/event/schubert-club-courtroom-concert-35/
LOCATION:Courtroom 317 – Landmark Center\, 75 5th St. W.\, Saint Paul\, MN\, 55102\, United States
CATEGORIES:Concerts
END:VEVENT
BEGIN:VEVENT
DTSTART;TZID=America/Chicago:20200326T130000
DTEND;TZID=America/Chicago:20200326T140000
DTSTAMP:20260422T053914
CREATED:20191106T210450Z
LAST-MODIFIED:20200313T205415Z
UID:1638-1585227600-1585231200@www.landmarkcenter.org
SUMMARY:Schubert Club Courtroom Concert - CANCELLED
DESCRIPTION:Featuring William Howard\, piano \nSeating is limited and first come first served. Doors open at 11:30. Please call if you are attending as a group of 10 or more (651.292.3267).
URL:https://www.landmarkcenter.org/event/schubert-club-courtroom-concert-33/
LOCATION:Courtroom 317 – Landmark Center\, 75 5th St. W.\, Saint Paul\, MN\, 55102\, United States
CATEGORIES:Concerts
END:VEVENT
BEGIN:VEVENT
DTSTART;TZID=America/Chicago:20200319T120000
DTEND;TZID=America/Chicago:20200319T130000
DTSTAMP:20260422T053914
CREATED:20191106T210216Z
LAST-MODIFIED:20200313T205015Z
UID:1636-1584619200-1584622800@www.landmarkcenter.org
SUMMARY:Schubert Club Courtroom Concert - CANCELLED
DESCRIPTION:Featuring Duo Ihana – Jesse Nummelin\, cello\, Rie Tanaka\, piano \nSeating is limited and first come first served. Doors open at 11:30. Please call if you are attending as a group of 10 or more (651.292.3267).
URL:https://www.landmarkcenter.org/event/1636/
LOCATION:Courtroom 317 – Landmark Center\, 75 5th St. W.\, Saint Paul\, MN\, 55102\, United States
CATEGORIES:Concerts
END:VEVENT
BEGIN:VEVENT
DTSTART;TZID=America/Chicago:20200312T120000
DTEND;TZID=America/Chicago:20200312T130000
DTSTAMP:20260422T053914
CREATED:20191106T210003Z
LAST-MODIFIED:20191106T210003Z
UID:1634-1584014400-1584018000@www.landmarkcenter.org
SUMMARY:Schubert Club Courtroom Concert
DESCRIPTION:Featuring Artu Duo – Ruth Marshall\, cello\, Garret Ross\, piano \nSeating is limited and first come first served. Doors open at 11:30. Please call if you are attending as a group of 10 or more (651.292.3267).
URL:https://www.landmarkcenter.org/event/schubert-club-courtroom-concert-32/
LOCATION:Courtroom 317 – Landmark Center\, 75 5th St. W.\, Saint Paul\, MN\, 55102\, United States
CATEGORIES:Concerts
END:VEVENT
BEGIN:VEVENT
DTSTART;TZID=America/Chicago:20200305T120000
DTEND;TZID=America/Chicago:20200305T130000
DTSTAMP:20260422T053914
CREATED:20191106T212620Z
LAST-MODIFIED:20191106T212620Z
UID:1645-1583409600-1583413200@www.landmarkcenter.org
SUMMARY:Schubert Club Courtroom Concert
DESCRIPTION:Featuring Border CrosSing – Ahmed Anzaldúa\, director \nSeating is limited and first come first served. Doors open at 11:30. Please call if you are attending as a group of 10 or more (651.292.3267).
URL:https://www.landmarkcenter.org/event/schubert-club-courtroom-concert-36/
LOCATION:Courtroom 317 – Landmark Center\, 75 5th St. W.\, Saint Paul\, MN\, 55102\, United States
CATEGORIES:Concerts
END:VEVENT
BEGIN:VEVENT
DTSTART;TZID=America/Chicago:20200227T120000
DTEND;TZID=America/Chicago:20200227T130000
DTSTAMP:20260422T053914
CREATED:20191106T205118Z
LAST-MODIFIED:20191106T205118Z
UID:1630-1582804800-1582808400@www.landmarkcenter.org
SUMMARY:Schubert Club Courtroom Concert
DESCRIPTION:Featuring Cléa Galhano\, recorder\, and Rene Izquidero\, guitar \nSeating is limited and first come first served. Doors open at 11:30. Please call if you are attending as a group of 10 or more (651.292.3267).
URL:https://www.landmarkcenter.org/event/schubert-club-courtroom-concert-30/
LOCATION:Courtroom 317 – Landmark Center\, 75 5th St. W.\, Saint Paul\, MN\, 55102\, United States
CATEGORIES:Concerts
END:VEVENT
BEGIN:VEVENT
DTSTART;TZID=America/Chicago:20200220T120000
DTEND;TZID=America/Chicago:20200220T130000
DTSTAMP:20260422T053914
CREATED:20191106T204825Z
LAST-MODIFIED:20191106T204825Z
UID:1628-1582200000-1582203600@www.landmarkcenter.org
SUMMARY:Schubert Club Courtroom Concert
DESCRIPTION:Featuring I. Matthew Williams\, viola; Barbara Leibundguth\, flute; Andrea Stern\, harp II. Ora Itkin\, piano \nPROGRAM\nSonata for Flute\, Viola and Harp – Claude Debussy\nPastorale. Lento\, dolce rubato\nInterlude. Tempo di minuetto\nFinal. Allegro moderato ma risoluto \nSeating is limited and first come first served. Doors open at 11:30. Please call if you are attending as a group of 10 or more (651.292.3267).
URL:https://www.landmarkcenter.org/event/schubert-club-courtroom-concert-29/
LOCATION:Courtroom 317 – Landmark Center\, 75 5th St. W.\, Saint Paul\, MN\, 55102\, United States
CATEGORIES:Concerts
END:VEVENT
BEGIN:VEVENT
DTSTART;TZID=America/Chicago:20200213T120000
DTEND;TZID=America/Chicago:20200213T130000
DTSTAMP:20260422T053914
CREATED:20191106T204522Z
LAST-MODIFIED:20191106T204522Z
UID:1626-1581595200-1581598800@www.landmarkcenter.org
SUMMARY:Schubert Club Courtroom Concert
DESCRIPTION:Featuring PaviElle French \nSeating is limited and first come first served. Doors open at 11:30. Please call if you are attending as a group of 10 or more (651.292.3267).
URL:https://www.landmarkcenter.org/event/schubert-club-courtroom-concert-28/
LOCATION:Courtroom 317 – Landmark Center\, 75 5th St. W.\, Saint Paul\, MN\, 55102\, United States
CATEGORIES:Concerts
END:VEVENT
BEGIN:VEVENT
DTSTART;TZID=America/Chicago:20200206T120000
DTEND;TZID=America/Chicago:20200206T130000
DTSTAMP:20260422T053914
CREATED:20191106T204148Z
LAST-MODIFIED:20191106T204148Z
UID:1624-1580990400-1580994000@www.landmarkcenter.org
SUMMARY:Schubert Club Courtroom Concert
DESCRIPTION:Featuring the Music of Michael Maiorana \nPROGRAM\nPillars of Air and Light (world premiere)\nI. Forest I\nII. Baum\nIII. Bos\nIV. Bomen\nV. Forest II \nBoil it Down!\nThe Call of Spring\nPollen\nUntitled Work (world premiere) \nSeating is limited and first come first served. Doors open at 11:30. Please call if you are attending as a group of 10 or more (651.292.3267).
URL:https://www.landmarkcenter.org/event/schubert-club-courtroom-concert-27/
LOCATION:Courtroom 317 – Landmark Center\, 75 5th St. W.\, Saint Paul\, MN\, 55102\, United States
CATEGORIES:Concerts
END:VEVENT
BEGIN:VEVENT
DTSTART;TZID=America/Chicago:20200123T120000
DTEND;TZID=America/Chicago:20200123T130000
DTSTAMP:20260422T053914
CREATED:20191106T202104Z
LAST-MODIFIED:20191106T202104Z
UID:1621-1579780800-1579784400@www.landmarkcenter.org
SUMMARY:Schubert Club Courtroom Concert
DESCRIPTION:Featuring I. Christopher Atzinger\, piano II. Merilee Klemp\, oboe; Laurie Merz\, bassoon; Mimi Tung\, piano \nSeating is limited and first come first served. Doors open at 11:30. Please call if you are attending as a group of 10 or more (651.292.3267).
URL:https://www.landmarkcenter.org/event/schubert-club-courtroom-concert-26/
LOCATION:Courtroom 317 – Landmark Center\, 75 5th St. W.\, Saint Paul\, MN\, 55102\, United States
CATEGORIES:Concerts
END:VEVENT
BEGIN:VEVENT
DTSTART;TZID=America/Chicago:20200116T120000
DTEND;TZID=America/Chicago:20200116T130000
DTSTAMP:20260422T053914
CREATED:20191106T180135Z
LAST-MODIFIED:20191106T180135Z
UID:1619-1579176000-1579179600@www.landmarkcenter.org
SUMMARY:Schubert Club Courtroom Concert
DESCRIPTION:Featuring Artaria String Quartet \nPROGRAM\nString Quartet No. 6 in B-flat major\, Op. 18\, No. 6 – Ludwig van Beethoven\nAllegro con brio\nAdagio ma non troppo\nScherzo: Allegro\nLa Malinconia: Adagio – Allegretto quasi Allegro \nString Quartet No. 16 in F major\, Op. 135 – Beethoven\nAllegretto\nVivace\nLento assai\, cantante e tranquillo\nDer schwer gefaßte Entschluß. Grave\, ma non troppo tratto (Muss es sein?) – Allegro (Es muss sein!) – Grave\, ma non troppo tratto – Allegro (F minor – F major) \nSeating is limited and first come first served. Doors open at 11:30. Please call if you are attending as a group of 10 or more (651.292.3267).
URL:https://www.landmarkcenter.org/event/schubert-club-courtroom-concert-25/
LOCATION:Courtroom 317 – Landmark Center\, 75 5th St. W.\, Saint Paul\, MN\, 55102\, United States
CATEGORIES:Concerts
END:VEVENT
BEGIN:VEVENT
DTSTART;TZID=America/Chicago:20200109T120000
DTEND;TZID=America/Chicago:20200109T130000
DTSTAMP:20260422T053914
CREATED:20191106T175815Z
LAST-MODIFIED:20191106T201752Z
UID:1617-1578571200-1578574800@www.landmarkcenter.org
SUMMARY:Schubert Club Courtroom Concert
DESCRIPTION:Featuring Julia and Irina Elkina \nPROGRAM\nConcertino for Two Pianos Op. 94 – Dmitri Shostakovich\nThe “Gogol Suite” – Alfred Schnittke\nI. Overture. Allegro\nII. Chichikov’s Childhood. Andantino\nIII. The Portrait. Slow Valse\nIV. The Cloak. Andante-Accelerando\nV. The Bureaucrats. Allegro\nVI. The Ball. In Tempo Di Valse\nVII. The Legacy. Pesante\nRecreations – William Bolcom\nThree Latin-American Dances for Two Pianos – William Bolcom\nI. Choro (Homage to Nathareth)\nII. Paseo\nIII. Valse Venezolano\nVariations on a Theme by Paganini for Two Pianos – Witold Lutosławski \nSeating is limited and first come first served. Doors open at 11:30. Please call if you are attending as a group of 10 or more (651.292.3267).
URL:https://www.landmarkcenter.org/event/schubert-club-courtroom-concert-24/
LOCATION:Courtroom 317 – Landmark Center\, 75 5th St. W.\, Saint Paul\, MN\, 55102\, United States
CATEGORIES:Concerts
END:VEVENT
BEGIN:VEVENT
DTSTART;TZID=America/Chicago:20191220T190000
DTEND;TZID=America/Chicago:20191220T220000
DTSTAMP:20260422T053914
CREATED:20190724T170520Z
LAST-MODIFIED:20191018T161731Z
UID:1263-1576868400-1576879200@www.landmarkcenter.org
SUMMARY:Landmark LIVE: Carrie Elkin with special guest John Hermanson of Storyhill
DESCRIPTION:Carrie Elkin is one of those rare artists with a tidal wave singing voice\, and a stage whisper writing voice that brings you to the edge of your seat\, emotionally. Like Patty Griffin or Brandi Carlile\, she straddles the Americana\, Folk\, and Indie Rock worlds\, where meaningful songs meet the fierce-yet- fragile voices of powerful women. Like these other seminal artists\, Elkin has the gift of projecting very personal intimate moments into transcendent universal experiences that move us all. \nThe voice\, the stories\, the images\, the grace and infectious enthusiasm\, it’s a complete package. But it’s the power of her live performances that really have been creating an incredible buzz around this young artist. \nLandmark Center presents “Landmark LIVE” in the F.K. Weyerhaeuser Auditorium. Presented with support from the Minnesota Music Coalition\, KFAI Radio\, and the Pioneer Press these concerts begin at 8 pm and are preceded by a cocktail hour at 7 pm\, giving audiences an opportunity to enjoy complimentary refreshments and a cash bar. \nTickets are $20 in advance/$25 at the door and $70 for full season tickets. Tickets include admission to the cocktail hour from 7-8 pm. \nTICKETS \n7pm – Cocktail hour // 7:30 pm – seating opens // 8 pm – Concert
URL:https://www.landmarkcenter.org/event/landmark-live-carrie-elkin/
LOCATION:F. K. Weyerhaeuser Aud. – Landmark Center\, 75 5th St. W.\, Saint Paul\, MN\, 55102\, United States
CATEGORIES:Concerts
END:VEVENT
BEGIN:VEVENT
DTSTART;TZID=America/Chicago:20191219T120000
DTEND;TZID=America/Chicago:20191219T130000
DTSTAMP:20260422T053914
CREATED:20191010T162850Z
LAST-MODIFIED:20191010T162850Z
UID:1514-1576756800-1576760400@www.landmarkcenter.org
SUMMARY:Schubert Club Courtroom Concert
DESCRIPTION:FREE Courtroom Concert featuring Songs of the Season: Carols by Minnesota Composers \nSeating is limited and first come first served. Doors open at 11:30. Please call if you are attending as a group of 10 or more (651.292.3267).
URL:https://www.landmarkcenter.org/event/schubert-club-courtroom-concert-23/
LOCATION:Courtroom 317 – Landmark Center\, 75 5th St. W.\, Saint Paul\, MN\, 55102\, United States
CATEGORIES:Concerts
END:VEVENT
BEGIN:VEVENT
DTSTART;TZID=America/Chicago:20191218T110000
DTEND;TZID=America/Chicago:20191218T120000
DTSTAMP:20260422T053914
CREATED:20191205T182211Z
LAST-MODIFIED:20191216T190435Z
UID:1716-1576666800-1576670400@www.landmarkcenter.org
SUMMARY:Travelers Chorale Holiday Concert
DESCRIPTION:Spend your lunch hour enjoying holiday favorites sung by the gorgeous voices of this incredible chorale.
URL:https://www.landmarkcenter.org/event/travelers-chorale-holiday-concert/
LOCATION:Musser Cortile – Landmark Center\, 75 5th St. W.\, Saint Paul\, MN\, 55102\, United States
CATEGORIES:Concerts
END:VEVENT
BEGIN:VEVENT
DTSTART;TZID=America/Chicago:20191217T193000
DTEND;TZID=America/Chicago:20191217T213000
DTSTAMP:20260422T053914
CREATED:20191106T174959Z
LAST-MODIFIED:20191204T161717Z
UID:1612-1576611000-1576618200@www.landmarkcenter.org
SUMMARY:CANCELLED - An Andy and Bing Christmas
DESCRIPTION:This event has been CANCELLED by the producers \nAN ANDY AND BING CHRISTMAS – The most ambitious of all of the Mick Sterling Presents shows was debuted in 2015 to rave reviews from a clearly moved packed house. \nThis shows lead vocals are handled by former U of M Gopher and Super Bowl Champion Ben Utecht and Minnesota Music Hall of Fame and Midwest Music Hall of Fame inductee\, Mick Sterling. Songs such as “The Most Wonderful Time of the Year\,” “Santa Claus is Coming to Town\,” “White Christmas\,” “It’s Beginning to Look a lot Like Christmas\,” “Christmas in Kilarney\,” and all of those great songs are delivered in such a beautiful and remarkable way. \nAN ANDY AND BING CHRISTMAS faithfully celebrates and re-creates the perfect Christmas albums of Andy Williams and Bing Crosby with a one of a kind 19-piece band that features the vocal talents of Cate Fierro\, Mary Jane Alm\, Aimee Lee\, Shalo Lee and Elisa Wright with the violin virtuosity of Cierra Hill and Becky Gaunt\, the grand percussion of Erik Schee\, a four piece horn section led by Jim Hann and a sophisticated and precise rhythm section. \nIt’s a great way to celebrate the holiday season with the whole family! \nTickets
URL:https://www.landmarkcenter.org/event/an-andy-and-bing-christmas/
LOCATION:Musser Cortile – Landmark Center\, 75 5th St. W.\, Saint Paul\, MN\, 55102\, United States
CATEGORIES:Concerts,Theater
END:VEVENT
END:VCALENDAR