BEGIN:VCALENDAR
VERSION:2.0
PRODID:-// - ECPv6.15.20//NONSGML v1.0//EN
CALSCALE:GREGORIAN
METHOD:PUBLISH
X-ORIGINAL-URL:https://www.landmarkcenter.org
X-WR-CALDESC:Events for 
REFRESH-INTERVAL;VALUE=DURATION:PT1H
X-Robots-Tag:noindex
X-PUBLISHED-TTL:PT1H
BEGIN:VTIMEZONE
TZID:America/Chicago
BEGIN:DAYLIGHT
TZOFFSETFROM:-0600
TZOFFSETTO:-0500
TZNAME:CDT
DTSTART:20210314T080000
END:DAYLIGHT
BEGIN:STANDARD
TZOFFSETFROM:-0500
TZOFFSETTO:-0600
TZNAME:CST
DTSTART:20211107T070000
END:STANDARD
BEGIN:DAYLIGHT
TZOFFSETFROM:-0600
TZOFFSETTO:-0500
TZNAME:CDT
DTSTART:20220313T080000
END:DAYLIGHT
BEGIN:STANDARD
TZOFFSETFROM:-0500
TZOFFSETTO:-0600
TZNAME:CST
DTSTART:20221106T070000
END:STANDARD
BEGIN:DAYLIGHT
TZOFFSETFROM:-0600
TZOFFSETTO:-0500
TZNAME:CDT
DTSTART:20230312T080000
END:DAYLIGHT
BEGIN:STANDARD
TZOFFSETFROM:-0500
TZOFFSETTO:-0600
TZNAME:CST
DTSTART:20231105T070000
END:STANDARD
END:VTIMEZONE
BEGIN:VEVENT
DTSTART;TZID=America/Chicago:20221113T140000
DTEND;TZID=America/Chicago:20221113T160000
DTSTAMP:20260425T192351
CREATED:20221013T175202Z
LAST-MODIFIED:20221013T175202Z
UID:5959-1668348000-1668355200@www.landmarkcenter.org
SUMMARY:"Stalag Luft III - One Man's Story" Film Screening
DESCRIPTION:Told by WWII U.S. Eighth Air Force Bombardier Lt. Charles Woehrle\, one of 10\,000 prisoners of war in Stalag Luft III\, known for the Great Escape. At age 93\, this remarkable man and gifted storyteller take us from Pine City\, Minnesota to war-torn Europe as he relives his experiences with vivid detail. He survived two long years of uncertainty and tremendous hardship. A harrowing saga filled with grit and grace\, Charles Woehrle of the ‘The Mighty Eighth’ is one of the countless heroes from the Greatest Generation who has much to teach us about war and about life.
URL:https://www.landmarkcenter.org/event/stalag-luft-iii-one-mans-story-film-screening/
LOCATION:F. K. Weyerhaeuser Aud. – Landmark Center\, 75 5th St. W.\, Saint Paul\, MN\, 55102\, United States
CATEGORIES:Films
END:VEVENT
END:VCALENDAR