BEGIN:VCALENDAR
VERSION:2.0
PRODID:-// - ECPv6.15.20//NONSGML v1.0//EN
CALSCALE:GREGORIAN
METHOD:PUBLISH
X-ORIGINAL-URL:https://www.landmarkcenter.org
X-WR-CALDESC:Events for 
REFRESH-INTERVAL;VALUE=DURATION:PT1H
X-Robots-Tag:noindex
X-PUBLISHED-TTL:PT1H
BEGIN:VTIMEZONE
TZID:America/Chicago
BEGIN:DAYLIGHT
TZOFFSETFROM:-0600
TZOFFSETTO:-0500
TZNAME:CDT
DTSTART:20230312T080000
END:DAYLIGHT
BEGIN:STANDARD
TZOFFSETFROM:-0500
TZOFFSETTO:-0600
TZNAME:CST
DTSTART:20231105T070000
END:STANDARD
BEGIN:DAYLIGHT
TZOFFSETFROM:-0600
TZOFFSETTO:-0500
TZNAME:CDT
DTSTART:20240310T080000
END:DAYLIGHT
BEGIN:STANDARD
TZOFFSETFROM:-0500
TZOFFSETTO:-0600
TZNAME:CST
DTSTART:20241103T070000
END:STANDARD
BEGIN:DAYLIGHT
TZOFFSETFROM:-0600
TZOFFSETTO:-0500
TZNAME:CDT
DTSTART:20250309T080000
END:DAYLIGHT
BEGIN:STANDARD
TZOFFSETFROM:-0500
TZOFFSETTO:-0600
TZNAME:CST
DTSTART:20251102T070000
END:STANDARD
END:VTIMEZONE
BEGIN:VEVENT
DTSTART;TZID=America/Chicago:20240807T100000
DTEND;TZID=America/Chicago:20240807T110000
DTSTAMP:20260422T231619
CREATED:20240508T204013Z
LAST-MODIFIED:20240508T204842Z
UID:7413-1723024800-1723028400@www.landmarkcenter.org
SUMMARY:Saint Paul Walking Tour: Rice Park
DESCRIPTION:Stroll through one of St. Paul’s oldest public parks: Rice Park\, located in the heart of the cultural district in downtown. Flanked by architectural and cultural giants: Landmark Center\, the Saint Paul Hotel\, the Central Library\, and the Ordway\, this park is beloved as an oasis of green space\, beautiful landscaping\, and as a site of public art. \nThis tour takes you back in time to learn the secrets of one of the city’s oldest and most beloved parks and the unique buildings that surround it. Please make sure to arrive and find parking by 9:50 am\, tours depart from Landmark Center’s Visitor Information Center PROMPTLY at 10 am. \n\n\n\nTours are held rain or shine (except in severe weather). The tour groups are limited to 20 participants. \nPlease note that this is a walking tour that covers approximately 1/4 of a mile. \n\nFree but reservations are required (Reservations open July 3): Reserve now\n\n 
URL:https://www.landmarkcenter.org/event/rice-park-walking-tour-3/
LOCATION:Rice Park\, 109 W 4th St\, Saint Paul\, MN\, 55102\, United States
CATEGORIES:Walking Tours
END:VEVENT
BEGIN:VEVENT
DTSTART;TZID=America/Chicago:20240814T100000
DTEND;TZID=America/Chicago:20240814T110000
DTSTAMP:20260422T231619
CREATED:20240508T205228Z
LAST-MODIFIED:20240508T205228Z
UID:7426-1723629600-1723633200@www.landmarkcenter.org
SUMMARY:Saint Paul Walking Tour: Great River
DESCRIPTION:Learn about Saint Paul’s start and its relationship with the Mississippi River. On this tour you will learn great information while observing the beautiful view of the river and its surrounding areas. Please make sure to arrive and find parking by 9:50 am\, tours meet and depart from Upper Landing Park (Shepard Rd. & Eagle Pkwy.) PROMPTLY at 10 am. \nTours go out rain or shine (except during severe weather). The tour groups are limited to 20 participants. \nPlease note this is a walking tour that covers approximately 1/2 mile. \nFree\, but reservations are required (reservations open on July 3): Reserve now
URL:https://www.landmarkcenter.org/event/saint-paul-walking-tour-great-river-14/
LOCATION:Upper Landing Park\, 206 Shepard Rd\, Saint Paul\, MN\, 55102\, United States
CATEGORIES:Walking Tours
END:VEVENT
BEGIN:VEVENT
DTSTART;TZID=America/Chicago:20240821T100000
DTEND;TZID=America/Chicago:20240821T110000
DTSTAMP:20260422T231619
CREATED:20240508T205932Z
LAST-MODIFIED:20240508T205932Z
UID:7430-1724234400-1724238000@www.landmarkcenter.org
SUMMARY:Saint Paul Walking Tour: Heart of the City
DESCRIPTION:Enjoy some of St. Paul’s most historic landmarks on this tour that takes you into the heart of the city. The tour covers popular spots like Mickey’s Diner\, Candyland\, the Hamm Building and more! The tour departs from Landmark Center’s North Lobby\, inside the 6th Street entrance.  Please make sure to arrive and find parking by 9:50 am\, tours depart from Landmark Center’s North Hamm Foyer (Entrance on 6th Street) PROMPTLY at 10 am.\n\nTours are held rain or shine (except in severe weather). The tour groups are limited to 20 participants. \nPlease note that this is a walking tour that covers approximately 1/4 of a mile. \nFree\, but reservations required (reservations open July 3): Reserve now
URL:https://www.landmarkcenter.org/event/saint-paul-walking-tour-heart-of-the-city-3/
LOCATION:Landmark Center\, 75 5th St W\, Saint Paul\, MN\, 55102\, United States
CATEGORIES:Walking Tours
END:VEVENT
BEGIN:VEVENT
DTSTART;TZID=America/Chicago:20240828T100000
DTEND;TZID=America/Chicago:20240828T110000
DTSTAMP:20260422T231619
CREATED:20240508T210445Z
LAST-MODIFIED:20240516T164926Z
UID:7436-1724839200-1724842800@www.landmarkcenter.org
SUMMARY:Saint Paul Walking Tour: It Happened Here First
DESCRIPTION:Stand where Saint Paul began and walk through its origin tales and historic towers into its anticipated future. Downtown shaped the state of Minnesota through its booming population\, architecture\, and businesses. Learn of Saint Paul’s first murder\, first mystery\, and many stories of the first settlers. \nPlease make sure to arrive and find parking by 9:50 am\, tours depart at Kellogg Park (at the Kellogg Blvd/Robert Street entrance) PROMPTLY at 10 am. \n\n\nTours go out rain or shine (except during severe weather). The tour groups are limited to 20 participants. \nPlease also note that this tour has minimal walking throughout Kellogg Park. \n\nFree\, but reservations required (reservations open on July 3): Reserve now
URL:https://www.landmarkcenter.org/event/saint-paul-walking-tour-it-happened-here-first-3/
LOCATION:Kellogg Park
CATEGORIES:Walking Tours
END:VEVENT
END:VCALENDAR