BEGIN:VCALENDAR
VERSION:2.0
PRODID:-// - ECPv6.15.20//NONSGML v1.0//EN
CALSCALE:GREGORIAN
METHOD:PUBLISH
X-ORIGINAL-URL:https://www.landmarkcenter.org
X-WR-CALDESC:Events for 
REFRESH-INTERVAL;VALUE=DURATION:PT1H
X-Robots-Tag:noindex
X-PUBLISHED-TTL:PT1H
BEGIN:VTIMEZONE
TZID:America/Chicago
BEGIN:DAYLIGHT
TZOFFSETFROM:-0600
TZOFFSETTO:-0500
TZNAME:CDT
DTSTART:20180311T080000
END:DAYLIGHT
BEGIN:STANDARD
TZOFFSETFROM:-0500
TZOFFSETTO:-0600
TZNAME:CST
DTSTART:20181104T070000
END:STANDARD
BEGIN:DAYLIGHT
TZOFFSETFROM:-0600
TZOFFSETTO:-0500
TZNAME:CDT
DTSTART:20190310T080000
END:DAYLIGHT
BEGIN:STANDARD
TZOFFSETFROM:-0500
TZOFFSETTO:-0600
TZNAME:CST
DTSTART:20191103T070000
END:STANDARD
BEGIN:DAYLIGHT
TZOFFSETFROM:-0600
TZOFFSETTO:-0500
TZNAME:CDT
DTSTART:20200308T080000
END:DAYLIGHT
BEGIN:STANDARD
TZOFFSETFROM:-0500
TZOFFSETTO:-0600
TZNAME:CST
DTSTART:20201101T070000
END:STANDARD
END:VTIMEZONE
BEGIN:VEVENT
DTSTART;TZID=America/Chicago:20190531T170000
DTEND;TZID=America/Chicago:20190601T210000
DTSTAMP:20260421T185122
CREATED:20190513T170732Z
LAST-MODIFIED:20190513T170732Z
UID:1034-1559322000-1559422800@www.landmarkcenter.org
SUMMARY:Flint Hills Family Festival
DESCRIPTION:Performances\, free activities\, and more – Learn a new kind of dance\, hear music from all over the world\, get your face painted\, or make a new balloon animal friend! With three exciting indoor performances\, outdoor stages\, and free activities in Rice Park\, Landmark Plaza\, and the Ordway\, there’s hundreds of ways to play at the Flint Hills Family Festival. \nFeatured performance in Landmark Center’s F.K. Weyerhaeuser Auditorium\, Puppet State Theatre’s The Man Who Planted Trees – June 1\, 10:30 am & 2:30 pm. \n 
URL:https://www.landmarkcenter.org/event/flint-hills-family-festival/
LOCATION:F. K. Weyerhaeuser Aud. – Landmark Center\, 75 5th St. W.\, Saint Paul\, MN\, 55102\, United States
END:VEVENT
BEGIN:VEVENT
DTSTART;TZID=America/Chicago:20190606T170000
DTEND;TZID=America/Chicago:20190606T190000
DTSTAMP:20260421T185122
CREATED:20190529T162140Z
LAST-MODIFIED:20190529T162140Z
UID:1151-1559840400-1559847600@www.landmarkcenter.org
SUMMARY:"Convergent Voices" - Opening reception for summer art exhibit
DESCRIPTION:“Convergent Voices” begins June 6\, with an opening reception from 5-7 p.m. The summer exhibition will feature three distinct cultural/heritage backgrounds and showcase the work in concert with one another. \nThe exhibit and reception are free and open to the public. The exhibit runs through July 28.
URL:https://www.landmarkcenter.org/event/convergent-voices-opening-reception-for-summer-art-exhibit/
LOCATION:North Gallery – Landmark Center\, 75 5th St. W.\, St. Paul\, MN\, 55104\, United States
END:VEVENT
BEGIN:VEVENT
DTSTART;TZID=America/Chicago:20190611T160000
DTEND;TZID=America/Chicago:20190611T180000
DTSTAMP:20260421T185122
CREATED:20190513T171558Z
LAST-MODIFIED:20190513T171558Z
UID:1036-1560268800-1560276000@www.landmarkcenter.org
SUMMARY:Rice Park Grand Opening
DESCRIPTION:Rice Park Revitalization is almost complete. Come and celebrate on June 11.
URL:https://www.landmarkcenter.org/event/rice-park-grand-opening/
END:VEVENT
BEGIN:VEVENT
DTSTART;TZID=America/Chicago:20190612T100000
DTEND;TZID=America/Chicago:20190612T110000
DTSTAMP:20260421T185122
CREATED:20190513T193130Z
LAST-MODIFIED:20190513T193130Z
UID:1038-1560333600-1560337200@www.landmarkcenter.org
SUMMARY:Saint Paul Walking Tours: Rice Park
DESCRIPTION:Enjoy a historic and architectural tour that takes you back in time to learn the hidden secrets of the unique buildings that surround one of the city’s most beloved parks. The Rice Park walking tours are the second Wednesday of the month\, June – September and departs from Landmark Center’s Information Center at 10 am. \nReservations/tickets are REQUIRED.
URL:https://www.landmarkcenter.org/event/saint-paul-walking-tours-rice-park-2/
LOCATION:Landmark Center\, 75 5th St W\, Saint Paul\, MN\, 55102\, United States
END:VEVENT
BEGIN:VEVENT
DTSTART;TZID=America/Chicago:20190612T120000
DTEND;TZID=America/Chicago:20190612T130000
DTSTAMP:20260421T185122
CREATED:20190514T190857Z
LAST-MODIFIED:20190516T153259Z
UID:1074-1560340800-1560344400@www.landmarkcenter.org
SUMMARY:Money in Politics: Restoring Fair Representation to the People
DESCRIPTION:Learn about recent Supreme Court decisions that have limited our ability to regulate campaign spending and have allowed big moneyed special interest groups to influence our elections and our policies. Featured speakers are Vicki Barnes\, Volunteer MN State Coordinator for American Promise and Take Back Our Republic\, and Richard Painter\, author of Taxation Only with Representation and Professor of Law at the University of Minnesota.
URL:https://www.landmarkcenter.org/event/money-in-politics-restoring-fair-representation-to-the-people/
LOCATION:Courtroom 317 – Landmark Center\, 75 5th St. W.\, Saint Paul\, MN\, 55102\, United States
ORGANIZER;CN="League of Women Voters of St. Paul":MAILTO:office@lwvsp.org
END:VEVENT
BEGIN:VEVENT
DTSTART;TZID=America/Chicago:20190613T120000
DTEND;TZID=America/Chicago:20190613T130000
DTSTAMP:20260421T185122
CREATED:20190517T151633Z
LAST-MODIFIED:20190724T165723Z
UID:1117-1560427200-1560430800@www.landmarkcenter.org
SUMMARY:Music in the Café: Pushing Chain
DESCRIPTION:Music in the Café welcomes musicians to the Musser Cortile for four Thursday lunch hour performances. The concerts are a great opportunity to hear talented local musicians. Past Music in the Café musicians have gone on to be featured at the Dakota Jazz Club and on NBC’s The Voice! They are free and open to the public. Guests are invited to bring their lunch or purchase one from Anita’s Café. Music in the Café is sponsored in part by KFAI Radio with additional support from the Minnesota Music Coalition. \nPushing Chain was formed in 2012 by Boyd Blomberg and Adam Moe. The duo\, which has been performing together in various manifestations since 1997\, plays Folky-Tonk music featuring Blomberg on guitar and vocals and Moe on the fiddle and vocals. Strong songwriting\, tight harmonies\, and a gonzo approach have been winning fans for Pushing Chain across the Midwest and beyond.
URL:https://www.landmarkcenter.org/event/music-in-the-cafe-pushing-chain/
LOCATION:Musser Cortile – Landmark Center\, 75 5th St. W.\, Saint Paul\, MN\, 55102\, United States
CATEGORIES:Concerts
END:VEVENT
BEGIN:VEVENT
DTSTART;TZID=America/Chicago:20190616T120000
DTEND;TZID=America/Chicago:20190616T150000
DTSTAMP:20260421T185122
CREATED:20190514T185727Z
LAST-MODIFIED:20190514T185727Z
UID:1066-1560686400-1560697200@www.landmarkcenter.org
SUMMARY:Woodturning Demonstration
DESCRIPTION:The AAW Gallery of Wood Art presents free live demonstrations of woodturning from 12-3 pm\, the third Sunday of each month.
URL:https://www.landmarkcenter.org/event/woodturning-demonstration-5/
LOCATION:AAW Gallery of Wood Art – Landmark Center\, 75 5th St. W.\, Suite 222\, Saint Paul\, MN\, 55104\, United States
END:VEVENT
BEGIN:VEVENT
DTSTART;TZID=America/Chicago:20190619T100000
DTEND;TZID=America/Chicago:20190619T110000
DTSTAMP:20260421T185122
CREATED:20190513T194514Z
LAST-MODIFIED:20190513T194514Z
UID:1046-1560938400-1560942000@www.landmarkcenter.org
SUMMARY:Saint Paul Walking Tours: Heart of the City
DESCRIPTION:Enjoy some of St. Paul’s most historic landmarks on this tour that takes you into the heart of the city. The tour covers popular spots like Mickey’s Diner\, Candyland\, the Hamm Building and more! The tour takes place the third Wednesday of the month\, June – September and departs from Landmark Center’s North Lobby\, inside the 6th Street entrance. \nReservations/tickets are REQUIRED
URL:https://www.landmarkcenter.org/event/saint-paul-walking-tours-heart-of-the-city-2/
LOCATION:Landmark Center\, 75 5th St W\, Saint Paul\, MN\, 55102\, United States
END:VEVENT
BEGIN:VEVENT
DTSTART;TZID=America/Chicago:20190626T100000
DTEND;TZID=America/Chicago:20190626T110000
DTSTAMP:20260421T185122
CREATED:20190514T165113Z
LAST-MODIFIED:20190514T165113Z
UID:1056-1561543200-1561546800@www.landmarkcenter.org
SUMMARY:Saint Paul Walking Tours: Great River
DESCRIPTION:Learn about St. Paul’s start and its relationship with the Mississippi River. On this walking tour you will learn great information while observing the beautiful view of the river and its surrounding areas. The Great River tours are the fourth Wednesday of the month\, June – September\, and departs from Upper Landing Park in St. Paul (Shepard Rd. & Chestnut St./Eagle Pkwy) at 10 am. \nTickets/reservations are REQUIRED.
URL:https://www.landmarkcenter.org/event/saint-paul-walking-tours-great-river-2/
LOCATION:Upper Landing Park\, 206 Shepard Rd\, Saint Paul\, MN\, 55102\, United States
END:VEVENT
BEGIN:VEVENT
DTSTART;TZID=America/Chicago:20190627T120000
DTEND;TZID=America/Chicago:20190627T130000
DTSTAMP:20260421T185122
CREATED:20190517T152017Z
LAST-MODIFIED:20190724T165750Z
UID:1119-1561636800-1561640400@www.landmarkcenter.org
SUMMARY:Music in the Café: The Crow's Delight
DESCRIPTION:Music in the Café welcomes musicians to the Musser Cortile for four Thursday lunch hour performances. The concerts are a great opportunity to hear talented local musicians. Past Music in the Café musicians have gone on to be featured at the Dakota Jazz Club and on NBC’s The Voice! They are free and open to the public. Guests are invited to bring their lunch or purchase one from Anita’s Café. Music in the Café is sponsored in part by KFAI Radio with additional support from the Minnesota Music Coalition. \nBrian and Sheralyn Barnes are The Crow’s Delight. They love to travel\, in music as well as in real life. For music\, they mash up Irish traditional\, folk\, swing\, gypsy\, pop/British New Wave and world music into shiny gems of song.
URL:https://www.landmarkcenter.org/event/music-in-the-cafe-the-crows-delight/
LOCATION:Musser Cortile – Landmark Center\, 75 5th St. W.\, Saint Paul\, MN\, 55102\, United States
CATEGORIES:Concerts
END:VEVENT
END:VCALENDAR