BEGIN:VCALENDAR
VERSION:2.0
PRODID:-// - ECPv6.15.20//NONSGML v1.0//EN
CALSCALE:GREGORIAN
METHOD:PUBLISH
X-ORIGINAL-URL:https://www.landmarkcenter.org
X-WR-CALDESC:Events for 
REFRESH-INTERVAL;VALUE=DURATION:PT1H
X-Robots-Tag:noindex
X-PUBLISHED-TTL:PT1H
BEGIN:VTIMEZONE
TZID:America/Chicago
BEGIN:DAYLIGHT
TZOFFSETFROM:-0600
TZOFFSETTO:-0500
TZNAME:CDT
DTSTART:20180311T080000
END:DAYLIGHT
BEGIN:STANDARD
TZOFFSETFROM:-0500
TZOFFSETTO:-0600
TZNAME:CST
DTSTART:20181104T070000
END:STANDARD
BEGIN:DAYLIGHT
TZOFFSETFROM:-0600
TZOFFSETTO:-0500
TZNAME:CDT
DTSTART:20190310T080000
END:DAYLIGHT
BEGIN:STANDARD
TZOFFSETFROM:-0500
TZOFFSETTO:-0600
TZNAME:CST
DTSTART:20191103T070000
END:STANDARD
BEGIN:DAYLIGHT
TZOFFSETFROM:-0600
TZOFFSETTO:-0500
TZNAME:CDT
DTSTART:20200308T080000
END:DAYLIGHT
BEGIN:STANDARD
TZOFFSETFROM:-0500
TZOFFSETTO:-0600
TZNAME:CST
DTSTART:20201101T070000
END:STANDARD
END:VTIMEZONE
BEGIN:VEVENT
DTSTART;VALUE=DATE:20190902
DTEND;VALUE=DATE:20190903
DTSTAMP:20260422T173042
CREATED:20190903T200020Z
LAST-MODIFIED:20190903T200020Z
UID:1374-1567382400-1567468799@www.landmarkcenter.org
SUMMARY:Building closed - Labor Day
DESCRIPTION:The building will be closed all day.
URL:https://www.landmarkcenter.org/event/building-closed-labor-day/
LOCATION:Landmark Center\, 75 5th St W\, Saint Paul\, MN\, 55102\, United States
END:VEVENT
BEGIN:VEVENT
DTSTART;TZID=America/Chicago:20190906T190000
DTEND;TZID=America/Chicago:20190906T220000
DTSTAMP:20260422T173042
CREATED:20190724T165629Z
LAST-MODIFIED:20190905T194952Z
UID:1257-1567796400-1567807200@www.landmarkcenter.org
SUMMARY:Landmark LIVE: The Small Glories
DESCRIPTION:Roots powerhouse duo The Small Glories are Cara Luft & JD Edwards\, a musical tour-de-force partnership planted on the Canadian Prairies. Thrown together purely by accident for an anniversary show at Winnipeg’s venerable West End Cultural Centre\, The Small Glories could almost make you believe in fate. \nThe material of a Small Glories concert is welcoming in terms of subject\, folk-pop melody and instrumentation — songs of love\, loss\, and environment\, delivered with soaring\, interwoven vocals on various combinations of stomping clawhammer banjo\, guitar and harmonica. \nLandmark Center presents “Landmark LIVE” in the F.K. Weyerhaeuser Auditorium. Presented with support from the Minnesota Music Coalition\, KFAI Radio\, and the Pioneer Press these concerts begin at 8 pm and are preceded by a cocktail hour at 7 pm\, giving audiences an opportunity to enjoy complimentary refreshments and a cash bar. \nTickets are $20 in advance/$25 at the door and $70 for full season tickets. Tickets include admission to the cocktail hour from 7-8 pm. \nTICKETS \n7pm – Cocktail hour // 7:30 pm – seating opens // 8 pm – Concert
URL:https://www.landmarkcenter.org/event/landmark-live-the-small-glories/
LOCATION:F. K. Weyerhaeuser Aud. – Landmark Center\, 75 5th St. W.\, Saint Paul\, MN\, 55102\, United States
CATEGORIES:Concerts
END:VEVENT
BEGIN:VEVENT
DTSTART;TZID=America/Chicago:20190911T100000
DTEND;TZID=America/Chicago:20190911T110000
DTSTAMP:20260422T173042
CREATED:20190513T193815Z
LAST-MODIFIED:20190513T193815Z
UID:1044-1568196000-1568199600@www.landmarkcenter.org
SUMMARY:Saint Paul Walking Tours: Rice Park
DESCRIPTION:Enjoy a historic and architectural tour that takes you back in time to learn the hidden secrets of the unique buildings that surround one of the city’s most beloved parks. The Rice Park walking tours are the second Wednesday of the month\, June – September and departs from Landmark Center’s Information Center at 10 am. \nReservations/tickets are REQUIRED.
URL:https://www.landmarkcenter.org/event/saint-paul-walking-tours-rice-park-5/
LOCATION:Landmark Center\, 75 5th St W\, Saint Paul\, MN\, 55102\, United States
END:VEVENT
BEGIN:VEVENT
DTSTART;TZID=America/Chicago:20190915T120000
DTEND;TZID=America/Chicago:20190915T150000
DTSTAMP:20260422T173042
CREATED:20190814T193619Z
LAST-MODIFIED:20190814T193619Z
UID:1302-1568548800-1568559600@www.landmarkcenter.org
SUMMARY:Woodturning Demonstration
DESCRIPTION:The AAW Gallery of Wood Art presents free live demonstrations of woodturning from 12-3 pm\, the third Sunday of each month.
URL:https://www.landmarkcenter.org/event/woodturning-demonstration-8/
LOCATION:AAW Gallery of Wood Art – Landmark Center\, 75 5th St. W.\, Suite 222\, Saint Paul\, MN\, 55104\, United States
END:VEVENT
BEGIN:VEVENT
DTSTART;TZID=America/Chicago:20190915T150000
DTEND;TZID=America/Chicago:20190915T180000
DTSTAMP:20260422T173042
CREATED:20190814T184025Z
LAST-MODIFIED:20190814T184025Z
UID:1284-1568559600-1568570400@www.landmarkcenter.org
SUMMARY:Sundays at Landmark: Mid-Autumn Moon Festival
DESCRIPTION:Celebrate this Southeast Asian tradition with crafts\, music\, dance\, food\, storytelling\, a lion dance\, and a lantern parade! \nPresented by Minnesota Landmarks and the Vietnamese community of Minnesota. All Sundays at Landmark events are proudly sponsored in part by Ecolab\, Travelers\, the Xcel Energy Foundation and Ramsey County.
URL:https://www.landmarkcenter.org/event/sundays-at-landmark-mid-autumn-moon-festival-2/
LOCATION:Musser Cortile – Landmark Center\, 75 5th St. W.\, Saint Paul\, MN\, 55102\, United States
END:VEVENT
BEGIN:VEVENT
DTSTART;TZID=America/Chicago:20190918T120000
DTEND;TZID=America/Chicago:20190918T130000
DTSTAMP:20260422T173042
CREATED:20190828T210908Z
LAST-MODIFIED:20190828T210908Z
UID:1342-1568808000-1568811600@www.landmarkcenter.org
SUMMARY:Global Conversations ST. PAUL: Japan Matters for America – Japan Matters for Minnesota
DESCRIPTION:Join Global Minnesota and Sasakawa USA for a presentation and Q&A with Dr. Satu Limaye\, Vice President and Director of the East-West Center in Washington\, D.C.\, to learn more and discuss how Minnesota is impacted by and contributes to Japan and the overall international alliance. With expertise in Asia Pacific international relations; U.S.-Asia defense and security relations; and India’s foreign policy\, Dr. Limaye publishes and speaks on U.S.-Asia relations and is a reviewer for numerous publications\, foundations\, and fellowship programs.
URL:https://www.landmarkcenter.org/event/global-conversations-st-paul-japan-matters-for-america-japan-matters-for-minnesota/
LOCATION:Courtroom 317 – Landmark Center\, 75 5th St. W.\, Saint Paul\, MN\, 55102\, United States
END:VEVENT
BEGIN:VEVENT
DTSTART;TZID=America/Chicago:20190920T170000
DTEND;TZID=America/Chicago:20190920T190000
DTSTAMP:20260422T173042
CREATED:20190823T203631Z
LAST-MODIFIED:20190823T203631Z
UID:1324-1568998800-1569006000@www.landmarkcenter.org
SUMMARY:"Nature's Library" exhibit meet & greet
DESCRIPTION:“The Nature Library” is a collection of meaningful objects gathered from natural settings and contributed by scientists\, artists\, and community leaders. Its aim is to give visitors creative experiences at the intersection of science and art. “The Nature Library” is created and curated by E.A. Farro. The exhibit is on display now\, and a meet-and-greet reception with the curator is September 20\, 5-7 pm.
URL:https://www.landmarkcenter.org/event/natures-library-exhibit-meet-greet/
LOCATION:Landmark Center\, 75 5th St W\, Saint Paul\, MN\, 55102\, United States
END:VEVENT
BEGIN:VEVENT
DTSTART;TZID=America/Chicago:20190925T100000
DTEND;TZID=America/Chicago:20190925T110000
DTSTAMP:20260422T173042
CREATED:20190514T165743Z
LAST-MODIFIED:20190514T165743Z
UID:1063-1569405600-1569409200@www.landmarkcenter.org
SUMMARY:Saint Paul Walking Tours: Great River
DESCRIPTION:Learn about St. Paul’s start and its relationship with the Mississippi River. On this walking tour you will learn great information while observing the beautiful view of the river and its surrounding areas. The Great River tours are the fourth Wednesday of the month\, June – September\, and departs from Upper Landing Park in St. Paul (Shepard Rd. & Chestnut St./Eagle Pkwy) at 10 am. \nTickets/reservations are REQUIRED.
URL:https://www.landmarkcenter.org/event/saint-paul-walking-tours-great-river-5/
LOCATION:Upper Landing Park\, 206 Shepard Rd\, Saint Paul\, MN\, 55102\, United States
END:VEVENT
BEGIN:VEVENT
DTSTART;TZID=America/Chicago:20190926T120000
DTEND;TZID=America/Chicago:20190926T130000
DTSTAMP:20260422T173042
CREATED:20190903T164208Z
LAST-MODIFIED:20190903T164641Z
UID:1369-1569499200-1569502800@www.landmarkcenter.org
SUMMARY:"HER FLAG" art project in St. Paul for 100th anniversary of 19th amendment
DESCRIPTION:Join Landmark Center and the League of Women Voters St. Paul to celebrate 100 years of women and voting on Thursday\, September 26 (12pm-1pm)\, featuring Her Flag\, a nationwide collaborative art and travel project celebrating the 100th anniversary of the 19th amendment and the 72 years-long nonviolent fight that kicked open voting for women in the United States. \nHer Flag is an artist-driven project by Oklahoma-based artist Marilyn Artus\, as she travels the country in advance of the 100th anniversary of the 19th Amendment to the United States Constitution on August 18th\, 2020. It took 36 states to ratify the amendment into law. She is traveling to each state\, in order of ratification\, over 14 months and collaborating with a woman artist in each state. Each artist has created a stripe to represent her state. Marilyn’s Minnesota-based artist is Anne Ulku\, an independent creative and designer based in Minneapolis/St.Paul. She specializes in many fields including: branding and identities\, art direction\, illustration\, lettering and type design\, logo design\, and art. \nIn each of the 36 capital cities\, including St. Paul\, there will be a public performance where Marilyn will sew the stripe representing the state onto the flag. LWVSP will be registering voters at the event.
URL:https://www.landmarkcenter.org/event/her-flag-art-project-in-st-paul-for-100th-anniversary-of-19th-amendment/
LOCATION:Courtroom 317 – Landmark Center\, 75 5th St. W.\, Saint Paul\, MN\, 55102\, United States
END:VEVENT
BEGIN:VEVENT
DTSTART;TZID=America/Chicago:20190926T190000
DTEND;TZID=America/Chicago:20190926T210000
DTSTAMP:20260422T173042
CREATED:20190828T191950Z
LAST-MODIFIED:20190924T154244Z
UID:1334-1569524400-1569531600@www.landmarkcenter.org
SUMMARY:History Play - "Brewing a Scandal: Corruption\, Politics\, and the Teapot Dome"
DESCRIPTION:The Teapot Dome Scandal of the 1920’s was a conspiracy between members of President Harding’s cabinet and oil executives to exploit the Teapot Dome Naval Oil Reserve in Wyoming. Prior to Watergate\, this was the most significant scandal in American politics and led to the appointment of a Special Counsel\, several Senate hearings\, civil and criminal trials\, and new legislation which remains in force today. \n“Brewing a Scandal: Corruption\, Politics\, and the Teapot Dome\,” will recall the events surrounding this political kerfuffle in a way only Landmark Center’s History Plays can – with lawyers and judges\, taking on the roles of the corrupt and criminal! \nGET TICKETS
URL:https://www.landmarkcenter.org/event/history-play-brewing-a-scandal-corruption-politics-and-the-teapot-dome/
LOCATION:F. K. Weyerhaeuser Aud. – Landmark Center\, 75 5th St. W.\, Saint Paul\, MN\, 55102\, United States
END:VEVENT
BEGIN:VEVENT
DTSTART;TZID=America/Chicago:20190927T190000
DTEND;TZID=America/Chicago:20190927T210000
DTSTAMP:20260422T173042
CREATED:20190828T192203Z
LAST-MODIFIED:20190924T154432Z
UID:1336-1569610800-1569618000@www.landmarkcenter.org
SUMMARY:History Play - "Brewing a Scandal: Corruption\, Politics\, and the Teapot Dome"
DESCRIPTION:The Teapot Dome Scandal of the 1920’s was a conspiracy between members of President Harding’s cabinet and oil executives to exploit the Teapot Dome Naval Oil Reserve in Wyoming. Prior to Watergate\, this was the most significant scandal in American politics and led to the appointment of a Special Counsel\, several Senate hearings\, civil and criminal trials\, and new legislation which remains in force today. \n“Brewing a Scandal: Corruption\, Politics\, and the Teapot Dome\,” will recall the events surrounding this political kerfuffle in a way only Landmark Center’s History Plays can – with lawyers and judges\, taking on the roles of the corrupt and criminal! \nGET TICKETS
URL:https://www.landmarkcenter.org/event/history-play-brewing-a-scandal-corruption-politics-and-the-teapot-dome-2/
LOCATION:F. K. Weyerhaeuser Aud. – Landmark Center\, 75 5th St. W.\, Saint Paul\, MN\, 55102\, United States
END:VEVENT
BEGIN:VEVENT
DTSTART;TZID=America/Chicago:20190928T190000
DTEND;TZID=America/Chicago:20190928T210000
DTSTAMP:20260422T173042
CREATED:20190828T192335Z
LAST-MODIFIED:20190924T154347Z
UID:1338-1569697200-1569704400@www.landmarkcenter.org
SUMMARY:History Play - "Brewing a Scandal: Corruption\, Politics\, and the Teapot Dome"
DESCRIPTION:The Teapot Dome Scandal of the 1920’s was a conspiracy between members of President Harding’s cabinet and oil executives to exploit the Teapot Dome Naval Oil Reserve in Wyoming. Prior to Watergate\, this was the most significant scandal in American politics and led to the appointment of a Special Counsel\, several Senate hearings\, civil and criminal trials\, and new legislation which remains in force today. \n“Brewing a Scandal: Corruption\, Politics\, and the Teapot Dome\,” will recall the events surrounding this political kerfuffle in a way only Landmark Center’s History Plays can – with lawyers and judges\, taking on the roles of the corrupt and criminal! \nGET TICKETS
URL:https://www.landmarkcenter.org/event/history-play-brewing-a-scandal-corruption-politics-and-the-teapot-dome-3/
LOCATION:F. K. Weyerhaeuser Aud. – Landmark Center\, 75 5th St. W.\, Saint Paul\, MN\, 55102\, United States
END:VEVENT
END:VCALENDAR