BEGIN:VCALENDAR
VERSION:2.0
PRODID:-// - ECPv6.15.20//NONSGML v1.0//EN
CALSCALE:GREGORIAN
METHOD:PUBLISH
X-ORIGINAL-URL:https://www.landmarkcenter.org
X-WR-CALDESC:Events for 
REFRESH-INTERVAL;VALUE=DURATION:PT1H
X-Robots-Tag:noindex
X-PUBLISHED-TTL:PT1H
BEGIN:VTIMEZONE
TZID:America/Chicago
BEGIN:DAYLIGHT
TZOFFSETFROM:-0600
TZOFFSETTO:-0500
TZNAME:CDT
DTSTART:20210314T080000
END:DAYLIGHT
BEGIN:STANDARD
TZOFFSETFROM:-0500
TZOFFSETTO:-0600
TZNAME:CST
DTSTART:20211107T070000
END:STANDARD
BEGIN:DAYLIGHT
TZOFFSETFROM:-0600
TZOFFSETTO:-0500
TZNAME:CDT
DTSTART:20220313T080000
END:DAYLIGHT
BEGIN:STANDARD
TZOFFSETFROM:-0500
TZOFFSETTO:-0600
TZNAME:CST
DTSTART:20221106T070000
END:STANDARD
BEGIN:DAYLIGHT
TZOFFSETFROM:-0600
TZOFFSETTO:-0500
TZNAME:CDT
DTSTART:20230312T080000
END:DAYLIGHT
BEGIN:STANDARD
TZOFFSETFROM:-0500
TZOFFSETTO:-0600
TZNAME:CST
DTSTART:20231105T070000
END:STANDARD
END:VTIMEZONE
BEGIN:VEVENT
DTSTART;TZID=America/Chicago:20220208T120000
DTEND;TZID=America/Chicago:20220208T130000
DTSTAMP:20260421T195446
CREATED:20211005T152355Z
LAST-MODIFIED:20211005T152522Z
UID:4674-1644321600-1644325200@www.landmarkcenter.org
SUMMARY:Ballet Tuesdays
DESCRIPTION:Landmark Center hosts FREE lunch-hour ballet performances and demonstrations\, in partnership with Ballet Co.Laboratory. \nThe 2021/2022 season is the second Tuesday of the month – October\, November\, February\, March\, and April. Performances begin at 12 pm\, dancers perform excerpts from the company repertoire\, highlighting events for their coming season.
URL:https://www.landmarkcenter.org/event/ballet-tuesdays-8/
LOCATION:Musser Cortile – Landmark Center\, 75 5th St. W.\, Saint Paul\, MN\, 55102\, United States
END:VEVENT
BEGIN:VEVENT
DTSTART;TZID=America/Chicago:20220213T130000
DTEND;TZID=America/Chicago:20220213T150000
DTSTAMP:20260421T195446
CREATED:20211117T182421Z
LAST-MODIFIED:20211214T230002Z
UID:4801-1644757200-1644764400@www.landmarkcenter.org
SUMMARY:Sundays at Landmark: Urban Expedition Ghana
DESCRIPTION:The 2022 Urban Expedition series continues with a focus on Ghana. Enjoy authentic music\, dance and crafts during this immersive program favorite. Be sure to get your Urban Expedition passport and collect a stamp at each Urban Expedition event for a chance to win a prize! This event will be done in partnership with the Ghanaian Association of Minnesota.
URL:https://www.landmarkcenter.org/event/sundays-at-landmark-urban-expedition-ghana/
LOCATION:Musser Cortile – Landmark Center\, 75 5th St. W.\, Saint Paul\, MN\, 55102\, United States
END:VEVENT
BEGIN:VEVENT
DTSTART;TZID=America/Chicago:20220220T120000
DTEND;TZID=America/Chicago:20220220T160000
DTSTAMP:20260421T195446
CREATED:20211117T182843Z
LAST-MODIFIED:20220113T192727Z
UID:4803-1645358400-1645372800@www.landmarkcenter.org
SUMMARY:Sundays at Landmark: Black Sea Odyssey
DESCRIPTION:Black Sea Odyssey – originally scheduled for February 20\, 2022 – has been moved to a virtual event with the help of our community partner\, Ethnic Dance Theatre. There will be no in-person program for this event\, but you can enjoy from the comfort of your homes! Stay tuned for a link to virtual programming for the Black Sea Odyssey virtual event premiere at the end of March 2022. \nExperience the music\, dance\, language\, foods\, costume and arts & craft traditions of several countries hailing from the Black Sea region of Eastern Europe. Produced in partnership with Ethnic Dance Theatre.
URL:https://www.landmarkcenter.org/event/sundays-at-landmark-black-sea-odyssey/
LOCATION:Musser Cortile – Landmark Center\, 75 5th St. W.\, Saint Paul\, MN\, 55102\, United States
END:VEVENT
BEGIN:VEVENT
DTSTART;TZID=America/Chicago:20220220T130000
DTEND;TZID=America/Chicago:20220220T150000
DTSTAMP:20260421T195446
CREATED:20220113T202824Z
LAST-MODIFIED:20220113T202824Z
UID:4973-1645362000-1645369200@www.landmarkcenter.org
SUMMARY:Sundays at Landmark: Urban Expedition China
DESCRIPTION:  \n \nIn an effort to keep our community partners and community safe\, and due to the recent surge in COVID-19 Omicron cases\, Urban Expedition China – originally scheduled for January 16\, 2022 – has been rescheduled to February 20\, 2022 from 1-3pm. We look forward to celebrating the cultures and traditions of China in partnership with the amazing CAAM Chinese Dance Theater at a safer time! \nUrban Expedition returns in-person for its 18th season with a journey to China. Be sure to get your Urban Expedition passport and collect a stamp at each Urban Expedition event for a chance to win a prize! This event will be done in partnership with CAAM Chinese Dance Theater.
URL:https://www.landmarkcenter.org/event/sundays-at-landmark-urban-expedition-china-2/
LOCATION:Musser Cortile – Landmark Center\, 75 5th St. W.\, Saint Paul\, MN\, 55102\, United States
END:VEVENT
BEGIN:VEVENT
DTSTART;TZID=America/Chicago:20220224T190000
DTEND;TZID=America/Chicago:20220224T220000
DTSTAMP:20260421T195446
CREATED:20220224T153141Z
LAST-MODIFIED:20220224T153141Z
UID:5109-1645729200-1645740000@www.landmarkcenter.org
SUMMARY:13th Italian Film Festival of Minneapolis / St. Paul: The Great Silence (Il Silenzio Grande)
DESCRIPTION:The 13th Italian Film Festival of Minneapolis / St. Paul opens this Thursday with IL SILENZIO GRANDE (The Great Silence) by Alessandro Gassmann. When the Primic mansion\, overlooking the Gulf of Naples\, falls into disrepair\, Rose (Margherita Buy) decides to put it up for sale\, Valerio (Massimiliano Gallo)\, her husband\, feels alone in his protest\, and slowly starts to realize he doesn’t truly know his own family\, and perhaps not even himself. His journey of self-discovery ultimately leads him to a poignant truth–one that will turn the audience’s point of view upside down.\n\nReserve your tickets today: bit.ly/SilenceIFF22\n\n\n\nThe #italianfilmfestivalmsp is presented in partnership with MSP Film Society.
URL:https://www.landmarkcenter.org/event/13th-italian-film-festival-of-minneapolis-st-paul-the-great-silence-il-silenzio-grande/
LOCATION:F. K. Weyerhaeuser Aud. – Landmark Center\, 75 5th St. W.\, Saint Paul\, MN\, 55102\, United States
END:VEVENT
BEGIN:VEVENT
DTSTART;TZID=America/Chicago:20220225T190000
DTEND;TZID=America/Chicago:20220225T220000
DTSTAMP:20260421T195446
CREATED:20220224T153443Z
LAST-MODIFIED:20220224T153443Z
UID:5114-1645815600-1645826400@www.landmarkcenter.org
SUMMARY:13th Annual Italian Film Festival of Minneapolis / St. Paul: Mysteries (I Misteri)
DESCRIPTION:Four Sicilian popular feasts tell about ancient traditions and spectacular rites–ones often either not well known or considered “extremely dangerous”. In the cyclical alternation of seasons\, the communities of either fishermen or farmers spend several months of preparatory work leading up to these events\, and finding in them full expression of their collective identity. The ancestral link with the territory is identified with a specific natural element\, richly representative of that place. The film is the final stage of the Sicily Folk Doc\, a project of a documentary series devoted to Sicilian popular feasts. Its protagonist is the community that spends so many months diligently preparing for these events\, finding in them their identity. The project is promoted by Associazione Culturale Scarti (known in the audiovisual sector for the organization of the International Short Film Festival Magma\, or Mostra di cinema breve). \nReserve tickets here: https://prod3.agileticketing.net/WebSales/pages/info.aspx?evtinfo=723064~163a5c15-c3ae-4635-ba12-bbe995cbeb29&epguid=a64d8ebe-c08c-4ff9-af94-7bbfd5c7b291&
URL:https://www.landmarkcenter.org/event/13th-annual-italian-film-festival-of-minneapolis-st-paul-mysteries-i-misteri/
LOCATION:F. K. Weyerhaeuser Aud. – Landmark Center\, 75 5th St. W.\, Saint Paul\, MN\, 55102\, United States
END:VEVENT
BEGIN:VEVENT
DTSTART;TZID=America/Chicago:20220226T190000
DTEND;TZID=America/Chicago:20220226T220000
DTSTAMP:20260421T195446
CREATED:20220224T153639Z
LAST-MODIFIED:20220224T153639Z
UID:5116-1645902000-1645912800@www.landmarkcenter.org
SUMMARY:13th Italian Film Festival of Minneapolis / St. Paul: The King of Laughter (Qui Rido Io)
DESCRIPTION:At the beginning of the twentieth century\, in the Naples of the Belle Époque\, theaters and cinemas are on the rise. The great comedian Eduardo Scarpetta (Toni Servillo) is the box-office king. Success made him a very rich man: from his humble origins\, he established himself on the scene with his comedies and the mask and character of Felice Sciosciammocca\, who managed to replace Pulcinella in the hearts of the Neapolitan audiences. The theater is his life\, and his complex family core gravitates around the theater\, with wives\, companions\, lovers\, legitimate and illegitimate children including Titina\, Eduardo and Peppino De Filippo. At the height of his success\, Scarpetta allows himself what will prove to be a dangerous gamble. He decides to parody the play “The Daughter of Iorio\,” a tragedy by the greatest Italian poet of the time\, Gabriele D’Annunzio. On opening night\, all hell breaks loose: the play is interrupted by screams\, whistles and insults from the poets and playwrights of the new generation who cry out scandal\, and Scarpetta ends up being sued for plagiarism by D’Annunzio himself. And so the first historic copyright lawsuit in Italy begins. The years of the trial will be exhausting for him and his whole family\, so much so that the delicate balance that held it together seems on the verge of dissolving. Everything in Scarpetta’s life seems to be going in pieces\, but with a great actor’s performance he’ll manage to challenge a fate that wanted him a loser\, and he’ll win his last game. \nPurchase tickets here: https://prod3.agileticketing.net/WebSales/pages/info.aspx?evtinfo=724128~163a5c15-c3ae-4635-ba12-bbe995cbeb29&epguid=a64d8ebe-c08c-4ff9-af94-7bbfd5c7b291&
URL:https://www.landmarkcenter.org/event/13th-italian-film-festival-of-minneapolis-st-paul-the-king-of-laughter-qui-rido-io/
LOCATION:F. K. Weyerhaeuser Aud. – Landmark Center\, 75 5th St. W.\, Saint Paul\, MN\, 55102\, United States
END:VEVENT
BEGIN:VEVENT
DTSTART;TZID=America/Chicago:20220227T130000
DTEND;TZID=America/Chicago:20220227T150000
DTSTAMP:20260421T195446
CREATED:20211214T225020Z
LAST-MODIFIED:20211214T230015Z
UID:4827-1645966800-1645974000@www.landmarkcenter.org
SUMMARY:Sundays at Landmark: Urban Expedition Greece
DESCRIPTION:Urban Expedition continues in-person for its 18th season with a focus on Greece. Be sure to get your Urban Expedition passport and collect a stamp at each Urban Expedition event for a chance to win a prize! This event will be done in partnership with St. George Greek Orthodox Church.
URL:https://www.landmarkcenter.org/event/sundays-at-landmark-urban-expedition-greece/
LOCATION:Musser Cortile – Landmark Center\, 75 5th St. W.\, Saint Paul\, MN\, 55102\, United States
END:VEVENT
BEGIN:VEVENT
DTSTART;TZID=America/Chicago:20220227T150000
DTEND;TZID=America/Chicago:20220227T170000
DTSTAMP:20260421T195446
CREATED:20220224T154223Z
LAST-MODIFIED:20220224T154223Z
UID:5118-1645974000-1645981200@www.landmarkcenter.org
SUMMARY:13th Italian Film Festival of Minneapolis / St. Paul: L'avventura
DESCRIPTION:Monica Vitti\, an icon of Italian cinema for generations\, passed away on February 2\, 2022 at the age of ninety. IFF is proud to pay tribute to this incredibly talented actress with the screening of L’avventura by Michelangelo Antonioni\, the film that made Vitti a star. \nAn iconic piece of challenging 1960s cinema and a gripping narrative on its own terms\, L’avventura concerns the enigmatic disappearance of a young woman during a yachting trip off the coast of Sicily\, and the search taken up by her disaffected lover (Gabriele Ferzetti) and best friend (Monica Vitti\, in her breakout role). Antonioni’s controversial international sensation is a gorgeously shot tale of modern ennui and spiritual isolation. \nL’avventura won the Special Jury Prize in Cannes in 1960 “for the beauty of its images\, and for seeking to create a new film language”. \nPurchase tickets here: https://prod3.agileticketing.net/WebSales/pages/info.aspx?evtinfo=724129~163a5c15-c3ae-4635-ba12-bbe995cbeb29&epguid=a64d8ebe-c08c-4ff9-af94-7bbfd5c7b291&
URL:https://www.landmarkcenter.org/event/13th-italian-film-festival-of-minneapolis-st-paul-lavventura/
LOCATION:F. K. Weyerhaeuser Aud. – Landmark Center\, 75 5th St. W.\, Saint Paul\, MN\, 55102\, United States
END:VEVENT
END:VCALENDAR