BEGIN:VCALENDAR
VERSION:2.0
PRODID:-// - ECPv6.15.20//NONSGML v1.0//EN
CALSCALE:GREGORIAN
METHOD:PUBLISH
X-ORIGINAL-URL:https://www.landmarkcenter.org
X-WR-CALDESC:Events for 
REFRESH-INTERVAL;VALUE=DURATION:PT1H
X-Robots-Tag:noindex
X-PUBLISHED-TTL:PT1H
BEGIN:VTIMEZONE
TZID:America/Chicago
BEGIN:DAYLIGHT
TZOFFSETFROM:-0600
TZOFFSETTO:-0500
TZNAME:CDT
DTSTART:20210314T080000
END:DAYLIGHT
BEGIN:STANDARD
TZOFFSETFROM:-0500
TZOFFSETTO:-0600
TZNAME:CST
DTSTART:20211107T070000
END:STANDARD
BEGIN:DAYLIGHT
TZOFFSETFROM:-0600
TZOFFSETTO:-0500
TZNAME:CDT
DTSTART:20220313T080000
END:DAYLIGHT
BEGIN:STANDARD
TZOFFSETFROM:-0500
TZOFFSETTO:-0600
TZNAME:CST
DTSTART:20221106T070000
END:STANDARD
BEGIN:DAYLIGHT
TZOFFSETFROM:-0600
TZOFFSETTO:-0500
TZNAME:CDT
DTSTART:20230312T080000
END:DAYLIGHT
BEGIN:STANDARD
TZOFFSETFROM:-0500
TZOFFSETTO:-0600
TZNAME:CST
DTSTART:20231105T070000
END:STANDARD
END:VTIMEZONE
BEGIN:VEVENT
DTSTART;TZID=America/Chicago:20220403T120000
DTEND;TZID=America/Chicago:20220403T150000
DTSTAMP:20260421T110756
CREATED:20220210T204746Z
LAST-MODIFIED:20220309T210526Z
UID:5084-1648987200-1648998000@www.landmarkcenter.org
SUMMARY:Sundays at Landmark: Bandwidth Community Band Festival
DESCRIPTION:Listen to marches\, pop\, Broadway\, and jazz music performed by some of the top volunteer-based bands in Minnesota.
URL:https://www.landmarkcenter.org/event/sundays-at-landmark-bandwidth-community-band-festival-2/
LOCATION:Musser Cortile – Landmark Center\, 75 5th St. W.\, Saint Paul\, MN\, 55102\, United States
END:VEVENT
BEGIN:VEVENT
DTSTART;TZID=America/Chicago:20220403T140000
DTEND;TZID=America/Chicago:20220403T150000
DTSTAMP:20260421T110756
CREATED:20220302T162919Z
LAST-MODIFIED:20220302T162919Z
UID:5170-1648994400-1648998000@www.landmarkcenter.org
SUMMARY:Romanian Spring Traditions: Pottery
DESCRIPTION:HORA is happy to present the Romanian Spring Traditions exhibit between March 6th and April 15\, 2022. This event will be located in the North Gallery of the Landmark Center\, first floor. Visitors will get immersed in various art activities while learning about Romanian culture and traditions. All activities are free and open to the public. \nFeatured activities and artists for this event are: \nDarrel Trulson pottery\, 2-3 pm\, room 317\, Join us for an introduction to pottery class. Materials will be supplied and no experience is needed. This event is open to everyone\, seats are on a first come first served basis. \nThis event is made possible with help from MN Landmarks and voters of Minnesota through a grant from the Metropolitan Regional Arts Council\, thanks to a legislative appropriation from the Arts and Cultural Heritage Fund.
URL:https://www.landmarkcenter.org/event/romanian-spring-traditions-pottery/
LOCATION:Courtroom 317 – Landmark Center\, 75 5th St. W.\, Saint Paul\, MN\, 55102\, United States
ORGANIZER;CN="Heritage Organization of Romanian Americans":MAILTO:horamn.media@gmail.com
END:VEVENT
BEGIN:VEVENT
DTSTART;TZID=America/Chicago:20220407T120000
DTEND;TZID=America/Chicago:20220407T130000
DTSTAMP:20260421T110756
CREATED:20220308T212858Z
LAST-MODIFIED:20220404T184125Z
UID:5187-1649332800-1649336400@www.landmarkcenter.org
SUMMARY:Courtroom Concert featuring ComMUSICation
DESCRIPTION:Hosted by composer Abbie Betinis\, our popular Courtroom Concerts take place at noon most Thursdays in the Landmark Center in downtown Saint Paul. This series features accomplished musicians and composers from the Twin Cities and surrounding area\, as well as occasional musical newcomers to the area. These one-hour concerts are free and open to the public. \nConcerts are currently being held in the Landmark Center Cortile on the 1st floor. 
URL:https://www.landmarkcenter.org/event/courtroom-concert-featuring-commusication-masks-required/
LOCATION:Musser Cortile – Landmark Center\, 75 5th St. W.\, Saint Paul\, MN\, 55102\, United States
END:VEVENT
BEGIN:VEVENT
DTSTART;TZID=America/Chicago:20220410T130000
DTEND;TZID=America/Chicago:20220410T150000
DTSTAMP:20260421T110756
CREATED:20220210T204900Z
LAST-MODIFIED:20220210T204924Z
UID:5087-1649595600-1649602800@www.landmarkcenter.org
SUMMARY:Sundays at Landmark: Minnesota Mandolin Orchestra
DESCRIPTION:Enjoy the music of this old-world string instrument in a concert of pops\, classical and more.
URL:https://www.landmarkcenter.org/event/sundays-at-landmark-minnesota-mandolin-orchestra-2/
LOCATION:Musser Cortile – Landmark Center\, 75 5th St. W.\, Saint Paul\, MN\, 55102\, United States
END:VEVENT
BEGIN:VEVENT
DTSTART;TZID=America/Chicago:20220410T130000
DTEND;TZID=America/Chicago:20220410T150000
DTSTAMP:20260421T110756
CREATED:20220302T163128Z
LAST-MODIFIED:20220302T163128Z
UID:5172-1649595600-1649602800@www.landmarkcenter.org
SUMMARY:Romanian Spring Traditions: Stitches of Love and Folk Music
DESCRIPTION:HORA is happy to present the Romanian Spring Traditions exhibit between March 6th and April 15\, 2022. This event will be located in the North Gallery of the Landmark Center\, first floor. Visitors will get immersed in various art activities while learning about Romanian culture and traditions. All activities are free and open to the public. \nCome see the resilience of the Romanian community who recreated the patterns on their grandmothers’ blouses patterns during the last two years. Learn about the intricate cross-stitch patterns\, fabrics and threads from a century ago. Learn the basics of cross-stitching and be creative with thread. \nExperience unique Romanian folk music\, usually sung around the campfire during warm summer nights\, with artist Romell Alaman. \nThis event is made possible with help from MN Landmarks and Minnesota voters through a grant from the Metropolitan Regional Arts Council\, thanks to a legislative appropriation from the Arts and Cultural Heritage Fund.
URL:https://www.landmarkcenter.org/event/romanian-spring-traditions-stitches-of-love-and-folk-music/
LOCATION:Courtroom 317 – Landmark Center\, 75 5th St. W.\, Saint Paul\, MN\, 55102\, United States
ORGANIZER;CN="Heritage Organization of Romanian Americans":MAILTO:horamn.media@gmail.com
END:VEVENT
BEGIN:VEVENT
DTSTART;TZID=America/Chicago:20220412T120000
DTEND;TZID=America/Chicago:20220412T130000
DTSTAMP:20260421T110756
CREATED:20211005T152654Z
LAST-MODIFIED:20211005T152654Z
UID:4678-1649764800-1649768400@www.landmarkcenter.org
SUMMARY:Ballet Tuesdays
DESCRIPTION:Landmark Center hosts FREE lunch-hour ballet performances and demonstrations\, in partnership with Ballet Co.Laboratory. \nThe 2021/2022 season is the second Tuesday of the month – October\, November\, February\, March\, and April. Performances begin at 12 pm\, dancers perform excerpts from the company repertoire\, highlighting events for their coming season.
URL:https://www.landmarkcenter.org/event/ballet-tuesdays-10/
LOCATION:Musser Cortile – Landmark Center\, 75 5th St. W.\, Saint Paul\, MN\, 55102\, United States
END:VEVENT
BEGIN:VEVENT
DTSTART;TZID=America/Chicago:20220413T120000
DTEND;TZID=America/Chicago:20220413T130000
DTSTAMP:20260421T110756
CREATED:20220308T213210Z
LAST-MODIFIED:20220404T184233Z
UID:5190-1649851200-1649854800@www.landmarkcenter.org
SUMMARY:Courtroom Concert: Music of Jonathan Posthuma\, featuring Maria Jette\, Mary Jo Gothmann & Mill City String Quartet
DESCRIPTION:Hosted by composer Abbie Betinis\, our popular Courtroom Concerts take place at noon most Thursdays in the Landmark Center in downtown Saint Paul. This series features accomplished musicians and composers from the Twin Cities and surrounding area\, as well as occasional musical newcomers to the area. These one-hour concerts are free and open to the public. \nConcerts are currently being held in the Landmark Center Cortile on the 1st floor. 
URL:https://www.landmarkcenter.org/event/courtroom-concert-music-of-jonathan-posthuma-featuring-maria-jette-mary-jo-gothmann-mill-city-string-quartet-masks-required/
LOCATION:Musser Cortile – Landmark Center\, 75 5th St. W.\, Saint Paul\, MN\, 55102\, United States
END:VEVENT
BEGIN:VEVENT
DTSTART;TZID=America/Chicago:20220421T120000
DTEND;TZID=America/Chicago:20220421T130000
DTSTAMP:20260421T110756
CREATED:20220308T213326Z
LAST-MODIFIED:20220404T184239Z
UID:5192-1650542400-1650546000@www.landmarkcenter.org
SUMMARY:Courtroom Concert featuring Mark Billy
DESCRIPTION:Hosted by composer Abbie Betinis\, our popular Courtroom Concerts take place at noon most Thursdays in the Landmark Center in downtown Saint Paul. This series features accomplished musicians and composers from the Twin Cities and surrounding area\, as well as occasional musical newcomers to the area. These one-hour concerts are free and open to the public. \nConcerts are currently being held in the Landmark Center Cortile on the 1st floor. 
URL:https://www.landmarkcenter.org/event/courtroom-concert-featuring-mark-billy-masks-required/
LOCATION:Musser Cortile – Landmark Center\, 75 5th St. W.\, Saint Paul\, MN\, 55102\, United States
END:VEVENT
BEGIN:VEVENT
DTSTART;TZID=America/Chicago:20220424T130000
DTEND;TZID=America/Chicago:20220424T150000
DTSTAMP:20260421T110756
CREATED:20211214T225826Z
LAST-MODIFIED:20211214T230105Z
UID:4838-1650805200-1650812400@www.landmarkcenter.org
SUMMARY:Sundays at Landmark: Urban Expedition Italy
DESCRIPTION:Urban Expedition’s final country for its 18th season is Italy! Be sure to get your Urban Expedition passport and collect a stamp at each Urban Expedition event for a chance to win a prize. This event will be done in partnership with The Italian Cultural Center.
URL:https://www.landmarkcenter.org/event/sundays-at-landmark-urban-expedition-italy/
LOCATION:Musser Cortile – Landmark Center\, 75 5th St. W.\, Saint Paul\, MN\, 55102\, United States
END:VEVENT
BEGIN:VEVENT
DTSTART;TZID=America/Chicago:20220427T120000
DTEND;TZID=America/Chicago:20220427T130000
DTSTAMP:20260421T110756
CREATED:20220308T213425Z
LAST-MODIFIED:20220404T184246Z
UID:5195-1651060800-1651064400@www.landmarkcenter.org
SUMMARY:Courtroom Concert featuring Georgia Jacobson and Bradley Greenwald
DESCRIPTION:Hosted by composer Abbie Betinis\, our popular Courtroom Concerts take place at noon most Thursdays in the Landmark Center in downtown Saint Paul. This series features accomplished musicians and composers from the Twin Cities and surrounding area\, as well as occasional musical newcomers to the area. These one-hour concerts are free and open to the public. \nConcerts are currently being held in the Landmark Center Cortile on the 1st floor. 
URL:https://www.landmarkcenter.org/event/courtroom-concert-featuring-georgia-jacobson-and-bradley-greenwald-masks-required/
LOCATION:Musser Cortile – Landmark Center\, 75 5th St. W.\, Saint Paul\, MN\, 55102\, United States
END:VEVENT
END:VCALENDAR